BEGIN:VCALENDAR
VERSION:2.0
PRODID:-//Jewish Federation of Greater Ann Arbor - ECPv6.15.17.1//NONSGML v1.0//EN
CALSCALE:GREGORIAN
METHOD:PUBLISH
X-ORIGINAL-URL:https://www.jewishannarbor.org
X-WR-CALDESC:Events for Jewish Federation of Greater Ann Arbor
REFRESH-INTERVAL;VALUE=DURATION:PT1H
X-Robots-Tag:noindex
X-PUBLISHED-TTL:PT1H
BEGIN:VTIMEZONE
TZID:America/Detroit
BEGIN:DAYLIGHT
TZOFFSETFROM:-0500
TZOFFSETTO:-0400
TZNAME:EDT
DTSTART:20220313T070000
END:DAYLIGHT
BEGIN:STANDARD
TZOFFSETFROM:-0400
TZOFFSETTO:-0500
TZNAME:EST
DTSTART:20221106T060000
END:STANDARD
BEGIN:DAYLIGHT
TZOFFSETFROM:-0500
TZOFFSETTO:-0400
TZNAME:EDT
DTSTART:20230312T070000
END:DAYLIGHT
BEGIN:STANDARD
TZOFFSETFROM:-0400
TZOFFSETTO:-0500
TZNAME:EST
DTSTART:20231105T060000
END:STANDARD
BEGIN:DAYLIGHT
TZOFFSETFROM:-0500
TZOFFSETTO:-0400
TZNAME:EDT
DTSTART:20240310T070000
END:DAYLIGHT
BEGIN:STANDARD
TZOFFSETFROM:-0400
TZOFFSETTO:-0500
TZNAME:EST
DTSTART:20241103T060000
END:STANDARD
END:VTIMEZONE
BEGIN:VEVENT
DTSTART;TZID=America/Detroit:20231029T190000
DTEND;TZID=America/Detroit:20231029T210000
DTSTAMP:20260421T222244
CREATED:20231025T184439Z
LAST-MODIFIED:20231025T184439Z
UID:10005108-1698606000-1698613200@www.jewishannarbor.org
SUMMARY:Hatmadah @ Wiard's Haunted House
DESCRIPTION:Join Hatmadah BBYO for this annual tradition! Experience Wiard Orchard’s Haunted House\, cider and donuts and more!  \nPlease pre-register with the link!
URL:https://www.jewishannarbor.org/event/hatmadah-wiards-haunted-house/
LOCATION:Wiard’s Orchard\, 5565 Merritt Rd\, Ypsilanti Charter Twp\, MI\, 48197\, United States
CATEGORIES:BBYO Michigan Region
ORGANIZER;CN="BBYO Michigan Region":MAILTO:mich@bbyo.org
END:VEVENT
END:VCALENDAR