BEGIN:VCALENDAR
VERSION:2.0
PRODID:-//Jewish Federation of Greater Ann Arbor - ECPv6.15.17.1//NONSGML v1.0//EN
CALSCALE:GREGORIAN
METHOD:PUBLISH
X-ORIGINAL-URL:https://www.jewishannarbor.org
X-WR-CALDESC:Events for Jewish Federation of Greater Ann Arbor
REFRESH-INTERVAL;VALUE=DURATION:PT1H
X-Robots-Tag:noindex
X-PUBLISHED-TTL:PT1H
BEGIN:VTIMEZONE
TZID:America/Detroit
BEGIN:DAYLIGHT
TZOFFSETFROM:-0500
TZOFFSETTO:-0400
TZNAME:EDT
DTSTART:20230312T070000
END:DAYLIGHT
BEGIN:STANDARD
TZOFFSETFROM:-0400
TZOFFSETTO:-0500
TZNAME:EST
DTSTART:20231105T060000
END:STANDARD
BEGIN:DAYLIGHT
TZOFFSETFROM:-0500
TZOFFSETTO:-0400
TZNAME:EDT
DTSTART:20240310T070000
END:DAYLIGHT
BEGIN:STANDARD
TZOFFSETFROM:-0400
TZOFFSETTO:-0500
TZNAME:EST
DTSTART:20241103T060000
END:STANDARD
BEGIN:DAYLIGHT
TZOFFSETFROM:-0500
TZOFFSETTO:-0400
TZNAME:EDT
DTSTART:20250309T070000
END:DAYLIGHT
BEGIN:STANDARD
TZOFFSETFROM:-0400
TZOFFSETTO:-0500
TZNAME:EST
DTSTART:20251102T060000
END:STANDARD
END:VTIMEZONE
BEGIN:VEVENT
DTSTART;TZID=America/Detroit:20241212T190000
DTEND;TZID=America/Detroit:20241212T210000
DTSTAMP:20260421T105538
CREATED:20241126T154841Z
LAST-MODIFIED:20241206T201003Z
UID:10005558-1734030000-1734037200@www.jewishannarbor.org
SUMMARY:FED: Ladies' Night Out Dec. 2024
DESCRIPTION:Join us for a night of community building\, connecting\, networking and fun!  The hustle and bustle of the holidays will be here…take a night out and enjoy some company! Now\, more than ever\, community is so important.  This is a great event to meet new people and connect with old friends.  Please spread the word and bring anyone along! \nThis event is free of charge.  Feel free to order food or drinks on your own. \nREGISTER HERE
URL:https://www.jewishannarbor.org/event/fed-ladies-night-out-dec-2024/
LOCATION:Sam Hill\, 5827 Jackson Rd.\, Ann Arbor\, MI\, 48103\, United States
CATEGORIES:Jewish Federation of Greater Ann Arbor,Jewish Federation of Greater Ann Arbor - General,Women's Philanthropy
ATTACH;FMTTYPE=image/jpeg:https://www.jewishannarbor.org/wp-content/uploads/2024/11/Ladies-Night-Out-summer-2024.jpg
END:VEVENT
END:VCALENDAR