BEGIN:VCALENDAR
VERSION:2.0
PRODID:-//Jewish Federation of Greater Ann Arbor - ECPv6.15.17.1//NONSGML v1.0//EN
CALSCALE:GREGORIAN
METHOD:PUBLISH
X-WR-CALNAME:Jewish Federation of Greater Ann Arbor
X-ORIGINAL-URL:https://www.jewishannarbor.org
X-WR-CALDESC:Events for Jewish Federation of Greater Ann Arbor
REFRESH-INTERVAL;VALUE=DURATION:PT1H
X-Robots-Tag:noindex
X-PUBLISHED-TTL:PT1H
BEGIN:VTIMEZONE
TZID:America/Detroit
BEGIN:DAYLIGHT
TZOFFSETFROM:-0500
TZOFFSETTO:-0400
TZNAME:EDT
DTSTART:20240310T070000
END:DAYLIGHT
BEGIN:STANDARD
TZOFFSETFROM:-0400
TZOFFSETTO:-0500
TZNAME:EST
DTSTART:20241103T060000
END:STANDARD
BEGIN:DAYLIGHT
TZOFFSETFROM:-0500
TZOFFSETTO:-0400
TZNAME:EDT
DTSTART:20250309T070000
END:DAYLIGHT
BEGIN:STANDARD
TZOFFSETFROM:-0400
TZOFFSETTO:-0500
TZNAME:EST
DTSTART:20251102T060000
END:STANDARD
BEGIN:DAYLIGHT
TZOFFSETFROM:-0500
TZOFFSETTO:-0400
TZNAME:EDT
DTSTART:20260308T070000
END:DAYLIGHT
BEGIN:STANDARD
TZOFFSETFROM:-0400
TZOFFSETTO:-0500
TZNAME:EST
DTSTART:20261101T060000
END:STANDARD
END:VTIMEZONE
BEGIN:VEVENT
DTSTART;TZID=America/Detroit:20250403T173000
DTEND;TZID=America/Detroit:20250403T200000
DTSTAMP:20260420T161743
CREATED:20250226T160708Z
LAST-MODIFIED:20250226T161730Z
UID:10005695-1743701400-1743710400@www.jewishannarbor.org
SUMMARY:U-M Frankel Center Event - 35th Annual David W. Belin Lecture with Joan Nathan
DESCRIPTION:5:15 PM – Pre-Lecture Reception\, 6:00 PM – Lecture\, 7:30 PM – Book Signing\nRSVP TO ATTEND HERE \nJoan Nathan is the author of twelve cookbooks including her latest work\, My Life in Recipes: Food\, Family\, and Memories. Her 2018 book\, King Solomon’s Table: A Culinary\nExploration of Jewish Cooking from Around the World\, won the IACP International Cookbook of the Year. That same year\, the much-acclaimed Jewish Cooking in America\, which in 1994 won both the James Beard Award and the IACP/Julia Child Cookbook of the Year Award\, was named an IACP classic. In 2022\, Nathan was included in the Forward 125: The American Jews who shaped our world. Nathan is also a regular contributor to The New York Times and Tablet Magazine. \n 
URL:https://www.jewishannarbor.org/event/u-m-frankel-center-event-35th-annual-david-w-belin-lecture-with-joan-nathan/
LOCATION:Rackham Graduate School – Assembly Room\, 915 WASHINGTON ST\, Ann Arbor\, MI\, 48109\, United States
CATEGORIES:Jewish Communal Leadership Program,UM Frankel Center for Judaic Studies
ATTACH;FMTTYPE=image/jpeg:https://www.jewishannarbor.org/wp-content/uploads/2025/02/Joan_Headshot-1.jpg
ORGANIZER;CN="University of Michigan Frankel Center for Judaic Studies":MAILTO:JudaicStudies@umich.edu
END:VEVENT
END:VCALENDAR