BEGIN:VCALENDAR
VERSION:2.0
PRODID:-//Jewish Federation of Greater Ann Arbor - ECPv6.15.17.1//NONSGML v1.0//EN
CALSCALE:GREGORIAN
METHOD:PUBLISH
X-ORIGINAL-URL:https://www.jewishannarbor.org
X-WR-CALDESC:Events for Jewish Federation of Greater Ann Arbor
REFRESH-INTERVAL;VALUE=DURATION:PT1H
X-Robots-Tag:noindex
X-PUBLISHED-TTL:PT1H
BEGIN:VTIMEZONE
TZID:America/Detroit
BEGIN:DAYLIGHT
TZOFFSETFROM:-0500
TZOFFSETTO:-0400
TZNAME:EDT
DTSTART:20230312T070000
END:DAYLIGHT
BEGIN:STANDARD
TZOFFSETFROM:-0400
TZOFFSETTO:-0500
TZNAME:EST
DTSTART:20231105T060000
END:STANDARD
BEGIN:DAYLIGHT
TZOFFSETFROM:-0500
TZOFFSETTO:-0400
TZNAME:EDT
DTSTART:20240310T070000
END:DAYLIGHT
BEGIN:STANDARD
TZOFFSETFROM:-0400
TZOFFSETTO:-0500
TZNAME:EST
DTSTART:20241103T060000
END:STANDARD
BEGIN:DAYLIGHT
TZOFFSETFROM:-0500
TZOFFSETTO:-0400
TZNAME:EDT
DTSTART:20250309T070000
END:DAYLIGHT
BEGIN:STANDARD
TZOFFSETFROM:-0400
TZOFFSETTO:-0500
TZNAME:EST
DTSTART:20251102T060000
END:STANDARD
END:VTIMEZONE
BEGIN:VEVENT
DTSTART;TZID=America/Detroit:20240915T130000
DTEND;TZID=America/Detroit:20240915T150000
DTSTAMP:20260419T193616
CREATED:20240821T174954Z
LAST-MODIFIED:20240821T185749Z
UID:10005416-1726405200-1726412400@www.jewishannarbor.org
SUMMARY:BBYO Michigan Region: Kickoff in Paradise
DESCRIPTION:Join Michigan Region to kickoff our 24-25 Programming Year at Paradise Park in Novi.  \nOpen to all 9th-12th graders! \nMembers: $35 Non-Members: $40 \nWalk Ups: $45 \nIncludes food\, Formula Go-Karts\, Balloon Tower\, Laser Tag\, Euro Bungy Dome\, Mini Bowling\, Climbing Wall\, Trampoline Center\, Mini Golf\, Fun Slide and more!
URL:https://www.jewishannarbor.org/event/bbyo-michigan-region-kickoff-in-paradise/
LOCATION:Paradise Park\, 45799 Grand River Avenue\, Novi\, MI\, 48374\, United States
CATEGORIES:BBYO Michigan Region
ORGANIZER;CN="BBYO Michigan Region":MAILTO:mich@bbyo.org
END:VEVENT
END:VCALENDAR