BEGIN:VCALENDAR
VERSION:2.0
PRODID:-//Jewish Federation of Greater Ann Arbor - ECPv6.15.17.1//NONSGML v1.0//EN
CALSCALE:GREGORIAN
METHOD:PUBLISH
X-WR-CALNAME:Jewish Federation of Greater Ann Arbor
X-ORIGINAL-URL:https://www.jewishannarbor.org
X-WR-CALDESC:Events for Jewish Federation of Greater Ann Arbor
REFRESH-INTERVAL;VALUE=DURATION:PT1H
X-Robots-Tag:noindex
X-PUBLISHED-TTL:PT1H
BEGIN:VTIMEZONE
TZID:America/Detroit
BEGIN:DAYLIGHT
TZOFFSETFROM:-0500
TZOFFSETTO:-0400
TZNAME:EDT
DTSTART:20220313T070000
END:DAYLIGHT
BEGIN:STANDARD
TZOFFSETFROM:-0400
TZOFFSETTO:-0500
TZNAME:EST
DTSTART:20221106T060000
END:STANDARD
BEGIN:DAYLIGHT
TZOFFSETFROM:-0500
TZOFFSETTO:-0400
TZNAME:EDT
DTSTART:20230312T070000
END:DAYLIGHT
BEGIN:STANDARD
TZOFFSETFROM:-0400
TZOFFSETTO:-0500
TZNAME:EST
DTSTART:20231105T060000
END:STANDARD
BEGIN:DAYLIGHT
TZOFFSETFROM:-0500
TZOFFSETTO:-0400
TZNAME:EDT
DTSTART:20240310T070000
END:DAYLIGHT
BEGIN:STANDARD
TZOFFSETFROM:-0400
TZOFFSETTO:-0500
TZNAME:EST
DTSTART:20241103T060000
END:STANDARD
BEGIN:DAYLIGHT
TZOFFSETFROM:-0500
TZOFFSETTO:-0400
TZNAME:EDT
DTSTART:20250309T070000
END:DAYLIGHT
BEGIN:STANDARD
TZOFFSETFROM:-0400
TZOFFSETTO:-0500
TZNAME:EST
DTSTART:20251102T060000
END:STANDARD
BEGIN:DAYLIGHT
TZOFFSETFROM:-0500
TZOFFSETTO:-0400
TZNAME:EDT
DTSTART:20260308T070000
END:DAYLIGHT
BEGIN:STANDARD
TZOFFSETFROM:-0400
TZOFFSETTO:-0500
TZNAME:EST
DTSTART:20261101T060000
END:STANDARD
END:VTIMEZONE
BEGIN:VEVENT
DTSTART;TZID=America/Detroit:20250316T130000
DTEND;TZID=America/Detroit:20250316T150000
DTSTAMP:20260422T191725
CREATED:20241223T193446Z
LAST-MODIFIED:20250306T134427Z
UID:10005591-1742130000-1742137200@www.jewishannarbor.org
SUMMARY:JCOR Jazz for JCOR
DESCRIPTION:Register here \nLearn more about JCOR and make a donation here.\n\n	                    			{6}
URL:https://www.jewishannarbor.org/event/jcor-jazz-for-jcor/
LOCATION:Jewish Community Center of Ann Arbor\, 2935 Birch Hollow Drive\, Ann Arbor\, MI\, 48108\, United States
CATEGORIES:Jewish Congregations Organized for Resettlement
ATTACH;FMTTYPE=application/pdf:https://www.jewishannarbor.org/wp-content/uploads/2024/12/JAZZforJCORFlyerFINAL-1.pdf
ORGANIZER;CN="JCOR":MAILTO:jcorannarbor@gmail.com
END:VEVENT
BEGIN:VEVENT
DTSTART;TZID=America/Detroit:20240407T160000
DTEND;TZID=America/Detroit:20240407T180000
DTSTAMP:20260422T191725
CREATED:20231010T020249Z
LAST-MODIFIED:20240322T191017Z
UID:10005101-1712505600-1712512800@www.jewishannarbor.org
SUMMARY:JCOR: The Joys of Klezmer
DESCRIPTION:The Joys of Klezmer\nApril 7\, 2024\n4:00 PM – 6:00 PM ET\nRegister to Attend \nFollowed by light refreshments.\n(Under the kosher supervision of Rabbi Will Keller) \nDescription of JCOR:\nA participant in the JFS Resettlement Co-Sponsorship Program\, JCOR is a collaboration of six Jewish congregations working together to support resettlement of newly arrived refugee families through their first year in the U.S. Member congregations include the Ann Arbor Orthodox Minyan\, Ann Arbor Reconstructionist Congregation\, Beth Israel Congregation\, Jewish Cultural Society\, Pardes Hannah\, and Temple Beth Emeth\, along with the Jewish Federation which serves as JCOR fiduciary. Visit JCOR here. \n \n  \n\n	                    			{6}
URL:https://www.jewishannarbor.org/event/jcor-traditional-music-with-a-klezmer-accent/
LOCATION:Jewish Community Center of Ann Arbor\, 2935 Birch Hollow Drive\, Ann Arbor\, MI\, 48108\, United States
CATEGORIES:Community,Jewish Congregations Organized for Resettlement
ATTACH;FMTTYPE=application/pdf:https://www.jewishannarbor.org/wp-content/uploads/2023/10/Klezmer-NewLineUpFINAL.pdf
ORGANIZER;CN="JCOR":MAILTO:jcorannarbor@gmail.com
END:VEVENT
BEGIN:VEVENT
DTSTART;TZID=America/Detroit:20231022T150000
DTEND;TZID=America/Detroit:20231022T170000
DTSTAMP:20260422T191725
CREATED:20230516T134057Z
LAST-MODIFIED:20230516T134057Z
UID:10004898-1697986800-1697994000@www.jewishannarbor.org
SUMMARY:JCOR: Traditional Folk and Klezmer
DESCRIPTION:{6}
URL:https://www.jewishannarbor.org/event/jcor-traditional-folk-and-klezmer/
LOCATION:Jewish Community Center of Ann Arbor\, 2935 Birch Hollow Drive\, Ann Arbor\, MI\, 48108\, United States
CATEGORIES:Community,Fundraiser,Jewish Congregations Organized for Resettlement,Jewish Family Services
ORGANIZER;CN="JCOR":MAILTO:jcorannarbor@gmail.com
END:VEVENT
END:VCALENDAR