BEGIN:VCALENDAR
VERSION:2.0
PRODID:-//Jewish Federation of Greater Ann Arbor - ECPv6.15.17.1//NONSGML v1.0//EN
CALSCALE:GREGORIAN
METHOD:PUBLISH
X-ORIGINAL-URL:https://www.jewishannarbor.org
X-WR-CALDESC:Events for Jewish Federation of Greater Ann Arbor
REFRESH-INTERVAL;VALUE=DURATION:PT1H
X-Robots-Tag:noindex
X-PUBLISHED-TTL:PT1H
BEGIN:VTIMEZONE
TZID:America/Detroit
BEGIN:DAYLIGHT
TZOFFSETFROM:-0500
TZOFFSETTO:-0400
TZNAME:EDT
DTSTART:20190310T070000
END:DAYLIGHT
BEGIN:STANDARD
TZOFFSETFROM:-0400
TZOFFSETTO:-0500
TZNAME:EST
DTSTART:20191103T060000
END:STANDARD
BEGIN:DAYLIGHT
TZOFFSETFROM:-0500
TZOFFSETTO:-0400
TZNAME:EDT
DTSTART:20200308T070000
END:DAYLIGHT
BEGIN:STANDARD
TZOFFSETFROM:-0400
TZOFFSETTO:-0500
TZNAME:EST
DTSTART:20201101T060000
END:STANDARD
BEGIN:DAYLIGHT
TZOFFSETFROM:-0500
TZOFFSETTO:-0400
TZNAME:EDT
DTSTART:20210314T070000
END:DAYLIGHT
BEGIN:STANDARD
TZOFFSETFROM:-0400
TZOFFSETTO:-0500
TZNAME:EST
DTSTART:20211107T060000
END:STANDARD
BEGIN:DAYLIGHT
TZOFFSETFROM:-0500
TZOFFSETTO:-0400
TZNAME:EDT
DTSTART:20220313T070000
END:DAYLIGHT
BEGIN:STANDARD
TZOFFSETFROM:-0400
TZOFFSETTO:-0500
TZNAME:EST
DTSTART:20221106T060000
END:STANDARD
BEGIN:DAYLIGHT
TZOFFSETFROM:-0500
TZOFFSETTO:-0400
TZNAME:EDT
DTSTART:20230312T070000
END:DAYLIGHT
BEGIN:STANDARD
TZOFFSETFROM:-0400
TZOFFSETTO:-0500
TZNAME:EST
DTSTART:20231105T060000
END:STANDARD
BEGIN:DAYLIGHT
TZOFFSETFROM:-0500
TZOFFSETTO:-0400
TZNAME:EDT
DTSTART:20240310T070000
END:DAYLIGHT
BEGIN:STANDARD
TZOFFSETFROM:-0400
TZOFFSETTO:-0500
TZNAME:EST
DTSTART:20241103T060000
END:STANDARD
END:VTIMEZONE
BEGIN:VEVENT
DTSTART;TZID=America/Detroit:20230323T090000
DTEND;TZID=America/Detroit:20230323T103000
DTSTAMP:20260424T173642
CREATED:20230220T182531Z
LAST-MODIFIED:20230220T184215Z
UID:10004825-1679562000-1679567400@www.jewishannarbor.org
SUMMARY:PH Rosh Chodesh Nisan Online Minyan
DESCRIPTION:When: Mar 23\, 2023 09:00 AM Eastern Time (US and Canada) \nOur minyan meets every month to celebrate the new moon\, weaving davening with teachings from Kabbalah on the unique qualities of each Hebrew month. \nDavening Leaders: Linda Leah Greene\, Lucinda Kurtz\, Hazzan Gabrielle Pescador and Dalinda Reese \nRegister in advance for this meeting:\nhttps://us06web.zoom.us/meeting/register/tZEqcOmtrz8jEtH-CyHpYwhdiXEeVk7GZKz8 \nFor more information\, Contact Hazzan Gabrielle at pescadorarte@gmail.com
URL:https://www.jewishannarbor.org/event/rosh-chodesh-nisan-online-minyan-2/
CATEGORIES:Pardes Hannah
ORGANIZER;CN="Gabrielle Pescador":MAILTO:pescadorarte@gmail.com
END:VEVENT
BEGIN:VEVENT
DTSTART;TZID=America/Detroit:20230221T090000
DTEND;TZID=America/Detroit:20230221T103000
DTSTAMP:20260424T173642
CREATED:20230220T184416Z
LAST-MODIFIED:20230220T184620Z
UID:10004828-1676970000-1676975400@www.jewishannarbor.org
SUMMARY:PH Rosh Chodesh Adar Online Minyan
DESCRIPTION:Our minyan meets every month to celebrate the new moon\, weaving davening with teachings from Kabbalah on the unique qualities of each Hebrew month. As we enter Adar\, the rabbis say that we are to increase our joy\, which at this time is particularly challenging. In addition to dealing with our daily struggles\, our hearts are breaking over the victims of the recent earthquake in Turkey and gun violence at Michigan State University. In gathering for Rosh Chodesh we hope to bring more light into our lives even as we acknowledge our pain and sorrow. \nDavening Leaders: Linda Leah Greene\, Lucinda Kurtz\, Hazzan Gabrielle Pescador and Dalinda Reese \nFor added security\, we are asking people to register in advance for this meeting: \nhttps://us06web.zoom.us/meeting/register/tZMtdOqurD8rG9N1kZibqDy3el0ESQjQ821p \nAfter registering\, you will receive a confirmation email containing information about joining the meeting. \nFor more information\, Contact Hazzan Gabrielle at pescadorarte@gmail.com
URL:https://www.jewishannarbor.org/event/ph-rosh-chodesh-adar-online-minyan/
CATEGORIES:Pardes Hannah
ORGANIZER;CN="Gabrielle Pescador":MAILTO:pescadorarte@gmail.com
END:VEVENT
BEGIN:VEVENT
DTSTART;TZID=America/Detroit:20221224T100000
DTEND;TZID=America/Detroit:20221224T120000
DTSTAMP:20260424T173642
CREATED:20221018T202140Z
LAST-MODIFIED:20221018T202140Z
UID:10004269-1671876000-1671883200@www.jewishannarbor.org
SUMMARY:PH Rosh Chodesh Tevet Online Minyan
DESCRIPTION:  \nYou are invited to a Zoom meeting.\nWhen: Dec 24\, 2022 10:00 AM Eastern Time (US and Canada) \nRegister in advance for this meeting:\nhttps://us06web.zoom.us/meeting/register/tZMpcu6srjksGNwEIEYSwvzNbvtG_T4TKoUk \nAfter registering\, you will receive a confirmation email containing information about joining the meeting.
URL:https://www.jewishannarbor.org/event/ph-rosh-chodesh-tevet-online-minyan/
CATEGORIES:Pardes Hannah
ORGANIZER;CN="Gabrielle Pescador":MAILTO:pescadorarte@gmail.com
END:VEVENT
BEGIN:VEVENT
DTSTART;TZID=America/Detroit:20221125T100000
DTEND;TZID=America/Detroit:20221125T113000
DTSTAMP:20260424T173642
CREATED:20221018T201453Z
LAST-MODIFIED:20221018T201453Z
UID:10004266-1669370400-1669375800@www.jewishannarbor.org
SUMMARY:PH Rosh Chodesh Online Minyan Kislev
DESCRIPTION:  \nYou are invited to a Zoom meeting.\nWhen: Nov 25\, 2022 10:00 AM Eastern Time (US and Canada) \nRegister in advance for this meeting:\nhttps://us06web.zoom.us/meeting/register/tZYpcOCqrjkvE9Tqn_NuayprPunIpYCtc9W1 \nAfter registering\, you will receive a confirmation email containing information about joining the meeting.
URL:https://www.jewishannarbor.org/event/ph-rosh-chodesh-online-minyan-kislev/
CATEGORIES:Pardes Hannah
ORGANIZER;CN="Gabrielle Pescador":MAILTO:pescadorarte@gmail.com
END:VEVENT
BEGIN:VEVENT
DTSTART;TZID=America/Detroit:20221026T090000
DTEND;TZID=America/Detroit:20221026T103000
DTSTAMP:20260424T173642
CREATED:20221018T200530Z
LAST-MODIFIED:20221018T200530Z
UID:10004262-1666774800-1666780200@www.jewishannarbor.org
SUMMARY:PH Rosh Chodesh Cheshvan Online Minyan
DESCRIPTION:  \nYou are invited to a Zoom meeting.\nWhen: Oct 26\, 2022 09:00 AM Eastern Time (US and Canada) \nRegister in advance for this meeting:\nhttps://us06web.zoom.us/meeting/register/tZIpd-2uqjsjE9d7SYpmAQbGBpnfvOMqAKUS \nAfter registering\, you will receive a confirmation email containing information about joining the meeting.
URL:https://www.jewishannarbor.org/event/ph-rosh-chodesh-cheshvan-online-minyan/
CATEGORIES:Pardes Hannah
ORGANIZER;CN="Gabrielle Pescador":MAILTO:pescadorarte@gmail.com
END:VEVENT
BEGIN:VEVENT
DTSTART;TZID=America/Detroit:20220920T193000
DTEND;TZID=America/Detroit:20220920T203000
DTSTAMP:20260424T173642
CREATED:20220802T221710Z
LAST-MODIFIED:20220901T174733Z
UID:10004180-1663702200-1663705800@www.jewishannarbor.org
SUMMARY:PH Elul Integrative Practice Workshop
DESCRIPTION:Register in advance for this meeting:\nhttps://us06web.zoom.us/meeting/register/tZEvf-iupjopH9yJzzKiWt-3ZsJWjb6ZFFz7
URL:https://www.jewishannarbor.org/event/ph-elul-integrative-practice-workshop-4/
LOCATION:Online
CATEGORIES:Pardes Hannah
ORGANIZER;CN="Gabrielle Pescador":MAILTO:pescadorarte@gmail.com
END:VEVENT
BEGIN:VEVENT
DTSTART;TZID=America/Detroit:20220913T193000
DTEND;TZID=America/Detroit:20220913T203000
DTSTAMP:20260424T173642
CREATED:20220802T221549Z
LAST-MODIFIED:20220901T174718Z
UID:10004179-1663097400-1663101000@www.jewishannarbor.org
SUMMARY:PH Elul Integrative Practice Workshop
DESCRIPTION:Register in advance for this meeting:\nhttps://us06web.zoom.us/meeting/register/tZEvf-iupjopH9yJzzKiWt-3ZsJWjb6ZFFz7
URL:https://www.jewishannarbor.org/event/ph-elul-integrative-practice-workshop-3/
LOCATION:Online
CATEGORIES:Pardes Hannah
ORGANIZER;CN="Gabrielle Pescador":MAILTO:pescadorarte@gmail.com
END:VEVENT
BEGIN:VEVENT
DTSTART;TZID=America/Detroit:20220906T193000
DTEND;TZID=America/Detroit:20220906T203000
DTSTAMP:20260424T173642
CREATED:20220802T221327Z
LAST-MODIFIED:20220901T174643Z
UID:10004178-1662492600-1662496200@www.jewishannarbor.org
SUMMARY:PH Elul Integrative Practice Workshop
DESCRIPTION:Register in advance for this meeting:\nhttps://us06web.zoom.us/meeting/register/tZEvf-iupjopH9yJzzKiWt-3ZsJWjb6ZFFz7
URL:https://www.jewishannarbor.org/event/ph-elul-integrative-practice-workshop-2/
LOCATION:Online
CATEGORIES:Pardes Hannah
ORGANIZER;CN="Gabrielle Pescador":MAILTO:pescadorarte@gmail.com
END:VEVENT
BEGIN:VEVENT
DTSTART;TZID=America/Detroit:20220830T193000
DTEND;TZID=America/Detroit:20220830T203000
DTSTAMP:20260424T173642
CREATED:20220802T221048Z
LAST-MODIFIED:20220802T221417Z
UID:10004177-1661887800-1661891400@www.jewishannarbor.org
SUMMARY:PH Elul Integrative Practice Workshop
DESCRIPTION:
URL:https://www.jewishannarbor.org/event/ph-elul-integrative-practice-workshop/
LOCATION:Online
CATEGORIES:Pardes Hannah
ORGANIZER;CN="Gabrielle Pescador":MAILTO:pescadorarte@gmail.com
END:VEVENT
BEGIN:VEVENT
DTSTART;TZID=America/Detroit:20220827T100000
DTEND;TZID=America/Detroit:20220827T120000
DTSTAMP:20260424T173642
CREATED:20220802T220643Z
LAST-MODIFIED:20220802T220643Z
UID:10004175-1661594400-1661601600@www.jewishannarbor.org
SUMMARY:PH Rosh Chodesh Elul Online Minyan
DESCRIPTION:
URL:https://www.jewishannarbor.org/event/ph-rosh-chodesh-elul-online-minyan/
LOCATION:Online
CATEGORIES:Pardes Hannah
ORGANIZER;CN="Gabrielle Pescador":MAILTO:pescadorarte@gmail.com
END:VEVENT
BEGIN:VEVENT
DTSTART;TZID=America/Detroit:20220819T183000
DTEND;TZID=America/Detroit:20220819T193000
DTSTAMP:20260424T173642
CREATED:20220802T220415Z
LAST-MODIFIED:20220802T220415Z
UID:10004174-1660933800-1660937400@www.jewishannarbor.org
SUMMARY:PH Kohenet Kabbalat Shabbat
DESCRIPTION:
URL:https://www.jewishannarbor.org/event/ph-kohenet-kabbalat-shabbat-3/
LOCATION:Online
CATEGORIES:Pardes Hannah
ORGANIZER;CN="Jane Blumenthal":MAILTO:janeblum@pardeshannah.org
END:VEVENT
BEGIN:VEVENT
DTSTART;TZID=America/Detroit:20220531T090000
DTEND;TZID=America/Detroit:20220531T103000
DTSTAMP:20260424T173642
CREATED:20220111T143748Z
LAST-MODIFIED:20220111T143748Z
UID:10003979-1653987600-1653993000@www.jewishannarbor.org
SUMMARY:PH Rosh Chodesh Sivan Online Minyan
DESCRIPTION:Register in advance for this meeting: https://zoom.us/meeting/register/tJYldu-vpjkrGdbo9HFPTDP9Pcdgw7NoQqvx \nAfter registering\, you will receive a confirmation email containing information about joining the meeting.
URL:https://www.jewishannarbor.org/event/ph-rosh-chodesh-sivan-online-minyan/
CATEGORIES:Pardes Hannah
ORGANIZER;CN="Gabrielle Pescador":MAILTO:pescadorarte@gmail.com
END:VEVENT
BEGIN:VEVENT
DTSTART;TZID=America/Detroit:20220525T203000
DTEND;TZID=America/Detroit:20220525T210000
DTSTAMP:20260424T173642
CREATED:20220411T222151Z
LAST-MODIFIED:20220411T222151Z
UID:10004066-1653510600-1653512400@www.jewishannarbor.org
SUMMARY:PH Counting the Omer
DESCRIPTION:Register in advance for this meeting:\nhttps://zoom.us/meeting/register/tJ0uduGvqz4vGNwPKsbO6LplkVVpXbDKc97j
URL:https://www.jewishannarbor.org/event/ph-counting-the-omer-6/
CATEGORIES:Pardes Hannah
ORGANIZER;CN="Gabrielle Pescador":MAILTO:pescadorarte@gmail.com
END:VEVENT
BEGIN:VEVENT
DTSTART;TZID=America/Detroit:20220518T203000
DTEND;TZID=America/Detroit:20220518T210000
DTSTAMP:20260424T173642
CREATED:20220411T222112Z
LAST-MODIFIED:20220411T222112Z
UID:10004065-1652905800-1652907600@www.jewishannarbor.org
SUMMARY:PH Counting the Omer
DESCRIPTION:Register in advance for this meeting:\nhttps://zoom.us/meeting/register/tJ0uduGvqz4vGNwPKsbO6LplkVVpXbDKc97j
URL:https://www.jewishannarbor.org/event/ph-counting-the-omer-5/
CATEGORIES:Pardes Hannah
ORGANIZER;CN="Gabrielle Pescador":MAILTO:pescadorarte@gmail.com
END:VEVENT
BEGIN:VEVENT
DTSTART;TZID=America/Detroit:20220501T100000
DTEND;TZID=America/Detroit:20220501T113000
DTSTAMP:20260424T173642
CREATED:20220111T143521Z
LAST-MODIFIED:20220111T143521Z
UID:10003977-1651399200-1651404600@www.jewishannarbor.org
SUMMARY:PH Rosh Chodesh Iyyar Online Minyan
DESCRIPTION:Register in advance for this meeting: https://zoom.us/meeting/register/tJwsc-mopjMvHNOh_sjB2R6KCHq2OHFhNafu \nAfter registering\, you will receive a confirmation email containing information about joining the meeting.
URL:https://www.jewishannarbor.org/event/ph-rosh-chodesh-iyyar-online-minyan/
CATEGORIES:Pardes Hannah
ORGANIZER;CN="Gabrielle Pescador":MAILTO:pescadorarte@gmail.com
END:VEVENT
BEGIN:VEVENT
DTSTART;TZID=America/Detroit:20220402T100000
DTEND;TZID=America/Detroit:20220402T120000
DTSTAMP:20260424T173642
CREATED:20220111T143241Z
LAST-MODIFIED:20220111T143250Z
UID:10003975-1648893600-1648900800@www.jewishannarbor.org
SUMMARY:PH Shabbat Rosh Chodesh Nisan Online Minyan
DESCRIPTION:Register in advance for this meeting: https://zoom.us/meeting/register/tJcsceCqpjMpGdZJzuh3SczeksklFg7yzsDf \nAfter registering\, you will receive a confirmation email containing information about joining the meeting.
URL:https://www.jewishannarbor.org/event/ph-shabbat-rosh-chodesh-nisan-online-minyan/
CATEGORIES:Pardes Hannah
ORGANIZER;CN="Gabrielle Pescador":MAILTO:pescadorarte@gmail.com
END:VEVENT
BEGIN:VEVENT
DTSTART;TZID=America/Detroit:20220304T090000
DTEND;TZID=America/Detroit:20220304T103000
DTSTAMP:20260424T173642
CREATED:20220111T143136Z
LAST-MODIFIED:20220111T143136Z
UID:10003974-1646384400-1646389800@www.jewishannarbor.org
SUMMARY:PH Rosh Chodesh Adar II Online Minyan
DESCRIPTION:Register in advance for this meeting: https://zoom.us/meeting/register/tJ0pceytrz8qGdNyBUJUzA2RuVEkkGufpx7X
URL:https://www.jewishannarbor.org/event/ph-rosh-chodesh-adar-ii-online-minyan/
CATEGORIES:Pardes Hannah
ORGANIZER;CN="Gabrielle Pescador":MAILTO:pescadorarte@gmail.com
END:VEVENT
BEGIN:VEVENT
DTSTART;TZID=America/Detroit:20220201T090000
DTEND;TZID=America/Detroit:20220201T103000
DTSTAMP:20260424T173642
CREATED:20220111T142504Z
LAST-MODIFIED:20220111T142823Z
UID:10003970-1643706000-1643711400@www.jewishannarbor.org
SUMMARY:PH Rosh Chodesh Adar I Online Minyan
DESCRIPTION:Register in advance for this meeting: https://zoom.us/meeting/register/tJIqce-srzgrEtM63YniPNqkzekgQPb2E9DP
URL:https://www.jewishannarbor.org/event/rosh-chodesh-adar-i-online-minyan/
CATEGORIES:Pardes Hannah
ORGANIZER;CN="Gabrielle Pescador":MAILTO:pescadorarte@gmail.com
END:VEVENT
BEGIN:VEVENT
DTSTART;TZID=America/Detroit:20210611T090000
DTEND;TZID=America/Detroit:20210611T103000
DTSTAMP:20260424T173642
CREATED:20201206T171249Z
LAST-MODIFIED:20201206T171730Z
UID:10003503-1623402000-1623407400@www.jewishannarbor.org
SUMMARY:Rosh Chodesh Tamuz Online Minyan
DESCRIPTION:Meeting ID: 973 4119 1092 \nPasscode: 226005
URL:https://www.jewishannarbor.org/event/rosh-chodesh-tamuz-online-minyan/
CATEGORIES:Pardes Hannah
ORGANIZER;CN="Gabrielle Pescador":MAILTO:pescadorarte@gmail.com
END:VEVENT
BEGIN:VEVENT
DTSTART;TZID=America/Detroit:20210512T090000
DTEND;TZID=America/Detroit:20210512T103000
DTSTAMP:20260424T173642
CREATED:20201206T170803Z
LAST-MODIFIED:20201206T170803Z
UID:10003498-1620810000-1620815400@www.jewishannarbor.org
SUMMARY:Rosh Chodesh Sivan Online Minyan
DESCRIPTION:Meeting ID: 968 9622 7903 \nPasscode: 632127 \n 
URL:https://www.jewishannarbor.org/event/rosh-chodesh-sivan-online-minyan/
CATEGORIES:Pardes Hannah
ORGANIZER;CN="Gabrielle Pescador":MAILTO:pescadorarte@gmail.com
END:VEVENT
BEGIN:VEVENT
DTSTART;TZID=America/Detroit:20210417T103000
DTEND;TZID=America/Detroit:20210417T120000
DTSTAMP:20260424T173642
CREATED:20201206T165021Z
LAST-MODIFIED:20201206T165021Z
UID:10003488-1618655400-1618660800@www.jewishannarbor.org
SUMMARY:Pardes Hannah Shabbat Meditation Service
DESCRIPTION:Meeting ID: 952 3892 8136 \nPasscode: 117440
URL:https://www.jewishannarbor.org/event/pardes-hannah-shabbat-meditation-service/
CATEGORIES:Pardes Hannah
ORGANIZER;CN="Gabrielle Pescador":MAILTO:pescadorarte@gmail.com
END:VEVENT
BEGIN:VEVENT
DTSTART;TZID=America/Detroit:20210412T090000
DTEND;TZID=America/Detroit:20210412T103000
DTSTAMP:20260424T173642
CREATED:20201206T164819Z
LAST-MODIFIED:20201206T164819Z
UID:10003486-1618218000-1618223400@www.jewishannarbor.org
SUMMARY:Rosh Chodesh Iyyar Online Minyan
DESCRIPTION:Meeting ID: 945 3382 9969 \nPasscode: 909939 \n 
URL:https://www.jewishannarbor.org/event/rosh-chodesh-iyyar-online-minyan/
CATEGORIES:Pardes Hannah
ORGANIZER;CN="Gabrielle Pescador":MAILTO:pescadorarte@gmail.com
END:VEVENT
BEGIN:VEVENT
DTSTART;TZID=America/Detroit:20210114T090000
DTEND;TZID=America/Detroit:20210114T103000
DTSTAMP:20260424T173642
CREATED:20201206T155524Z
LAST-MODIFIED:20201206T155524Z
UID:10003463-1610614800-1610620200@www.jewishannarbor.org
SUMMARY:Rosh Chodesh Shevat Online Minyan
DESCRIPTION:Meeting ID: 919 9881 0815 \nPasscode: 238460
URL:https://www.jewishannarbor.org/event/rosh-chodesh-shevat-online-minyan/
CATEGORIES:Pardes Hannah
ORGANIZER;CN="Gabrielle Pescador":MAILTO:pescadorarte@gmail.com
END:VEVENT
BEGIN:VEVENT
DTSTART;TZID=America/Detroit:20201216T090000
DTEND;TZID=America/Detroit:20201216T101500
DTSTAMP:20260424T173642
CREATED:20200826T183334Z
LAST-MODIFIED:20200826T183334Z
UID:10003356-1608109200-1608113700@www.jewishannarbor.org
SUMMARY:Rosh Chodesh Online Minyan
DESCRIPTION:https://zoom.us/j/91461510276?pwd=SG9GblB1MkZ5dHFDTTk4Y3Z5N2s3Zz09
URL:https://www.jewishannarbor.org/event/rosh-chodesh-online-minyan-3/
CATEGORIES:Pardes Hannah
ORGANIZER;CN="Gabrielle Pescador":MAILTO:pescadorarte@gmail.com
END:VEVENT
BEGIN:VEVENT
DTSTART;TZID=America/Detroit:20201205T103000
DTEND;TZID=America/Detroit:20201205T120000
DTSTAMP:20260424T173642
CREATED:20200826T182926Z
LAST-MODIFIED:20200826T182926Z
UID:10003353-1607164200-1607169600@www.jewishannarbor.org
SUMMARY:PH Shabbat Meditation Service
DESCRIPTION:https://zoom.us/j/92783516585?pwd=K0xOUFRDQk5hU1Eva0pNYU43ejdOUT09
URL:https://www.jewishannarbor.org/event/ph-shabbat-meditation-service/
CATEGORIES:Pardes Hannah
ORGANIZER;CN="Gabrielle Pescador":MAILTO:pescadorarte@gmail.com
END:VEVENT
BEGIN:VEVENT
DTSTART;TZID=America/Detroit:20201117T090000
DTEND;TZID=America/Detroit:20201117T101500
DTSTAMP:20260424T173642
CREATED:20200826T182127Z
LAST-MODIFIED:20200826T182127Z
UID:10003349-1605603600-1605608100@www.jewishannarbor.org
SUMMARY:Rosh Chodesh Online Minyan
DESCRIPTION:https://zoom.us/j/98273680412?pwd=c3FCRDBBdnAySm1XdGFlN213ZDV0dz09
URL:https://www.jewishannarbor.org/event/rosh-chodesh-online-minyan-2/
CATEGORIES:Pardes Hannah
ORGANIZER;CN="Gabrielle Pescador":MAILTO:pescadorarte@gmail.com
END:VEVENT
BEGIN:VEVENT
DTSTART;TZID=America/Detroit:20201106T183000
DTEND;TZID=America/Detroit:20201106T200000
DTSTAMP:20260424T173642
CREATED:20200826T181731Z
LAST-MODIFIED:20200826T181731Z
UID:10003346-1604687400-1604692800@www.jewishannarbor.org
SUMMARY:PH Kabbalat Shabbat
DESCRIPTION:https://zoom.us/j/93607377476?pwd=bzNuWVR5MUNDMG5yYkQ4bUFhSkM3UT09
URL:https://www.jewishannarbor.org/event/ph-kabbalat-shabbat-2/
CATEGORIES:Pardes Hannah
ORGANIZER;CN="Rabbi Elliot Ginsburg":MAILTO:rebelliot91@gmail.com
END:VEVENT
BEGIN:VEVENT
DTSTART;TZID=America/Detroit:20201101T110000
DTEND;TZID=America/Detroit:20201101T123000
DTSTAMP:20260424T173642
CREATED:20200826T181450Z
LAST-MODIFIED:20200826T181450Z
UID:10003345-1604228400-1604233800@www.jewishannarbor.org
SUMMARY:Niggun Lessons
DESCRIPTION:Learn Niggunim with Gabrielle Pescador. \nhttps://zoom.us/j/91642494868?pwd=c2dkNzBwUzNIVEFjWnRPVzhEMVIydz09
URL:https://www.jewishannarbor.org/event/niggun-lessons/
CATEGORIES:Pardes Hannah
ORGANIZER;CN="Gabrielle Pescador":MAILTO:pescadorarte@gmail.com
END:VEVENT
BEGIN:VEVENT
DTSTART;TZID=America/Detroit:20201018T100000
DTEND;TZID=America/Detroit:20201018T111500
DTSTAMP:20260424T173642
CREATED:20200826T180827Z
LAST-MODIFIED:20200826T180827Z
UID:10003342-1603015200-1603019700@www.jewishannarbor.org
SUMMARY:Rosh Chodesh Online Minyan
DESCRIPTION:https://zoom.us/j/94469728522?pwd=Sm5pR3ViV2N4eVlyUktNWjQwbmtwQT09
URL:https://www.jewishannarbor.org/event/rosh-chodesh-online-minyan/
CATEGORIES:Pardes Hannah
ORGANIZER;CN="Gabrielle Pescador":MAILTO:pescadorarte@gmail.com
END:VEVENT
BEGIN:VEVENT
DTSTART;TZID=America/Detroit:20200820T090000
DTEND;TZID=America/Detroit:20200820T101500
DTSTAMP:20260424T173642
CREATED:20200710T012930Z
LAST-MODIFIED:20200710T012930Z
UID:10003312-1597914000-1597918500@www.jewishannarbor.org
SUMMARY:Rosh Chodesh Virtual Minyan
DESCRIPTION:Join Zoom Meeting https://zoom.us/j/91636271168?pwd=VStGM3k5S1kvS2ZBSXNDWm9ZdTBhUT09 \nMeeting ID: 916 3627 1168\nPassword: 610744
URL:https://www.jewishannarbor.org/event/rosh-chodesh-virtual-minyan-2/
CATEGORIES:Pardes Hannah
ORGANIZER;CN="Gabrielle Pescador":MAILTO:pescadorarte@gmail.com
END:VEVENT
END:VCALENDAR