BEGIN:VCALENDAR
VERSION:2.0
PRODID:-//Jewish Federation of Greater Ann Arbor - ECPv6.15.17.1//NONSGML v1.0//EN
CALSCALE:GREGORIAN
METHOD:PUBLISH
X-ORIGINAL-URL:https://www.jewishannarbor.org
X-WR-CALDESC:Events for Jewish Federation of Greater Ann Arbor
REFRESH-INTERVAL;VALUE=DURATION:PT1H
X-Robots-Tag:noindex
X-PUBLISHED-TTL:PT1H
BEGIN:VTIMEZONE
TZID:America/Detroit
BEGIN:DAYLIGHT
TZOFFSETFROM:-0500
TZOFFSETTO:-0400
TZNAME:EDT
DTSTART:20250309T070000
END:DAYLIGHT
BEGIN:STANDARD
TZOFFSETFROM:-0400
TZOFFSETTO:-0500
TZNAME:EST
DTSTART:20251102T060000
END:STANDARD
BEGIN:DAYLIGHT
TZOFFSETFROM:-0500
TZOFFSETTO:-0400
TZNAME:EDT
DTSTART:20260308T070000
END:DAYLIGHT
BEGIN:STANDARD
TZOFFSETFROM:-0400
TZOFFSETTO:-0500
TZNAME:EST
DTSTART:20261101T060000
END:STANDARD
BEGIN:DAYLIGHT
TZOFFSETFROM:-0500
TZOFFSETTO:-0400
TZNAME:EDT
DTSTART:20270314T070000
END:DAYLIGHT
BEGIN:STANDARD
TZOFFSETFROM:-0400
TZOFFSETTO:-0500
TZNAME:EST
DTSTART:20271107T060000
END:STANDARD
END:VTIMEZONE
BEGIN:VEVENT
DTSTART;TZID=America/Detroit:20260326T173000
DTEND;TZID=America/Detroit:20260326T200000
DTSTAMP:20260420T090334
CREATED:20251208T191548Z
LAST-MODIFIED:20251208T191607Z
UID:10006045-1774546200-1774555200@www.jewishannarbor.org
SUMMARY:U-M Frankel Center Event: 36th Annual David W. Belin Lecture
DESCRIPTION:“Orthodox Jewish Wellness Influencers in the Age of Viral Politics” with Ayala Fader (Fordham University) \nThursday\, March 26 from 5:30 – 8:00 PM \nMichigan Union\, Pendleton Room \nRSVP: https://myumi.ch/15PN8 \nThe University of Michigan Frankel Center for Judaic Studies is pleased to announce that Professor Ayala Fader of Fordham University will deliver the 36th Annual David W. Belin Lecture\, titled “Orthodox Jewish Wellness Influencers in the Age of Viral Politics.” This free\, public lecture will take place in the Pendleton Room of the Michigan Union on Thursday\, March 26\, 2026. Please RSVP at https://myumi.ch/15PN8 to let us know if you plan to attend. \nOver the past decade\, frum (Orthodox) Jewish women wellness influencers on social media have become a significant presence. Despite attempts by some rabbis to silence them\, frum influencers in the United States and Israel continue to share intimate details of their everyday lives online\, earning a living through the promotion of products linked to their platforms. Professor Fader’s talk examines the seemingly contradictory worlds these influencers navigate: while claiming new forms of gendered authority\, they simultaneously reinforce traditional Jewish family structures and gender roles. \nDrawing inspiration from conservative Christian wellness influencers\, frum influencers create content that asserts Jewish exceptionalism while fostering unexpected exchanges with conservative Christian women. The lecture will consider whether frum social media influencers are subtly promoting illiberal politics through the gendered language of wellness. \nAyala Fader is Professor of Anthropology and Jewish Studies at Fordham University. She is the author of the award-winning books Mitzvah Girls (2009) and Hidden Heretics (2020). Professor Fader’s research has been generously supported by numerous fellowships and grants\, including those from the National Science Foundation and the National Endowment for the Humanities. As the founding director of Fordham’s New York Center for Public Anthropology & Sociology\, she leads the Demystifying Language Project\, which makes linguistic anthropology a social justice resource for public high schools. \nThe David W. Belin Lecture in American Jewish Affairs was established in 1991 through a generous gift from the late David W. Belin of Des Moines (IA) and New York to provide an academic forum for the discussion of contemporary Jewish life in the United States. As the founding chair of Reform Judaism’s Outreach Commission and a founding member of the Jewish Foundation for the Righteous\, Belin served the American Jewish community in numerous leadership roles. His commitment to the future of American Jewry inspired him to endow this annual lectureship\, providing a forum for meaningful discussion of contemporary Jewish life in the United States.
URL:https://www.jewishannarbor.org/event/u-m-frankel-center-event-36th-annual-david-w-belin-lecture/
LOCATION:Michigan Union\, 530 S State St\, Ann Arbor\, MI\, 48109
CATEGORIES:Community,Educational,Food Provided,UM Frankel Center for Judaic Studies
ORGANIZER;CN="University of Michigan Frankel Center for Judaic Studies":MAILTO:JudaicStudies@umich.edu
END:VEVENT
END:VCALENDAR