BEGIN:VCALENDAR
VERSION:2.0
PRODID:-//Jewish Federation of Greater Ann Arbor - ECPv6.15.17.1//NONSGML v1.0//EN
CALSCALE:GREGORIAN
METHOD:PUBLISH
X-WR-CALNAME:Jewish Federation of Greater Ann Arbor
X-ORIGINAL-URL:https://www.jewishannarbor.org
X-WR-CALDESC:Events for Jewish Federation of Greater Ann Arbor
REFRESH-INTERVAL;VALUE=DURATION:PT1H
X-Robots-Tag:noindex
X-PUBLISHED-TTL:PT1H
BEGIN:VTIMEZONE
TZID:America/Detroit
BEGIN:DAYLIGHT
TZOFFSETFROM:-0500
TZOFFSETTO:-0400
TZNAME:EDT
DTSTART:20240310T070000
END:DAYLIGHT
BEGIN:STANDARD
TZOFFSETFROM:-0400
TZOFFSETTO:-0500
TZNAME:EST
DTSTART:20241103T060000
END:STANDARD
BEGIN:DAYLIGHT
TZOFFSETFROM:-0500
TZOFFSETTO:-0400
TZNAME:EDT
DTSTART:20250309T070000
END:DAYLIGHT
BEGIN:STANDARD
TZOFFSETFROM:-0400
TZOFFSETTO:-0500
TZNAME:EST
DTSTART:20251102T060000
END:STANDARD
BEGIN:DAYLIGHT
TZOFFSETFROM:-0500
TZOFFSETTO:-0400
TZNAME:EDT
DTSTART:20260308T070000
END:DAYLIGHT
BEGIN:STANDARD
TZOFFSETFROM:-0400
TZOFFSETTO:-0500
TZNAME:EST
DTSTART:20261101T060000
END:STANDARD
END:VTIMEZONE
BEGIN:VEVENT
DTSTART;VALUE=DATE:20250429
DTEND;VALUE=DATE:20250430
DTSTAMP:20260420T012927
CREATED:20200625T190503Z
LAST-MODIFIED:20200625T190503Z
UID:10002958-1745884800-1745971199@www.jewishannarbor.org
SUMMARY:Rosh Chodesh Iyyar
DESCRIPTION:Beginning of new Hebrew month of Iyyar
URL:https://www.jewishannarbor.org/event/rosh-chodesh-iyyar-12/
END:VEVENT
BEGIN:VEVENT
DTSTART;TZID=America/Detroit:20250428T190000
DTEND;TZID=America/Detroit:20250428T220000
DTSTAMP:20260420T012927
CREATED:20241213T160227Z
LAST-MODIFIED:20241213T160227Z
UID:10005573-1745866800-1745877600@www.jewishannarbor.org
SUMMARY:LIVE EVENT: 2025 Ann Arbor Jewish Film Festival
DESCRIPTION:
URL:https://www.jewishannarbor.org/event/live-event-2025-ann-arbor-jewish-film-festival-5/
LOCATION:The State Theatre\, 233 S State Street\, Ann Arbor\, 48104\, United States
CATEGORIES:Jewish Community Center of Greater Ann Arbor
END:VEVENT
BEGIN:VEVENT
DTSTART;TZID=America/Detroit:20250428T183000
DTEND;TZID=America/Detroit:20250428T203000
DTSTAMP:20260420T012927
CREATED:20250403T145152Z
LAST-MODIFIED:20250403T145152Z
UID:10005736-1745865000-1745872200@www.jewishannarbor.org
SUMMARY:BIC: Persona Parasha: a generative writing workshop with poet Ayelet Amittay
DESCRIPTION:Participants will read torah-based persona poems together and then write and share our own persona poems based on a parasha with published poet Ayelet Amittay and BIC’s own Meg Bernstein. Space is limited\, registration required.
URL:https://www.jewishannarbor.org/event/bic-persona-parasha-a-generative-writing-workshop-with-poet-ayelet-amittay/
LOCATION:Beth Israel Congregation\, 2000 Washtenaw Avenue\, Ann Arbor\, MI\, USA\, Ann Arbor\, MI\, 48108\, United States
CATEGORIES:Beth Israel Congregation,Community
ORGANIZER;CN="Beth Israel Congregation":MAILTO:office@bethisrael-aa.org
END:VEVENT
BEGIN:VEVENT
DTSTART;TZID=America/Detroit:20250428T183000
DTEND;TZID=America/Detroit:20250428T203000
DTSTAMP:20260420T012927
CREATED:20241007T151053Z
LAST-MODIFIED:20241007T151053Z
UID:10005499-1745865000-1745872200@www.jewishannarbor.org
SUMMARY:BIC: Hebrew Language Classes Start Again!
DESCRIPTION:We are offering Beginners Liturgical Hebrew and Intermediate Modern Hebrew. Please see registration page for more details.
URL:https://www.jewishannarbor.org/event/bic-hebrew-language-classes-start-again/2025-04-28/
LOCATION:Beth Israel Congregation\, 2000 Washtenaw Avenue\, Ann Arbor\, MI\, USA\, Ann Arbor\, MI\, 48108\, United States
CATEGORIES:Beth Israel Congregation,Community,Educational
ORGANIZER;CN="Beth Israel Congregation":MAILTO:office@bethisrael-aa.org
END:VEVENT
BEGIN:VEVENT
DTSTART;VALUE=DATE:20250428
DTEND;VALUE=DATE:20250429
DTSTAMP:20260420T012927
CREATED:20200625T190502Z
LAST-MODIFIED:20200625T190502Z
UID:10002957-1745798400-1745884799@www.jewishannarbor.org
SUMMARY:Rosh Chodesh Iyyar
DESCRIPTION:Beginning of new Hebrew month of Iyyar
URL:https://www.jewishannarbor.org/event/rosh-chodesh-iyyar-11/
END:VEVENT
BEGIN:VEVENT
DTSTART;VALUE=DATE:20250427
DTEND;VALUE=DATE:20250428
DTSTAMP:20260420T012927
CREATED:20241213T155926Z
LAST-MODIFIED:20241213T155950Z
UID:10005572-1745712000-1745798399@www.jewishannarbor.org
SUMMARY:LIVE EVENT: 2025 Ann Arbor Jewish Film Festival
DESCRIPTION:
URL:https://www.jewishannarbor.org/event/live-event-2025-ann-arbor-jewish-film-festival-4/
LOCATION:The State Theatre\, 233 S State Street\, Ann Arbor\, 48104\, United States
CATEGORIES:Jewish Community Center of Greater Ann Arbor
END:VEVENT
BEGIN:VEVENT
DTSTART;TZID=America/Detroit:20250426T150000
DTEND;TZID=America/Detroit:20250426T200000
DTSTAMP:20260420T012927
CREATED:20250122T200233Z
LAST-MODIFIED:20250304T190423Z
UID:10005668-1745679600-1745697600@www.jewishannarbor.org
SUMMARY:TBE: Celebration of Jewish Poetry
DESCRIPTION:
URL:https://www.jewishannarbor.org/event/tbe-celebration-of-jewish-poetry/
LOCATION:Temple Beth Emeth\, 2309 Packard St\, Ann Arbor\, MI\, 48104\, United States
CATEGORIES:Temple Beth Emeth
ATTACH;FMTTYPE=image/jpeg:https://www.jewishannarbor.org/wp-content/uploads/2025/01/Jewish-Poetry-Emails.jpg
ORGANIZER;CN="Temple Beth Emeth":MAILTO:tbe@templebethemeth.org
END:VEVENT
BEGIN:VEVENT
DTSTART;TZID=America/Detroit:20250425T180000
DTEND;TZID=America/Detroit:20250425T203000
DTSTAMP:20260420T012927
CREATED:20250325T150107Z
LAST-MODIFIED:20250325T153538Z
UID:10005724-1745604000-1745613000@www.jewishannarbor.org
SUMMARY:BIC: Israel360 welcomes Tammy Gottlieb of "Women of the Wall"
DESCRIPTION:
URL:https://www.jewishannarbor.org/event/bic-israel360-welcomes-tammy-gottlieb-of-women-of-the-wall/
CATEGORIES:Beth Israel Congregation,Religious
END:VEVENT
BEGIN:VEVENT
DTSTART;TZID=America/Detroit:20250424T173000
DTEND;TZID=America/Detroit:20250424T210000
DTSTAMP:20260420T012927
CREATED:20241213T152814Z
LAST-MODIFIED:20250113T195259Z
UID:10005570-1745515800-1745528400@www.jewishannarbor.org
SUMMARY:Sponsor Night: 2025 Ann Arbor Jewish Film Festival
DESCRIPTION:
URL:https://www.jewishannarbor.org/event/live-event-2025-ann-arbor-jewish-film-festival-2/
LOCATION:The State Theatre\, 233 S State Street\, Ann Arbor\, 48104\, United States
CATEGORIES:Jewish Community Center of Greater Ann Arbor
END:VEVENT
BEGIN:VEVENT
DTSTART;VALUE=DATE:20250424
DTEND;VALUE=DATE:20250425
DTSTAMP:20260420T012927
CREATED:20200625T190502Z
LAST-MODIFIED:20200625T190502Z
UID:10002956-1745452800-1745539199@www.jewishannarbor.org
SUMMARY:Yom HaShoah
DESCRIPTION:Holocaust Memorial Day
URL:https://www.jewishannarbor.org/event/yom-hashoah-7/
END:VEVENT
BEGIN:VEVENT
DTSTART;TZID=America/Detroit:20250423T193000
DTEND;TZID=America/Detroit:20250423T210000
DTSTAMP:20260420T012927
CREATED:20250403T165256Z
LAST-MODIFIED:20250403T172731Z
UID:10005737-1745436600-1745442000@www.jewishannarbor.org
SUMMARY:TBE: Yom HaShoah Service
DESCRIPTION:
URL:https://www.jewishannarbor.org/event/tbe-yom-hashoah-service/
LOCATION:Temple Beth Emeth\, 2309 Packard St\, Ann Arbor\, MI\, 48104\, United States
CATEGORIES:Religious,Temple Beth Emeth
ATTACH;FMTTYPE=image/jpeg:https://www.jewishannarbor.org/wp-content/uploads/2025/04/TBE-Logo.jpg
ORGANIZER;CN="Temple Beth Emeth":MAILTO:tbe@templebethemeth.org
END:VEVENT
BEGIN:VEVENT
DTSTART;TZID=America/Detroit:20250422T193000
DTEND;TZID=America/Detroit:20250422T210000
DTSTAMP:20260420T012927
CREATED:20230830T192635Z
LAST-MODIFIED:20240809T141749Z
UID:10005055-1745350200-1745355600@www.jewishannarbor.org
SUMMARY:HDS Board Meeting
DESCRIPTION:
URL:https://www.jewishannarbor.org/event/hds-board-meeting-32/
LOCATION:Hebrew Day School of AA\, 2937 Birch Hollow Drive\, Ann Arbor\, MI\, 48108\, United States
END:VEVENT
BEGIN:VEVENT
DTSTART;TZID=America/Detroit:20250422T190000
DTEND;TZID=America/Detroit:20250422T220000
DTSTAMP:20260420T012927
CREATED:20250113T215414Z
LAST-MODIFIED:20250113T215414Z
UID:10005619-1745348400-1745359200@www.jewishannarbor.org
SUMMARY:LIVE EVENT: 2025 Ann Arbor Jewish Film Festival
DESCRIPTION:
URL:https://www.jewishannarbor.org/event/live-event-2025-ann-arbor-jewish-film-festival-7/
LOCATION:The State Theatre\, 233 S State Street\, Ann Arbor\, 48104\, United States
CATEGORIES:Jewish Community Center of Greater Ann Arbor
END:VEVENT
BEGIN:VEVENT
DTSTART;TZID=America/Detroit:20250421T190000
DTEND;TZID=America/Detroit:20250421T220000
DTSTAMP:20260420T012927
CREATED:20241213T152621Z
LAST-MODIFIED:20241213T152621Z
UID:10005569-1745262000-1745272800@www.jewishannarbor.org
SUMMARY:LIVE EVENT: 2025 Ann Arbor Jewish Film Festival
DESCRIPTION:
URL:https://www.jewishannarbor.org/event/live-event-2025-ann-arbor-jewish-film-festival/
LOCATION:The State Theatre\, 233 S State Street\, Ann Arbor\, 48104\, United States
CATEGORIES:Jewish Community Center of Greater Ann Arbor
END:VEVENT
BEGIN:VEVENT
DTSTART;TZID=America/Detroit:20250421T190000
DTEND;TZID=America/Detroit:20250421T210000
DTSTAMP:20260420T012927
CREATED:20250106T162451Z
LAST-MODIFIED:20250106T162745Z
UID:10005596-1745262000-1745269200@www.jewishannarbor.org
SUMMARY:Federation Board Meeting
DESCRIPTION:
URL:https://www.jewishannarbor.org/event/federation-board-meeting-3/2025-04-21/
LOCATION:Jewish Community Center of Ann Arbor\, 2935 Birch Hollow Drive\, Ann Arbor\, MI\, 48108\, United States
ORGANIZER;CN="Jewish Federation of Greater Ann Arbor":MAILTO:info@jewishannarbor.org
END:VEVENT
BEGIN:VEVENT
DTSTART;TZID=America/Detroit:20250421T183000
DTEND;TZID=America/Detroit:20250421T203000
DTSTAMP:20260420T012927
CREATED:20241007T151053Z
LAST-MODIFIED:20241007T151053Z
UID:10005498-1745260200-1745267400@www.jewishannarbor.org
SUMMARY:BIC: Hebrew Language Classes Start Again!
DESCRIPTION:We are offering Beginners Liturgical Hebrew and Intermediate Modern Hebrew. Please see registration page for more details.
URL:https://www.jewishannarbor.org/event/bic-hebrew-language-classes-start-again/2025-04-21/
LOCATION:Beth Israel Congregation\, 2000 Washtenaw Avenue\, Ann Arbor\, MI\, USA\, Ann Arbor\, MI\, 48108\, United States
CATEGORIES:Beth Israel Congregation,Community,Educational
ORGANIZER;CN="Beth Israel Congregation":MAILTO:office@bethisrael-aa.org
END:VEVENT
BEGIN:VEVENT
DTSTART;TZID=America/Detroit:20250421T180000
DTEND;TZID=America/Detroit:20250421T200000
DTSTAMP:20260420T012927
CREATED:20250312T024424Z
LAST-MODIFIED:20250312T024424Z
UID:10005711-1745258400-1745265600@www.jewishannarbor.org
SUMMARY:FED NEXTGen A2 Post-Pesach Party
DESCRIPTION:Register here
URL:https://www.jewishannarbor.org/event/fed-nextgen-a2-post-pesach-party/
LOCATION:Jewish Federation of Greater Ann Arbor\, 2939 Birch Hollow Drive\, Ann Arbor\, MI\, 48108\, United States
END:VEVENT
BEGIN:VEVENT
DTSTART;TZID=America/Detroit:20250421T120000
DTEND;TZID=America/Detroit:20250421T130000
DTSTAMP:20260420T012927
CREATED:20250415T163143Z
LAST-MODIFIED:20250415T163143Z
UID:10005742-1745236800-1745240400@www.jewishannarbor.org
SUMMARY:TBE: A Taste of Talmud: What the Rabbis Learned and How They Learned It
DESCRIPTION:This is the first class of a series. Please see the link for more information and how to register.
URL:https://www.jewishannarbor.org/event/tbe-a-taste-of-talmud-what-the-rabbis-learned-and-how-they-learned-it/
LOCATION:Temple Beth Emeth\, 2309 Packard St\, Ann Arbor\, MI\, 48104\, United States
CATEGORIES:Temple Beth Emeth
ATTACH;FMTTYPE=image/jpeg:https://www.jewishannarbor.org/wp-content/uploads/2025/04/Taste-of-Talmud-Flyer.jpg
ORGANIZER;CN="Temple Beth Emeth":MAILTO:tbe@templebethemeth.org
END:VEVENT
BEGIN:VEVENT
DTSTART;TZID=America/Detroit:20250420T100000
DTEND;TZID=America/Detroit:20250420T120000
DTSTAMP:20260420T012927
CREATED:20250415T162859Z
LAST-MODIFIED:20250415T162859Z
UID:10005741-1745143200-1745150400@www.jewishannarbor.org
SUMMARY:TBE: Yizkor Service & luncheon
DESCRIPTION:
URL:https://www.jewishannarbor.org/event/tbe-yizkor-service-luncheon/
LOCATION:Temple Beth Emeth\, 2309 Packard St\, Ann Arbor\, MI\, 48104\, United States
CATEGORIES:Temple Beth Emeth
ORGANIZER;CN="Temple Beth Emeth":MAILTO:tbe@templebethemeth.org
END:VEVENT
BEGIN:VEVENT
DTSTART;VALUE=DATE:20250420
DTEND;VALUE=DATE:20250421
DTSTAMP:20260420T012927
CREATED:20200625T190501Z
LAST-MODIFIED:20200625T190501Z
UID:10002955-1745107200-1745193599@www.jewishannarbor.org
SUMMARY:Pesach VIII
DESCRIPTION:Passover; the Feast of Unleavened Bread
URL:https://www.jewishannarbor.org/event/pesach-viii-6/
END:VEVENT
BEGIN:VEVENT
DTSTART;VALUE=DATE:20250419
DTEND;VALUE=DATE:20250420
DTSTAMP:20260420T012927
CREATED:20200625T190438Z
LAST-MODIFIED:20200625T190438Z
UID:10002954-1745020800-1745107199@www.jewishannarbor.org
SUMMARY:Pesach VII
DESCRIPTION:Passover; the Feast of Unleavened Bread
URL:https://www.jewishannarbor.org/event/pesach-vii-6/
END:VEVENT
BEGIN:VEVENT
DTSTART;TZID=America/Detroit:20250418T173000
DTEND;TZID=America/Detroit:20250418T183000
DTSTAMP:20260420T012927
CREATED:20250122T195420Z
LAST-MODIFIED:20250122T195420Z
UID:10005665-1744997400-1745001000@www.jewishannarbor.org
SUMMARY:TBE: LGBTQ Shabbat Potluck
DESCRIPTION:
URL:https://www.jewishannarbor.org/event/tbe-lgbtq-shabbat-potluck-5/
LOCATION:Temple Beth Emeth\, 2309 Packard St\, Ann Arbor\, MI\, 48104\, United States
CATEGORIES:Temple Beth Emeth
ORGANIZER;CN="Temple Beth Emeth":MAILTO:tbe@templebethemeth.org
END:VEVENT
BEGIN:VEVENT
DTSTART;VALUE=DATE:20250418
DTEND;VALUE=DATE:20250419
DTSTAMP:20260420T012927
CREATED:20200625T190438Z
LAST-MODIFIED:20200625T190438Z
UID:10002953-1744934400-1745020799@www.jewishannarbor.org
SUMMARY:Pesach VI (CH''M)
DESCRIPTION:Passover; the Feast of Unleavened Bread
URL:https://www.jewishannarbor.org/event/pesach-vi-chm-6/
END:VEVENT
BEGIN:VEVENT
DTSTART;VALUE=DATE:20250417
DTEND;VALUE=DATE:20250418
DTSTAMP:20260420T012927
CREATED:20200625T190437Z
LAST-MODIFIED:20200625T190437Z
UID:10002952-1744848000-1744934399@www.jewishannarbor.org
SUMMARY:Pesach V (CH''M)
DESCRIPTION:Passover; the Feast of Unleavened Bread
URL:https://www.jewishannarbor.org/event/pesach-v-chm-6/
END:VEVENT
BEGIN:VEVENT
DTSTART;TZID=America/Detroit:20250416T193000
DTEND;TZID=America/Detroit:20250416T210000
DTSTAMP:20260420T012927
CREATED:20240816T150428Z
LAST-MODIFIED:20240816T150428Z
UID:10005401-1744831800-1744837200@www.jewishannarbor.org
SUMMARY:ORT Book Group
DESCRIPTION:The ORT Book Group meets on the third Wednesday of the month (barring complications). For information about membership or to see the list of books we are reading\, check the website. Some months\, particularly in the winter\, we meet on ZOOM. Membership in ORT is required. \nThe website is ortannarbor.org.
URL:https://www.jewishannarbor.org/event/ort-book-group-49/
LOCATION:Jewish Community Center of Ann Arbor\, 2935 Birch Hollow Drive\, Ann Arbor\, MI\, 48108\, United States
CATEGORIES:ORT America, Ann Arbor Chapter
ORGANIZER;CN="Gretta Spier":MAILTO:Gretspier@gmail.com
END:VEVENT
BEGIN:VEVENT
DTSTART;TZID=America/Detroit:20250416T173000
DTEND;TZID=America/Detroit:20250416T193000
DTSTAMP:20260420T012927
CREATED:20250122T194614Z
LAST-MODIFIED:20250122T194614Z
UID:10005664-1744824600-1744831800@www.jewishannarbor.org
SUMMARY:TBE: Brotherhood Seder
DESCRIPTION:
URL:https://www.jewishannarbor.org/event/tbe-brotherhood-seder/
LOCATION:Temple Beth Emeth\, 2309 Packard St\, Ann Arbor\, MI\, 48104\, United States
CATEGORIES:Temple Beth Emeth
ORGANIZER;CN="Temple Beth Emeth":MAILTO:tbe@templebethemeth.org
END:VEVENT
BEGIN:VEVENT
DTSTART;VALUE=DATE:20250416
DTEND;VALUE=DATE:20250417
DTSTAMP:20260420T012927
CREATED:20200625T190437Z
LAST-MODIFIED:20200625T190437Z
UID:10002951-1744761600-1744847999@www.jewishannarbor.org
SUMMARY:Pesach IV (CH''M)
DESCRIPTION:Passover; the Feast of Unleavened Bread
URL:https://www.jewishannarbor.org/event/pesach-iv-chm-6/
END:VEVENT
BEGIN:VEVENT
DTSTART;TZID=America/Detroit:20250415T160000
DTEND;TZID=America/Detroit:20250415T170000
DTSTAMP:20260420T012927
CREATED:20250122T194518Z
LAST-MODIFIED:20250122T194518Z
UID:10005663-1744732800-1744736400@www.jewishannarbor.org
SUMMARY:TBE: Bereavement Group
DESCRIPTION:
URL:https://www.jewishannarbor.org/event/tbe-bereavement-group-4/
LOCATION:Temple Beth Emeth\, 2309 Packard St\, Ann Arbor\, MI\, 48104\, United States
CATEGORIES:Temple Beth Emeth
ORGANIZER;CN="Temple Beth Emeth":MAILTO:tbe@templebethemeth.org
END:VEVENT
BEGIN:VEVENT
DTSTART;VALUE=DATE:20250415
DTEND;VALUE=DATE:20250416
DTSTAMP:20260420T012927
CREATED:20200625T190436Z
LAST-MODIFIED:20200625T190436Z
UID:10002950-1744675200-1744761599@www.jewishannarbor.org
SUMMARY:Pesach III (CH''M)
DESCRIPTION:Passover; the Feast of Unleavened Bread
URL:https://www.jewishannarbor.org/event/pesach-iii-chm-6/
END:VEVENT
BEGIN:VEVENT
DTSTART;TZID=America/Detroit:20250414T183000
DTEND;TZID=America/Detroit:20250414T203000
DTSTAMP:20260420T012927
CREATED:20241007T151053Z
LAST-MODIFIED:20241007T151053Z
UID:10005497-1744655400-1744662600@www.jewishannarbor.org
SUMMARY:BIC: Hebrew Language Classes Start Again!
DESCRIPTION:We are offering Beginners Liturgical Hebrew and Intermediate Modern Hebrew. Please see registration page for more details.
URL:https://www.jewishannarbor.org/event/bic-hebrew-language-classes-start-again/2025-04-14/
LOCATION:Beth Israel Congregation\, 2000 Washtenaw Avenue\, Ann Arbor\, MI\, USA\, Ann Arbor\, MI\, 48108\, United States
CATEGORIES:Beth Israel Congregation,Community,Educational
ORGANIZER;CN="Beth Israel Congregation":MAILTO:office@bethisrael-aa.org
END:VEVENT
END:VCALENDAR