BEGIN:VCALENDAR
VERSION:2.0
PRODID:-//Jewish Federation of Greater Ann Arbor - ECPv6.15.17.1//NONSGML v1.0//EN
CALSCALE:GREGORIAN
METHOD:PUBLISH
X-WR-CALNAME:Jewish Federation of Greater Ann Arbor
X-ORIGINAL-URL:https://www.jewishannarbor.org
X-WR-CALDESC:Events for Jewish Federation of Greater Ann Arbor
REFRESH-INTERVAL;VALUE=DURATION:PT1H
X-Robots-Tag:noindex
X-PUBLISHED-TTL:PT1H
BEGIN:VTIMEZONE
TZID:America/Detroit
BEGIN:DAYLIGHT
TZOFFSETFROM:-0500
TZOFFSETTO:-0400
TZNAME:EDT
DTSTART:20250309T070000
END:DAYLIGHT
BEGIN:STANDARD
TZOFFSETFROM:-0400
TZOFFSETTO:-0500
TZNAME:EST
DTSTART:20251102T060000
END:STANDARD
BEGIN:DAYLIGHT
TZOFFSETFROM:-0500
TZOFFSETTO:-0400
TZNAME:EDT
DTSTART:20260308T070000
END:DAYLIGHT
BEGIN:STANDARD
TZOFFSETFROM:-0400
TZOFFSETTO:-0500
TZNAME:EST
DTSTART:20261101T060000
END:STANDARD
BEGIN:DAYLIGHT
TZOFFSETFROM:-0500
TZOFFSETTO:-0400
TZNAME:EDT
DTSTART:20270314T070000
END:DAYLIGHT
BEGIN:STANDARD
TZOFFSETFROM:-0400
TZOFFSETTO:-0500
TZNAME:EST
DTSTART:20271107T060000
END:STANDARD
END:VTIMEZONE
BEGIN:VEVENT
DTSTART;TZID=America/Detroit:20260514T180000
DTEND;TZID=America/Detroit:20260514T193000
DTSTAMP:20260423T154534
CREATED:20260326T185005Z
LAST-MODIFIED:20260326T185005Z
UID:10006215-1778781600-1778787000@www.jewishannarbor.org
SUMMARY:Amster Gallery
DESCRIPTION:Organized by: JCC of Greater Ann Arbor
URL:https://www.jewishannarbor.org/event/amster-gallery/
ORGANIZER;CN="JCC of Greater Ann Arbor":MAILTO:jcc@jccannarbor.org
END:VEVENT
BEGIN:VEVENT
DTSTART;TZID=America/Detroit:20260514T190000
DTEND;TZID=America/Detroit:20260514T203000
DTSTAMP:20260423T154534
CREATED:20260204T165227Z
LAST-MODIFIED:20260204T170728Z
UID:10006130-1778785200-1778790600@www.jewishannarbor.org
SUMMARY:Mussar with Roann Altman
DESCRIPTION:2 Thursdays a month from 7:00-8:30pm in the G&S 2010 Building\, beginning\nFebruary 26th and continuing on 3/12\, 3/26\, 416\, 4/30\, 5/14\, and 5/28. Join a\nstudy group (_va’ad_) with Mussar-trained facilitator Roann Altman to uncover\nhow we can transform our lives one step at a time. After leading groups for 13\nyears and a 6-year Covid hiatus\, Roann returns to bring wisdom from Mussar\nmasters for living a more meaningful and Jewish-based life. Participants are\nasked to purchase\, and bring to the first meeting\, the Mussar text _Everyday\nHoliness_ \, by Alan Morinis.There is no charge to participate in the group\,\nbut commitment to attend all sessions is required. Please register through the\ncalendar by February 18th. \nOrganized by: Beth Israel Congregation \nView event on Jlive: https://jlive.app/events/14289
URL:https://www.jewishannarbor.org/event/mussar-with-roann-altman-6/
LOCATION:Beth Israel Congregation 2000 Washtenaw Ave\, Ann Arbor
CATEGORIES:Adults,Parking (free)
ATTACH;FMTTYPE=image/png:https://www.jewishannarbor.org/wp-content/uploads/2026/02/JL-Mussar_Class_1-JJqZuT.png
ORGANIZER;CN="Beth Israel Congregation":MAILTO:office@bethisrael-aa.org
END:VEVENT
BEGIN:VEVENT
DTSTART;VALUE=DATE:20260515
DTEND;VALUE=DATE:20260516
DTSTAMP:20260423T154534
CREATED:20200625T190930Z
LAST-MODIFIED:20200625T190930Z
UID:10003045-1778803200-1778889599@www.jewishannarbor.org
SUMMARY:Yom Yerushalayim
DESCRIPTION:Jerusalem Day
URL:https://www.jewishannarbor.org/event/yom-yerushalayim-7/
END:VEVENT
BEGIN:VEVENT
DTSTART;VALUE=DATE:20260517
DTEND;VALUE=DATE:20260518
DTSTAMP:20260423T154534
CREATED:20200625T190931Z
LAST-MODIFIED:20200625T190931Z
UID:10003046-1778976000-1779062399@www.jewishannarbor.org
SUMMARY:Rosh Chodesh Sivan
DESCRIPTION:Beginning of new Hebrew month of Sivan
URL:https://www.jewishannarbor.org/event/rosh-chodesh-sivan-7/
END:VEVENT
BEGIN:VEVENT
DTSTART;TZID=America/Detroit:20260517T160000
DTEND;TZID=America/Detroit:20260517T173000
DTSTAMP:20260423T154534
CREATED:20260412T034922Z
LAST-MODIFIED:20260412T034922Z
UID:10006244-1779033600-1779039000@www.jewishannarbor.org
SUMMARY:ORT Movie Group
DESCRIPTION:The ORT Movie Group meets at 4PM on Zoom on May 17 as an exception\, to avoid Mother’s Day. The group selects two movies to watch on our own (through streaming sites) and discuss each month.\nFor more information about membership\, to see the list of movies we have watched\, or for contact information\, check the website.  Membership in ORT is required.\nThe website is ortannarbor.org.  Look for the Movie Group page for the latest schedule information.
URL:https://www.jewishannarbor.org/event/ort-movie-group-32/
CATEGORIES:ORT America, Ann Arbor Chapter
ORGANIZER;CN="Gretta Spier":MAILTO:Gretspier@gmail.com
END:VEVENT
BEGIN:VEVENT
DTSTART;TZID=America/Detroit:20260518T190000
DTEND;TZID=America/Detroit:20260518T210000
DTSTAMP:20260423T154534
CREATED:20250912T193828Z
LAST-MODIFIED:20250912T193828Z
UID:10005966-1779130800-1779138000@www.jewishannarbor.org
SUMMARY:FED: Board Meeting
DESCRIPTION:
URL:https://www.jewishannarbor.org/event/fed-board-meeting-31/
CATEGORIES:Community,Jewish Federation of Greater Ann Arbor
END:VEVENT
BEGIN:VEVENT
DTSTART;TZID=America/Detroit:20260519T180000
DTEND;TZID=America/Detroit:20260519T203000
DTSTAMP:20260423T154534
CREATED:20260326T185014Z
LAST-MODIFIED:20260326T185014Z
UID:10006216-1779213600-1779222600@www.jewishannarbor.org
SUMMARY:Israeli Nifgashim
DESCRIPTION:ישראלים נפגשים\nהרצאה קצרה\, שיחה וחברים\n3 gatherings for Israelis in Hebrew.\nOn February 24th Aviv Touitou Certified aromatherapist and social worker\nspeaks about Aromatherapy – The Power of Essential Oils to Support & Heal the\nBody & Mind.\nOn March 24th Ariel Levi\, DDS\, Orthodontist speaks about the Basics of\nOrthodontics.\nOn May 19th Tomer Stern\, PhD\, MSc\, Assistant Professor at the University of\nMichigan School of Dentistry speaks about Advancing Skeletal Pathology\nResearch Through Computational Biology. \nOrganized by: Jewish Federation of Greater Ann Arbor \nView event on Jlive: https://jlive.app/events/14765
URL:https://www.jewishannarbor.org/event/israeli-nifgashim-4/
LOCATION:Ann Arbor \, Ann Arbor
CATEGORIES:Adults,Beverages (non alcoholic),Educational,Hebrew and Yiddish,Hebrew Speaking,Israel,Parking (free),Special Guest
ATTACH;FMTTYPE=image/jpeg:https://www.jewishannarbor.org/wp-content/uploads/2026/03/Israelim_Nifgashim_Series_Flyer_960_x_600_px_date_3_1-j2Us2b.jpg
ORGANIZER;CN="Jewish Federation of Greater Ann Arbor":MAILTO:info@jewishannarbor.org
END:VEVENT
BEGIN:VEVENT
DTSTART;TZID=America/Detroit:20260520T190000
DTEND;TZID=America/Detroit:20260520T203000
DTSTAMP:20260423T154534
CREATED:20250821T180314Z
LAST-MODIFIED:20250821T180314Z
UID:10005942-1779303600-1779309000@www.jewishannarbor.org
SUMMARY:JCC: Film Discussion Group with Russ Collins
DESCRIPTION:
URL:https://www.jewishannarbor.org/event/jcc-film-discussion-group-with-russ-collins/2026-05-20/
CATEGORIES:Jewish Community Center of Greater Ann Arbor
END:VEVENT
BEGIN:VEVENT
DTSTART;TZID=America/Detroit:20260520T193000
DTEND;TZID=America/Detroit:20260520T210000
DTSTAMP:20260423T154534
CREATED:20250730T194719Z
LAST-MODIFIED:20250730T194719Z
UID:10005883-1779305400-1779310800@www.jewishannarbor.org
SUMMARY:ORT Book Group
DESCRIPTION:The ORT Book Group is open to all women who are members of ORT America. The schedule\, book list and contacts can be found on our website: ortannarbor.org. During the winter\, we meet on zoom. Members are sent the zoom link. Otherwise\, we meet at the JCC.\n​All dates are Wednesdays at 7:30 unless otherwise noted.
URL:https://www.jewishannarbor.org/event/ort-book-group-52/2026-05-20/
LOCATION:Jewish Community Center of Ann Arbor\, 2935 Birch Hollow Drive\, Ann Arbor\, MI\, 48108\, United States
ORGANIZER;CN="Gretta Spier":MAILTO:Gretspier@gmail.com
END:VEVENT
BEGIN:VEVENT
DTSTART;VALUE=DATE:20260521
DTEND;VALUE=DATE:20260522
DTSTAMP:20260423T154534
CREATED:20200625T190932Z
LAST-MODIFIED:20200625T190932Z
UID:10003047-1779321600-1779407999@www.jewishannarbor.org
SUMMARY:Erev Shavuot
DESCRIPTION:Festival of Weeks; commemorates the giving of the Torah at Mount Sinai
URL:https://www.jewishannarbor.org/event/erev-shavuot-8/
END:VEVENT
BEGIN:VEVENT
DTSTART;VALUE=DATE:20260522
DTEND;VALUE=DATE:20260523
DTSTAMP:20260423T154534
CREATED:20200625T190932Z
LAST-MODIFIED:20200625T190932Z
UID:10003048-1779408000-1779494399@www.jewishannarbor.org
SUMMARY:Shavuot I
DESCRIPTION:Festival of Weeks; commemorates the giving of the Torah at Mount Sinai
URL:https://www.jewishannarbor.org/event/shavuot-i-7/
END:VEVENT
BEGIN:VEVENT
DTSTART;TZID=America/Detroit:20260522T183000
DTEND;TZID=America/Detroit:20260522T210000
DTSTAMP:20260423T154534
CREATED:20260327T151603Z
LAST-MODIFIED:20260327T151603Z
UID:10006217-1779474600-1779483600@www.jewishannarbor.org
SUMMARY:Fourth Friday Kabbalat Shabbat + Potluck
DESCRIPTION:Join AARC for Friday Night services followed by community potluck. \nThe JCC is a meat and nut free campus — please bring vegetarian and nut-free\ndishes and desserts to share! \nOrganized by: Ann Arbor Reconstructionist Congregation \nView event on Jlive: https://jlive.app/events/15195
URL:https://www.jewishannarbor.org/event/fourth-friday-kabbalat-shabbat-potluck-3/
LOCATION:Jewish Community Center of Greater Ann Arbor 2935 Birch Hollow Dr\, Ann Arbor
CATEGORIES:All Ages,Parking (free),Vegetarian Friendly,Wheelchair Accessible
ATTACH;FMTTYPE=image/jpeg:https://www.jewishannarbor.org/wp-content/uploads/2026/03/JLIVE_Logo-Tefphi.jpg
ORGANIZER;CN="Ann Arbor Reconstructionist Congregation":MAILTO:director@aarecon.org
END:VEVENT
BEGIN:VEVENT
DTSTART;VALUE=DATE:20260523
DTEND;VALUE=DATE:20260524
DTSTAMP:20260423T154534
CREATED:20200625T190933Z
LAST-MODIFIED:20200625T190933Z
UID:10003049-1779494400-1779580799@www.jewishannarbor.org
SUMMARY:Shavuot II
DESCRIPTION:Festival of Weeks; commemorates the giving of the Torah at Mount Sinai
URL:https://www.jewishannarbor.org/event/shavuot-ii-7/
END:VEVENT
BEGIN:VEVENT
DTSTART;TZID=America/Detroit:20260527T190000
DTEND;TZID=America/Detroit:20260527T210000
DTSTAMP:20260423T154534
CREATED:20240916T175416Z
LAST-MODIFIED:20240917T142932Z
UID:10005463-1779908400-1779915600@www.jewishannarbor.org
SUMMARY:FED: Annual Meeting
DESCRIPTION:Mark your Calendar for the 2025 Federation Annual Meeting\nAdditional details and registration link coming soon!
URL:https://www.jewishannarbor.org/event/fed-annual-meeting-3/2026-05-27/
LOCATION:Jewish Community Center of Ann Arbor\, 2935 Birch Hollow Drive\, Ann Arbor\, MI\, 48108\, United States
CATEGORIES:Jewish Federation of Greater Ann Arbor,Jewish Federation of Greater Ann Arbor - General
ORGANIZER;CN="Jewish Federation of Greater Ann Arbor":MAILTO:info@jewishannarbor.org
END:VEVENT
BEGIN:VEVENT
DTSTART;TZID=America/Detroit:20260527T190000
DTEND;TZID=America/Detroit:20260527T210000
DTSTAMP:20260423T154534
CREATED:20260327T151604Z
LAST-MODIFIED:20260327T151604Z
UID:10006218-1779908400-1779915600@www.jewishannarbor.org
SUMMARY:2026 Jewish Federation of Greater Ann Arbor's Annual Meeting
DESCRIPTION:_Annual Meeting for the Jewish Federation of Greater Ann Arbor. At this\nmeeting we will highlight our efforts and impacts. We will celebrate our\nPillars: Philanthropy\, Engagement & Convening. We will celebrate this years\naccomplishments and share challenges. We will celebrate the many people whose\nefforts help us cultivate a thriving Jewish community. During our annual\nmeeting we share our appreciation outgoing officers and board members and\nwelcome new members to the board and to new roles._ \nOrganized by: Jewish Federation of Greater Ann Arbor
URL:https://www.jewishannarbor.org/event/2026-jewish-federation-of-greater-ann-arbors-annual-meeting/
LOCATION:Jewish Community Center of Greater Ann Arbor 2935 Birch Hollow Dr\, Ann Arbor
CATEGORIES:Adults,Arts & Culture,Beverages (non alcoholic),Cocktails and Drinks,Desserts provided,Educational,Food Provided,General,Kosher,Leadership,Older Adults,Parking (free),Philanthropy,Presentation,Volunteering,WiFi,Young Adults
ORGANIZER;CN="Jewish Federation of Greater Ann Arbor":MAILTO:info@jewishannarbor.org
END:VEVENT
BEGIN:VEVENT
DTSTART;TZID=America/Detroit:20260528T190000
DTEND;TZID=America/Detroit:20260528T203000
DTSTAMP:20260423T154534
CREATED:20260204T165246Z
LAST-MODIFIED:20260204T170728Z
UID:10006131-1779994800-1780000200@www.jewishannarbor.org
SUMMARY:Mussar with Roann Altman
DESCRIPTION:2 Thursdays a month from 7:00-8:30pm in the G&S 2010 Building\, beginning\nFebruary 26th and continuing on 3/12\, 3/26\, 416\, 4/30\, 5/14\, and 5/28. Join a\nstudy group (_va’ad_) with Mussar-trained facilitator Roann Altman to uncover\nhow we can transform our lives one step at a time. After leading groups for 13\nyears and a 6-year Covid hiatus\, Roann returns to bring wisdom from Mussar\nmasters for living a more meaningful and Jewish-based life. Participants are\nasked to purchase\, and bring to the first meeting\, the Mussar text _Everyday\nHoliness_ \, by Alan Morinis.There is no charge to participate in the group\,\nbut commitment to attend all sessions is required. Please register through the\ncalendar by February 18th. \nOrganized by: Beth Israel Congregation \nView event on Jlive: https://jlive.app/events/14289
URL:https://www.jewishannarbor.org/event/mussar-with-roann-altman-7/
LOCATION:Beth Israel Congregation 2000 Washtenaw Ave\, Ann Arbor
CATEGORIES:Adults,Parking (free)
ATTACH;FMTTYPE=image/png:https://www.jewishannarbor.org/wp-content/uploads/2026/02/JL-Mussar_Class_1-JJqZuT.png
ORGANIZER;CN="Beth Israel Congregation":MAILTO:office@bethisrael-aa.org
END:VEVENT
BEGIN:VEVENT
DTSTART;VALUE=DATE:20260602
DTEND;VALUE=DATE:20260603
DTSTAMP:20260423T154534
CREATED:20250820T134125Z
LAST-MODIFIED:20260120T173947Z
UID:10005932-1780358400-1780444799@www.jewishannarbor.org
SUMMARY:JCC Spotlight Event
DESCRIPTION:
URL:https://www.jewishannarbor.org/event/spotlight-event/
LOCATION:Jewish Community Center of Ann Arbor\, 2935 Birch Hollow Drive\, Ann Arbor\, MI\, 48108\, United States
CATEGORIES:Jewish Community Center of Greater Ann Arbor
END:VEVENT
BEGIN:VEVENT
DTSTART;TZID=America/Detroit:20260602T180000
DTEND;TZID=America/Detroit:20260602T220000
DTSTAMP:20260423T154534
CREATED:20260327T151606Z
LAST-MODIFIED:20260327T151606Z
UID:10006219-1780423200-1780437600@www.jewishannarbor.org
SUMMARY:JCC Spotlight to Summer Celebration - SPONSORSHIP OPPORTUNITIES
DESCRIPTION:Step into the spotlight and join us for an unforgettable evening celebrating\ncommunity\, connection\, and impact of the JCC of Greater Ann Arbor. \nThis year\, we proudly mark **40 years of the JCC** \, while shining our\nbrightest spotlight on honoree **Leslie Bash\,**  whose extraordinary\ndedication and impact have helped shape our community in lasting ways.\nThe evening will also feature world-renowned musical mentalist **Sidney\nFriedman** \, delivering an interactive performance that will amaze and\ndelight. \nCelebrate\, connect\, and be part of a night where our community truly takes\ncenter stage. \nOrganized by: JCC of Greater Ann Arbor
URL:https://www.jewishannarbor.org/event/jcc-spotlight-to-summer-celebration-sponsorship-opportunities/
LOCATION:The Kensington Hotel 3500 S State St\, Ann Arbor
CATEGORIES:Adults,Arrival / Check In,Beverages (non alcoholic),Cocktails and Drinks,Desserts provided,Finger Food,Food Provided,Kosher,Kosher Food,Older Adults,Parents,Parking (free),Philanthropy,Special Guest,Vegetarian Friendly
ATTACH;FMTTYPE=image/jpeg:https://www.jewishannarbor.org/wp-content/uploads/2026/03/Spotlight_to_Summer_JLive_3-JY9vzs.jpg
ORGANIZER;CN="JCC of Greater Ann Arbor":MAILTO:jcc@jccannarbor.org
END:VEVENT
BEGIN:VEVENT
DTSTART;TZID=America/Detroit:20260602T180000
DTEND;TZID=America/Detroit:20260602T220000
DTSTAMP:20260423T154534
CREATED:20260327T151611Z
LAST-MODIFIED:20260327T151611Z
UID:10006220-1780423200-1780437600@www.jewishannarbor.org
SUMMARY:JCC Spotlight to Summer Celebration - GENERAL ADMISSION TICKETS
DESCRIPTION:Step into the spotlight and join us for an unforgettable evening celebrating\ncommunity\, connection\, and impact of the JCC of Greater Ann Arbor. \nThis year\, we proudly mark **40 years of the JCC** \, while shining our\nbrightest spotlight on honoree **Leslie Bash\,**  whose extraordinary\ndedication and impact have helped shape our community in lasting ways.\nThe evening will also feature world-renowned musical mentalist **Sidney\nFriedman** \, delivering an interactive performance that will amaze and\ndelight. \nCelebrate\, connect\, and be part of a night where our community truly takes\ncenter stage. \nOrganized by: JCC of Greater Ann Arbor
URL:https://www.jewishannarbor.org/event/jcc-spotlight-to-summer-celebration-general-admission-tickets/
LOCATION:The Kensington Hotel 3500 S State St\, Ann Arbor
CATEGORIES:Adults,Arrival / Check In,Beverages (non alcoholic),Cocktails and Drinks,Desserts provided,Finger Food,Food Provided,Kosher,Kosher Food,Older Adults,Parents,Parking (free),Philanthropy,Special Guest,Vegetarian Friendly
ATTACH;FMTTYPE=image/jpeg:https://www.jewishannarbor.org/wp-content/uploads/2026/03/Spotlight_to_Summer_JLive_2-nLmTqs.jpg
ORGANIZER;CN="JCC of Greater Ann Arbor":MAILTO:jcc@jccannarbor.org
END:VEVENT
BEGIN:VEVENT
DTSTART;TZID=America/Detroit:20260607T150000
DTEND;TZID=America/Detroit:20260607T170000
DTSTAMP:20260423T154534
CREATED:20260122T180608Z
LAST-MODIFIED:20260122T180608Z
UID:10006073-1780844400-1780851600@www.jewishannarbor.org
SUMMARY:JFS' Got Talent
DESCRIPTION:
URL:https://www.jewishannarbor.org/event/jfs-got-talent-2/
END:VEVENT
BEGIN:VEVENT
DTSTART;TZID=America/Detroit:20260609T120000
DTEND;TZID=America/Detroit:20260609T130000
DTSTAMP:20260423T154534
CREATED:20250814T162156Z
LAST-MODIFIED:20251030T192534Z
UID:10005922-1781006400-1781010000@www.jewishannarbor.org
SUMMARY:JCC: Book Series Lunch & Learn - Dog by Yishay Ishi Ron
DESCRIPTION:Dog by Yishay Ishi Ron\nDog is a poignant and unflinching exploration of the search for meaning after the  wreckage of war\, told through the eyes of an Israeli combat officer returning from Gaza.  Haunted by trauma\, he spirals into heroin addiction\, finding himself among Tel Aviv’s  community of misfit junkies—until a stray dog enters his life and becomes a beacon  of hope\, guiding him through a transformative journey marked by despair\, resilience\, and ultimately hope for salvation.   \nBeyond its deeply personal narrative\, Dog offers a raw and immersive examination of PTSD’s mechanisms—how extreme stress\, moral injury\, and the experience of combat  can rewire the brain\, making a return to civilian life seem nearly impossible. With  sharp social critique and profound emotional depth\, the novel sheds light on invisible  wounds and those who carry them\, while illustrating the therapeutic power of a simple  soulful connection\, and how the path to redemption can be illuminated in the most  unexpected of ways.   \nYishay Ishi Ron is an Israeli writer and former soldier in an elite combat unit who lives with severe PTSD. Writing has been a vital part of his healing journey\, and Dog is deeply rooted in his personal experiences. Dog was longlisted for the Sapir Prize – Israel’s most prestigious literary award. He lives near Tel Aviv with his wife and three children. 
URL:https://www.jewishannarbor.org/event/dog-by-yishay-ishi-ron/
LOCATION:Jewish Community Center of Ann Arbor\, 2935 Birch Hollow Drive\, Ann Arbor\, MI\, 48108\, United States
CATEGORIES:Jewish Community Center of Greater Ann Arbor
ATTACH;FMTTYPE=image/jpeg:https://www.jewishannarbor.org/wp-content/uploads/2025/08/9798992645231_p0_v1_s600x595.jpg
END:VEVENT
BEGIN:VEVENT
DTSTART;TZID=America/Detroit:20260609T120000
DTEND;TZID=America/Detroit:20260609T140000
DTSTAMP:20260423T154534
CREATED:20260327T151616Z
LAST-MODIFIED:20260327T151616Z
UID:10006221-1781006400-1781013600@www.jewishannarbor.org
SUMMARY:Jewish Book Series: Lunch & Learn with Ron Ishay
DESCRIPTION:Organized by: JCC of Greater Ann Arbor
URL:https://www.jewishannarbor.org/event/jewish-book-series-lunch-learn-with-ron-ishay/
ORGANIZER;CN="JCC of Greater Ann Arbor":MAILTO:jcc@jccannarbor.org
END:VEVENT
BEGIN:VEVENT
DTSTART;TZID=America/Detroit:20260613T103000
DTEND;TZID=America/Detroit:20260613T120000
DTSTAMP:20260423T154534
CREATED:20260327T151618Z
LAST-MODIFIED:20260327T151618Z
UID:10006222-1781346600-1781352000@www.jewishannarbor.org
SUMMARY:Second Saturday Shabbat Morning Services
DESCRIPTION:Please join Ann Arbor Reconstructionist Congregation for a lovely Shabbat\nmorning of music\, prayer\, and community\, led by Rabbi Gabrielle Pescador. All\nare welcome. \nOrganized by: Ann Arbor Reconstructionist Congregation \nView event on Jlive: https://jlive.app/events/15196
URL:https://www.jewishannarbor.org/event/second-saturday-shabbat-morning-services-3/
LOCATION:Jewish Community Center of Greater Ann Arbor 2935 Birch Hollow Dr\, Ann Arbor
CATEGORIES:All Ages,Parking (free),Wheelchair Accessible
ATTACH;FMTTYPE=image/jpeg:https://www.jewishannarbor.org/wp-content/uploads/2026/03/JLIVE_Logo-TM79et.jpg
ORGANIZER;CN="Ann Arbor Reconstructionist Congregation":MAILTO:director@aarecon.org
END:VEVENT
BEGIN:VEVENT
DTSTART;TZID=America/Detroit:20260614T160000
DTEND;TZID=America/Detroit:20260614T173000
DTSTAMP:20260423T154534
CREATED:20250730T195221Z
LAST-MODIFIED:20260412T034555Z
UID:10005894-1781452800-1781458200@www.jewishannarbor.org
SUMMARY:ORT Movie Group
DESCRIPTION:The ORT Movie Group meets at 4PM on Zoom on the second Sunday of the month\, with some exceptions (holidays\, etc.).  The group selects two movies to\nwatch on our own (through streaming sites) and discuss each month.\nFor more information about membership\, to see the list of movies we have watched\, or for contact information\, check the website.  Membership in ORT is required.\nThe website is ortannarbor.org.  Look for the Movie Group page for the latest schedule information.
URL:https://www.jewishannarbor.org/event/ort-movie-group-31/2026-06-14/
LOCATION:Zoom
ORGANIZER;CN="Gretta Spier":MAILTO:Gretspier@gmail.com
END:VEVENT
BEGIN:VEVENT
DTSTART;VALUE=DATE:20260615
DTEND;VALUE=DATE:20260616
DTSTAMP:20260423T154534
CREATED:20200625T190936Z
LAST-MODIFIED:20200625T190936Z
UID:10003050-1781481600-1781567999@www.jewishannarbor.org
SUMMARY:Rosh Chodesh Tamuz
DESCRIPTION:Beginning of new Hebrew month of Tamuz
URL:https://www.jewishannarbor.org/event/rosh-chodesh-tamuz-13/
END:VEVENT
BEGIN:VEVENT
DTSTART;TZID=America/Detroit:20260615T190000
DTEND;TZID=America/Detroit:20260615T210000
DTSTAMP:20260423T154534
CREATED:20250912T194003Z
LAST-MODIFIED:20250912T194003Z
UID:10005967-1781550000-1781557200@www.jewishannarbor.org
SUMMARY:FED: Board Meeting
DESCRIPTION:
URL:https://www.jewishannarbor.org/event/fed-board-meeting-32/
CATEGORIES:Community,Jewish Federation of Greater Ann Arbor
END:VEVENT
BEGIN:VEVENT
DTSTART;VALUE=DATE:20260616
DTEND;VALUE=DATE:20260617
DTSTAMP:20260423T154534
CREATED:20200625T190938Z
LAST-MODIFIED:20200625T190938Z
UID:10003051-1781568000-1781654399@www.jewishannarbor.org
SUMMARY:Rosh Chodesh Tamuz
DESCRIPTION:Beginning of new Hebrew month of Tamuz
URL:https://www.jewishannarbor.org/event/rosh-chodesh-tamuz-14/
END:VEVENT
BEGIN:VEVENT
DTSTART;TZID=America/Detroit:20260617T193000
DTEND;TZID=America/Detroit:20260617T210000
DTSTAMP:20260423T154534
CREATED:20250730T194719Z
LAST-MODIFIED:20250730T194719Z
UID:10005884-1781724600-1781730000@www.jewishannarbor.org
SUMMARY:ORT Book Group
DESCRIPTION:The ORT Book Group is open to all women who are members of ORT America. The schedule\, book list and contacts can be found on our website: ortannarbor.org. During the winter\, we meet on zoom. Members are sent the zoom link. Otherwise\, we meet at the JCC.\n​All dates are Wednesdays at 7:30 unless otherwise noted.
URL:https://www.jewishannarbor.org/event/ort-book-group-52/2026-06-17/
LOCATION:Jewish Community Center of Ann Arbor\, 2935 Birch Hollow Drive\, Ann Arbor\, MI\, 48108\, United States
ORGANIZER;CN="Gretta Spier":MAILTO:Gretspier@gmail.com
END:VEVENT
BEGIN:VEVENT
DTSTART;TZID=America/Detroit:20260619T000000
DTEND;TZID=America/Detroit:20260621T000000
DTSTAMP:20260423T154534
CREATED:20260327T151620Z
LAST-MODIFIED:20260327T151620Z
UID:10006223-1781827200-1782000000@www.jewishannarbor.org
SUMMARY:TBE Retreat
DESCRIPTION:Miracles surround us every day\, but we often don’t notice them. The theme of\nour weekend retreat is Nisim b’Chol Yom\, or “Everyday Miracles.” Through\nprayer\, text\, song\, and community\, surrounded by the beauty of Northern\nMichigan\, we will explore the daily miracles we encounter within and around\nus. \nOrganized by: Temple Beth Emeth \nView event on Jlive: https://jlive.app/events/15152
URL:https://www.jewishannarbor.org/event/tbe-retreat/
LOCATION:Ralph A. MacMullan Conference Center Conservation Dr\, Roscommon
CATEGORIES:Adults,College Students,Grandparents,Older Adults,Young Adults
ATTACH;FMTTYPE=image/jpeg:https://www.jewishannarbor.org/wp-content/uploads/2026/03/Retreat_Flyer_Click_FINAL-pzPzKA.jpg
ORGANIZER;CN="Temple Beth Emeth":MAILTO:tbe@templebethemeth.org
END:VEVENT
BEGIN:VEVENT
DTSTART;TZID=America/Detroit:20260625T140000
DTEND;TZID=America/Detroit:20260625T160000
DTSTAMP:20260423T154534
CREATED:20250814T161315Z
LAST-MODIFIED:20250821T162735Z
UID:10005920-1782396000-1782403200@www.jewishannarbor.org
SUMMARY:JCC: Trauma-Informed Art/Somatic Therapy
DESCRIPTION:
URL:https://www.jewishannarbor.org/event/trauma-informed-art-somatic-therapy/
LOCATION:Jewish Community Center of Ann Arbor\, 2935 Birch Hollow Drive\, Ann Arbor\, MI\, 48108\, United States
CATEGORIES:Jewish Community Center of Greater Ann Arbor
END:VEVENT
END:VCALENDAR