BEGIN:VCALENDAR
VERSION:2.0
PRODID:-//Jewish Federation of Greater Ann Arbor - ECPv6.15.17.1//NONSGML v1.0//EN
CALSCALE:GREGORIAN
METHOD:PUBLISH
X-WR-CALNAME:Jewish Federation of Greater Ann Arbor
X-ORIGINAL-URL:https://www.jewishannarbor.org
X-WR-CALDESC:Events for Jewish Federation of Greater Ann Arbor
REFRESH-INTERVAL;VALUE=DURATION:PT1H
X-Robots-Tag:noindex
X-PUBLISHED-TTL:PT1H
BEGIN:VTIMEZONE
TZID:America/Detroit
BEGIN:DAYLIGHT
TZOFFSETFROM:-0500
TZOFFSETTO:-0400
TZNAME:EDT
DTSTART:20250309T070000
END:DAYLIGHT
BEGIN:STANDARD
TZOFFSETFROM:-0400
TZOFFSETTO:-0500
TZNAME:EST
DTSTART:20251102T060000
END:STANDARD
BEGIN:DAYLIGHT
TZOFFSETFROM:-0500
TZOFFSETTO:-0400
TZNAME:EDT
DTSTART:20260308T070000
END:DAYLIGHT
BEGIN:STANDARD
TZOFFSETFROM:-0400
TZOFFSETTO:-0500
TZNAME:EST
DTSTART:20261101T060000
END:STANDARD
BEGIN:DAYLIGHT
TZOFFSETFROM:-0500
TZOFFSETTO:-0400
TZNAME:EDT
DTSTART:20270314T070000
END:DAYLIGHT
BEGIN:STANDARD
TZOFFSETFROM:-0400
TZOFFSETTO:-0500
TZNAME:EST
DTSTART:20271107T060000
END:STANDARD
END:VTIMEZONE
BEGIN:VEVENT
DTSTART;TZID=America/Detroit:20260607T150000
DTEND;TZID=America/Detroit:20260607T170000
DTSTAMP:20260425T120937
CREATED:20260122T180608Z
LAST-MODIFIED:20260122T180608Z
UID:10006073-1780844400-1780851600@www.jewishannarbor.org
SUMMARY:JFS' Got Talent
DESCRIPTION:
URL:https://www.jewishannarbor.org/event/jfs-got-talent-2/
END:VEVENT
BEGIN:VEVENT
DTSTART;TZID=America/Detroit:20260609T120000
DTEND;TZID=America/Detroit:20260609T130000
DTSTAMP:20260425T120937
CREATED:20250814T162156Z
LAST-MODIFIED:20251030T192534Z
UID:10005922-1781006400-1781010000@www.jewishannarbor.org
SUMMARY:JCC: Book Series Lunch & Learn - Dog by Yishay Ishi Ron
DESCRIPTION:Dog by Yishay Ishi Ron\nDog is a poignant and unflinching exploration of the search for meaning after the  wreckage of war\, told through the eyes of an Israeli combat officer returning from Gaza.  Haunted by trauma\, he spirals into heroin addiction\, finding himself among Tel Aviv’s  community of misfit junkies—until a stray dog enters his life and becomes a beacon  of hope\, guiding him through a transformative journey marked by despair\, resilience\, and ultimately hope for salvation.   \nBeyond its deeply personal narrative\, Dog offers a raw and immersive examination of PTSD’s mechanisms—how extreme stress\, moral injury\, and the experience of combat  can rewire the brain\, making a return to civilian life seem nearly impossible. With  sharp social critique and profound emotional depth\, the novel sheds light on invisible  wounds and those who carry them\, while illustrating the therapeutic power of a simple  soulful connection\, and how the path to redemption can be illuminated in the most  unexpected of ways.   \nYishay Ishi Ron is an Israeli writer and former soldier in an elite combat unit who lives with severe PTSD. Writing has been a vital part of his healing journey\, and Dog is deeply rooted in his personal experiences. Dog was longlisted for the Sapir Prize – Israel’s most prestigious literary award. He lives near Tel Aviv with his wife and three children. 
URL:https://www.jewishannarbor.org/event/dog-by-yishay-ishi-ron/
LOCATION:Jewish Community Center of Ann Arbor\, 2935 Birch Hollow Drive\, Ann Arbor\, MI\, 48108\, United States
CATEGORIES:Jewish Community Center of Greater Ann Arbor
ATTACH;FMTTYPE=image/jpeg:https://www.jewishannarbor.org/wp-content/uploads/2025/08/9798992645231_p0_v1_s600x595.jpg
END:VEVENT
BEGIN:VEVENT
DTSTART;TZID=America/Detroit:20260609T120000
DTEND;TZID=America/Detroit:20260609T140000
DTSTAMP:20260425T120937
CREATED:20260327T151616Z
LAST-MODIFIED:20260327T151616Z
UID:10006221-1781006400-1781013600@www.jewishannarbor.org
SUMMARY:Jewish Book Series: Lunch & Learn with Ron Ishay
DESCRIPTION:Organized by: JCC of Greater Ann Arbor
URL:https://www.jewishannarbor.org/event/jewish-book-series-lunch-learn-with-ron-ishay/
ORGANIZER;CN="JCC of Greater Ann Arbor":MAILTO:jcc@jccannarbor.org
END:VEVENT
BEGIN:VEVENT
DTSTART;TZID=America/Detroit:20260613T103000
DTEND;TZID=America/Detroit:20260613T120000
DTSTAMP:20260425T120937
CREATED:20260327T151618Z
LAST-MODIFIED:20260327T151618Z
UID:10006222-1781346600-1781352000@www.jewishannarbor.org
SUMMARY:Second Saturday Shabbat Morning Services
DESCRIPTION:Please join Ann Arbor Reconstructionist Congregation for a lovely Shabbat\nmorning of music\, prayer\, and community\, led by Rabbi Gabrielle Pescador. All\nare welcome. \nOrganized by: Ann Arbor Reconstructionist Congregation \nView event on Jlive: https://jlive.app/events/15196
URL:https://www.jewishannarbor.org/event/second-saturday-shabbat-morning-services-3/
LOCATION:Jewish Community Center of Greater Ann Arbor 2935 Birch Hollow Dr\, Ann Arbor
CATEGORIES:All Ages,Parking (free),Wheelchair Accessible
ATTACH;FMTTYPE=image/jpeg:https://www.jewishannarbor.org/wp-content/uploads/2026/03/JLIVE_Logo-TM79et.jpg
ORGANIZER;CN="Ann Arbor Reconstructionist Congregation":MAILTO:director@aarecon.org
END:VEVENT
BEGIN:VEVENT
DTSTART;TZID=America/Detroit:20260614T160000
DTEND;TZID=America/Detroit:20260614T173000
DTSTAMP:20260425T120937
CREATED:20250730T195221Z
LAST-MODIFIED:20260412T034555Z
UID:10005894-1781452800-1781458200@www.jewishannarbor.org
SUMMARY:ORT Movie Group
DESCRIPTION:The ORT Movie Group meets at 4PM on Zoom on the second Sunday of the month\, with some exceptions (holidays\, etc.).  The group selects two movies to\nwatch on our own (through streaming sites) and discuss each month.\nFor more information about membership\, to see the list of movies we have watched\, or for contact information\, check the website.  Membership in ORT is required.\nThe website is ortannarbor.org.  Look for the Movie Group page for the latest schedule information.
URL:https://www.jewishannarbor.org/event/ort-movie-group-31/2026-06-14/
LOCATION:Zoom
ORGANIZER;CN="Gretta Spier":MAILTO:Gretspier@gmail.com
END:VEVENT
BEGIN:VEVENT
DTSTART;VALUE=DATE:20260615
DTEND;VALUE=DATE:20260616
DTSTAMP:20260425T120937
CREATED:20200625T190936Z
LAST-MODIFIED:20200625T190936Z
UID:10003050-1781481600-1781567999@www.jewishannarbor.org
SUMMARY:Rosh Chodesh Tamuz
DESCRIPTION:Beginning of new Hebrew month of Tamuz
URL:https://www.jewishannarbor.org/event/rosh-chodesh-tamuz-13/
END:VEVENT
BEGIN:VEVENT
DTSTART;TZID=America/Detroit:20260615T190000
DTEND;TZID=America/Detroit:20260615T210000
DTSTAMP:20260425T120937
CREATED:20250912T194003Z
LAST-MODIFIED:20250912T194003Z
UID:10005967-1781550000-1781557200@www.jewishannarbor.org
SUMMARY:FED: Board Meeting
DESCRIPTION:
URL:https://www.jewishannarbor.org/event/fed-board-meeting-32/
CATEGORIES:Community,Jewish Federation of Greater Ann Arbor
END:VEVENT
BEGIN:VEVENT
DTSTART;VALUE=DATE:20260616
DTEND;VALUE=DATE:20260617
DTSTAMP:20260425T120937
CREATED:20200625T190938Z
LAST-MODIFIED:20200625T190938Z
UID:10003051-1781568000-1781654399@www.jewishannarbor.org
SUMMARY:Rosh Chodesh Tamuz
DESCRIPTION:Beginning of new Hebrew month of Tamuz
URL:https://www.jewishannarbor.org/event/rosh-chodesh-tamuz-14/
END:VEVENT
BEGIN:VEVENT
DTSTART;TZID=America/Detroit:20260617T180000
DTEND;TZID=America/Detroit:20260617T210000
DTSTAMP:20260425T120937
CREATED:20260424T175110Z
LAST-MODIFIED:20260424T175110Z
UID:10006248-1781719200-1781730000@www.jewishannarbor.org
SUMMARY:ORT Book Group Discussion and Book Selection Pot Luck
DESCRIPTION:This is a combined meeting—a pot luck and planning for the next reading year—but also a discussion of the month’s book. For more information check our website\, ortannarbor.org.
URL:https://www.jewishannarbor.org/event/ort-book-group-discussion-and-book-selection-pot-luck/
LOCATION:Jewish Community Center of Ann Arbor\, 2935 Birch Hollow Drive\, Ann Arbor\, MI\, 48108\, United States
CATEGORIES:ORT America, Ann Arbor Chapter
ORGANIZER;CN="Gretta Spier":MAILTO:Gretspier@gmail.com
END:VEVENT
BEGIN:VEVENT
DTSTART;TZID=America/Detroit:20260619T000000
DTEND;TZID=America/Detroit:20260621T000000
DTSTAMP:20260425T120937
CREATED:20260327T151620Z
LAST-MODIFIED:20260327T151620Z
UID:10006223-1781827200-1782000000@www.jewishannarbor.org
SUMMARY:TBE Retreat
DESCRIPTION:Miracles surround us every day\, but we often don’t notice them. The theme of\nour weekend retreat is Nisim b’Chol Yom\, or “Everyday Miracles.” Through\nprayer\, text\, song\, and community\, surrounded by the beauty of Northern\nMichigan\, we will explore the daily miracles we encounter within and around\nus. \nOrganized by: Temple Beth Emeth \nView event on Jlive: https://jlive.app/events/15152
URL:https://www.jewishannarbor.org/event/tbe-retreat/
LOCATION:Ralph A. MacMullan Conference Center Conservation Dr\, Roscommon
CATEGORIES:Adults,College Students,Grandparents,Older Adults,Young Adults
ATTACH;FMTTYPE=image/jpeg:https://www.jewishannarbor.org/wp-content/uploads/2026/03/Retreat_Flyer_Click_FINAL-pzPzKA.jpg
ORGANIZER;CN="Temple Beth Emeth":MAILTO:tbe@templebethemeth.org
END:VEVENT
BEGIN:VEVENT
DTSTART;TZID=America/Detroit:20260625T140000
DTEND;TZID=America/Detroit:20260625T160000
DTSTAMP:20260425T120937
CREATED:20250814T161315Z
LAST-MODIFIED:20250821T162735Z
UID:10005920-1782396000-1782403200@www.jewishannarbor.org
SUMMARY:JCC: Trauma-Informed Art/Somatic Therapy
DESCRIPTION:
URL:https://www.jewishannarbor.org/event/trauma-informed-art-somatic-therapy/
LOCATION:Jewish Community Center of Ann Arbor\, 2935 Birch Hollow Drive\, Ann Arbor\, MI\, 48108\, United States
CATEGORIES:Jewish Community Center of Greater Ann Arbor
END:VEVENT
BEGIN:VEVENT
DTSTART;TZID=America/Detroit:20260626T183000
DTEND;TZID=America/Detroit:20260626T210000
DTSTAMP:20260425T120937
CREATED:20260327T161616Z
LAST-MODIFIED:20260327T161616Z
UID:10006224-1782498600-1782507600@www.jewishannarbor.org
SUMMARY:Fourth Friday Kabbalat Shabbat + Potluck
DESCRIPTION:Join AARC for Friday Night services followed by community potluck. \nThe JCC is a meat and nut free campus — please bring vegetarian and nut-free\ndishes and desserts to share! \nOrganized by: Ann Arbor Reconstructionist Congregation \nView event on Jlive: https://jlive.app/events/15195
URL:https://www.jewishannarbor.org/event/fourth-friday-kabbalat-shabbat-potluck-4/
LOCATION:Jewish Community Center of Greater Ann Arbor 2935 Birch Hollow Dr\, Ann Arbor
CATEGORIES:All Ages,Parking (free),Vegetarian Friendly,Wheelchair Accessible
ATTACH;FMTTYPE=image/jpeg:https://www.jewishannarbor.org/wp-content/uploads/2026/03/JLIVE_Logo-Tefphi.jpg
ORGANIZER;CN="Ann Arbor Reconstructionist Congregation":MAILTO:director@aarecon.org
END:VEVENT
BEGIN:VEVENT
DTSTART;TZID=America/Detroit:20260628T160000
DTEND;TZID=America/Detroit:20260628T180000
DTSTAMP:20260425T120937
CREATED:20260223T170622Z
LAST-MODIFIED:20260223T170622Z
UID:10006159-1782662400-1782669600@www.jewishannarbor.org
SUMMARY:A2 SummerFest Top of Park Community Meet Up
DESCRIPTION:
URL:https://www.jewishannarbor.org/event/a2-summerfest-top-of-park-community-meet-up/
END:VEVENT
BEGIN:VEVENT
DTSTART;TZID=America/Detroit:20260628T160000
DTEND;TZID=America/Detroit:20260628T180000
DTSTAMP:20260425T120937
CREATED:20260327T161624Z
LAST-MODIFIED:20260327T161624Z
UID:10006225-1782662400-1782669600@www.jewishannarbor.org
SUMMARY:A2 Summer Fest Jewish Community Meet Up
DESCRIPTION:Organized by: Jewish Federation of Greater Ann Arbor
URL:https://www.jewishannarbor.org/event/a2-summer-fest-jewish-community-meet-up/
ORGANIZER;CN="Jewish Federation of Greater Ann Arbor":MAILTO:info@jewishannarbor.org
END:VEVENT
BEGIN:VEVENT
DTSTART;VALUE=DATE:20260702
DTEND;VALUE=DATE:20260703
DTSTAMP:20260425T120937
CREATED:20200625T190938Z
LAST-MODIFIED:20200625T190938Z
UID:10003052-1782950400-1783036799@www.jewishannarbor.org
SUMMARY:Tzom Tammuz
DESCRIPTION:Fast commemorating breaching of the walls of Jerusalem before the destruction of the Second Temple
URL:https://www.jewishannarbor.org/event/tzom-tammuz-7/
END:VEVENT
BEGIN:VEVENT
DTSTART;TZID=America/Detroit:20260709T120000
DTEND;TZID=America/Detroit:20260709T140000
DTSTAMP:20260425T120937
CREATED:20250730T213051Z
LAST-MODIFIED:20250821T162726Z
UID:10005908-1783598400-1783605600@www.jewishannarbor.org
SUMMARY:JCC: Ann Arbor Jewish Book Series: Virtual Events
DESCRIPTION:
URL:https://www.jewishannarbor.org/event/ann-arbor-jewish-book-series-virtual-events/2026-07-09/
CATEGORIES:Jewish Community Center of Greater Ann Arbor
LOCATION:
END:VEVENT
BEGIN:VEVENT
DTSTART;TZID=America/Detroit:20260711T103000
DTEND;TZID=America/Detroit:20260711T120000
DTSTAMP:20260425T120937
CREATED:20260327T161629Z
LAST-MODIFIED:20260327T161629Z
UID:10006226-1783765800-1783771200@www.jewishannarbor.org
SUMMARY:Second Saturday Shabbat Morning Services
DESCRIPTION:Please join Ann Arbor Reconstructionist Congregation for a lovely Shabbat\nmorning of music\, prayer\, and community\, led by Rabbi Gabrielle Pescador. All\nare welcome. \nOrganized by: Ann Arbor Reconstructionist Congregation \nView event on Jlive: https://jlive.app/events/15196
URL:https://www.jewishannarbor.org/event/second-saturday-shabbat-morning-services-4/
LOCATION:Jewish Community Center of Greater Ann Arbor 2935 Birch Hollow Dr\, Ann Arbor
CATEGORIES:All Ages,Parking (free),Wheelchair Accessible
ATTACH;FMTTYPE=image/jpeg:https://www.jewishannarbor.org/wp-content/uploads/2026/03/JLIVE_Logo-TM79et.jpg
ORGANIZER;CN="Ann Arbor Reconstructionist Congregation":MAILTO:director@aarecon.org
END:VEVENT
BEGIN:VEVENT
DTSTART;TZID=America/Detroit:20260712T120000
DTEND;TZID=America/Detroit:20260712T170000
DTSTAMP:20260425T120937
CREATED:20260325T171542Z
LAST-MODIFIED:20260325T185139Z
UID:10006204-1783857600-1783875600@www.jewishannarbor.org
SUMMARY:Life & Legacy Community Celebration
DESCRIPTION:This event is by invitation only to those who have made a Life & Legacy commitment to one or more of Greater Ann Arbor’s 11 Life & Legacy partner organizations.
URL:https://www.jewishannarbor.org/event/life-legacy-community-celebration-2/
ATTACH;FMTTYPE=image/jpeg:https://www.jewishannarbor.org/wp-content/uploads/2026/03/jLive-2026-LL-Community-Celebration-Invite-960-x-600-px-2.jpg
END:VEVENT
BEGIN:VEVENT
DTSTART;VALUE=DATE:20260715
DTEND;VALUE=DATE:20260716
DTSTAMP:20260425T120937
CREATED:20200625T190938Z
LAST-MODIFIED:20200625T190938Z
UID:10003053-1784073600-1784159999@www.jewishannarbor.org
SUMMARY:Rosh Chodesh Av
DESCRIPTION:Beginning of new Hebrew month of Av
URL:https://www.jewishannarbor.org/event/rosh-chodesh-av-7/
END:VEVENT
BEGIN:VEVENT
DTSTART;TZID=America/Detroit:20260716T120000
DTEND;TZID=America/Detroit:20260716T140000
DTSTAMP:20260425T120937
CREATED:20260327T165511Z
LAST-MODIFIED:20260327T165511Z
UID:10006227-1784203200-1784210400@www.jewishannarbor.org
SUMMARY:Jewish Book Series: Jewish Magic Lunch & Learn
DESCRIPTION:Organized by: JCC of Greater Ann Arbor
URL:https://www.jewishannarbor.org/event/jewish-book-series-jewish-magic-lunch-learn/
ORGANIZER;CN="JCC of Greater Ann Arbor":MAILTO:jcc@jccannarbor.org
END:VEVENT
BEGIN:VEVENT
DTSTART;TZID=America/Detroit:20260716T140000
DTEND;TZID=America/Detroit:20260716T160000
DTSTAMP:20260425T120937
CREATED:20250814T174703Z
LAST-MODIFIED:20250905T192446Z
UID:10005923-1784210400-1784217600@www.jewishannarbor.org
SUMMARY:JCC: Amulet Making
DESCRIPTION:
URL:https://www.jewishannarbor.org/event/amulet-making/
LOCATION:Jewish Community Center of Ann Arbor\, 2935 Birch Hollow Drive\, Ann Arbor\, MI\, 48108\, United States
CATEGORIES:Jewish Community Center of Greater Ann Arbor
END:VEVENT
BEGIN:VEVENT
DTSTART;TZID=America/Detroit:20260716T140000
DTEND;TZID=America/Detroit:20260716T160000
DTSTAMP:20260425T120937
CREATED:20260327T165514Z
LAST-MODIFIED:20260327T165514Z
UID:10006228-1784210400-1784217600@www.jewishannarbor.org
SUMMARY:Jewish Amulet Making Workshop
DESCRIPTION:Organized by: JCC of Greater Ann Arbor
URL:https://www.jewishannarbor.org/event/jewish-amulet-making-workshop/
ORGANIZER;CN="JCC of Greater Ann Arbor":MAILTO:jcc@jccannarbor.org
END:VEVENT
BEGIN:VEVENT
DTSTART;TZID=America/Detroit:20260716T180000
DTEND;TZID=America/Detroit:20260716T193000
DTSTAMP:20260425T120937
CREATED:20250814T161630Z
LAST-MODIFIED:20250821T162710Z
UID:10005921-1784224800-1784230200@www.jewishannarbor.org
SUMMARY:JCC: Amster Gallery Exhibition with Jacob Smith
DESCRIPTION:
URL:https://www.jewishannarbor.org/event/amster-gallery-exhibition-with-jacob-smith/
LOCATION:Jewish Community Center of Ann Arbor\, 2935 Birch Hollow Drive\, Ann Arbor\, MI\, 48108\, United States
CATEGORIES:Jewish Community Center of Greater Ann Arbor
END:VEVENT
BEGIN:VEVENT
DTSTART;TZID=America/Detroit:20260716T180000
DTEND;TZID=America/Detroit:20260716T193000
DTSTAMP:20260425T120937
CREATED:20260327T165520Z
LAST-MODIFIED:20260327T165520Z
UID:10006229-1784224800-1784230200@www.jewishannarbor.org
SUMMARY:Amster Gallery
DESCRIPTION:Organized by: JCC of Greater Ann Arbor
URL:https://www.jewishannarbor.org/event/amster-gallery-2/
ORGANIZER;CN="JCC of Greater Ann Arbor":MAILTO:jcc@jccannarbor.org
END:VEVENT
BEGIN:VEVENT
DTSTART;VALUE=DATE:20260718
DTEND;VALUE=DATE:20260719
DTSTAMP:20260425T120937
CREATED:20200625T190939Z
LAST-MODIFIED:20200625T190939Z
UID:10003054-1784332800-1784419199@www.jewishannarbor.org
SUMMARY:Shabbat Chazon
DESCRIPTION:Shabbat before Tish’a B’Av (Shabbat of Prophecy/Shabbat of Vision)
URL:https://www.jewishannarbor.org/event/shabbat-chazon-7/
END:VEVENT
BEGIN:VEVENT
DTSTART;TZID=America/Detroit:20260719T140000
DTEND;TZID=America/Detroit:20260719T170000
DTSTAMP:20260425T120937
CREATED:20260327T165526Z
LAST-MODIFIED:20260327T165526Z
UID:10006230-1784469600-1784480400@www.jewishannarbor.org
SUMMARY:JCC Summer Carnivale
DESCRIPTION:Organized by: JCC of Greater Ann Arbor
URL:https://www.jewishannarbor.org/event/jcc-summer-carnivale/
ORGANIZER;CN="JCC of Greater Ann Arbor":MAILTO:jcc@jccannarbor.org
END:VEVENT
BEGIN:VEVENT
DTSTART;VALUE=DATE:20260722
DTEND;VALUE=DATE:20260723
DTSTAMP:20260425T120937
CREATED:20200625T190944Z
LAST-MODIFIED:20200625T190944Z
UID:10003055-1784678400-1784764799@www.jewishannarbor.org
SUMMARY:Erev Tish'a B'Av
DESCRIPTION:The Ninth of Av; fast commemorating the destruction of the two Temples
URL:https://www.jewishannarbor.org/event/erev-tisha-bav-8/
END:VEVENT
BEGIN:VEVENT
DTSTART;VALUE=DATE:20260723
DTEND;VALUE=DATE:20260724
DTSTAMP:20260425T120937
CREATED:20200625T190945Z
LAST-MODIFIED:20200625T190945Z
UID:10003056-1784764800-1784851199@www.jewishannarbor.org
SUMMARY:Tish'a B'Av
DESCRIPTION:The Ninth of Av; fast commemorating the destruction of the two Temples
URL:https://www.jewishannarbor.org/event/tisha-bav-8/
END:VEVENT
BEGIN:VEVENT
DTSTART;TZID=America/Detroit:20260723T183000
DTEND;TZID=America/Detroit:20260723T193000
DTSTAMP:20260425T120937
CREATED:20250814T175213Z
LAST-MODIFIED:20251030T192712Z
UID:10005904-1784831400-1784835000@www.jewishannarbor.org
SUMMARY:JCC: Book Series Lunch & Learn: Jewish Magic - Clare\, Bardugo\, Gold\, Yarros
DESCRIPTION:
URL:https://www.jewishannarbor.org/event/ann-arbor-jewish-book-series-in-person-events-11/
LOCATION:Jewish Community Center of Ann Arbor\, 2935 Birch Hollow Drive\, Ann Arbor\, MI\, 48108\, United States
CATEGORIES:Jewish Community Center of Greater Ann Arbor
END:VEVENT
BEGIN:VEVENT
DTSTART;TZID=America/Detroit:20260724T183000
DTEND;TZID=America/Detroit:20260724T210000
DTSTAMP:20260425T120938
CREATED:20260327T171615Z
LAST-MODIFIED:20260327T171615Z
UID:10006231-1784917800-1784926800@www.jewishannarbor.org
SUMMARY:Fourth Friday Kabbalat Shabbat + Potluck
DESCRIPTION:Join AARC for Friday Night services followed by community potluck. \nThe JCC is a meat and nut free campus — please bring vegetarian and nut-free\ndishes and desserts to share! \nOrganized by: Ann Arbor Reconstructionist Congregation \nView event on Jlive: https://jlive.app/events/15195
URL:https://www.jewishannarbor.org/event/fourth-friday-kabbalat-shabbat-potluck-5/
LOCATION:Jewish Community Center of Greater Ann Arbor 2935 Birch Hollow Dr\, Ann Arbor
CATEGORIES:All Ages,Parking (free),Vegetarian Friendly,Wheelchair Accessible
ATTACH;FMTTYPE=image/jpeg:https://www.jewishannarbor.org/wp-content/uploads/2026/03/JLIVE_Logo-Tefphi.jpg
ORGANIZER;CN="Ann Arbor Reconstructionist Congregation":MAILTO:director@aarecon.org
END:VEVENT
END:VCALENDAR