BEGIN:VCALENDAR
VERSION:2.0
PRODID:-//Jewish Federation of Greater Ann Arbor - ECPv6.15.17.1//NONSGML v1.0//EN
CALSCALE:GREGORIAN
METHOD:PUBLISH
X-WR-CALNAME:Jewish Federation of Greater Ann Arbor
X-ORIGINAL-URL:https://www.jewishannarbor.org
X-WR-CALDESC:Events for Jewish Federation of Greater Ann Arbor
REFRESH-INTERVAL;VALUE=DURATION:PT1H
X-Robots-Tag:noindex
X-PUBLISHED-TTL:PT1H
BEGIN:VTIMEZONE
TZID:America/Detroit
BEGIN:DAYLIGHT
TZOFFSETFROM:-0500
TZOFFSETTO:-0400
TZNAME:EDT
DTSTART:20240310T070000
END:DAYLIGHT
BEGIN:STANDARD
TZOFFSETFROM:-0400
TZOFFSETTO:-0500
TZNAME:EST
DTSTART:20241103T060000
END:STANDARD
BEGIN:DAYLIGHT
TZOFFSETFROM:-0500
TZOFFSETTO:-0400
TZNAME:EDT
DTSTART:20250309T070000
END:DAYLIGHT
BEGIN:STANDARD
TZOFFSETFROM:-0400
TZOFFSETTO:-0500
TZNAME:EST
DTSTART:20251102T060000
END:STANDARD
BEGIN:DAYLIGHT
TZOFFSETFROM:-0500
TZOFFSETTO:-0400
TZNAME:EDT
DTSTART:20260308T070000
END:DAYLIGHT
BEGIN:STANDARD
TZOFFSETFROM:-0400
TZOFFSETTO:-0500
TZNAME:EST
DTSTART:20261101T060000
END:STANDARD
END:VTIMEZONE
BEGIN:VEVENT
DTSTART;VALUE=DATE:20250726
DTEND;VALUE=DATE:20250727
DTSTAMP:20260425T102843
CREATED:20200625T190613Z
LAST-MODIFIED:20200625T190613Z
UID:10002971-1753488000-1753574399@www.jewishannarbor.org
SUMMARY:Rosh Chodesh Av
DESCRIPTION:Beginning of new Hebrew month of Av
URL:https://www.jewishannarbor.org/event/rosh-chodesh-av-6/
END:VEVENT
BEGIN:VEVENT
DTSTART;TZID=America/Detroit:20250728T183000
DTEND;TZID=America/Detroit:20250728T203000
DTSTAMP:20260425T102843
CREATED:20241007T151053Z
LAST-MODIFIED:20241007T151053Z
UID:10005512-1753727400-1753734600@www.jewishannarbor.org
SUMMARY:BIC: Hebrew Language Classes Start Again!
DESCRIPTION:We are offering Beginners Liturgical Hebrew and Intermediate Modern Hebrew. Please see registration page for more details.
URL:https://www.jewishannarbor.org/event/bic-hebrew-language-classes-start-again/2025-07-28/
LOCATION:Beth Israel Congregation\, 2000 Washtenaw Avenue\, Ann Arbor\, MI\, USA\, Ann Arbor\, MI\, 48108\, United States
CATEGORIES:Beth Israel Congregation,Community,Educational
ORGANIZER;CN="Beth Israel Congregation":MAILTO:office@bethisrael-aa.org
END:VEVENT
BEGIN:VEVENT
DTSTART;TZID=America/Detroit:20250731T183000
DTEND;TZID=America/Detroit:20250731T200000
DTSTAMP:20260425T102843
CREATED:20250623T200207Z
LAST-MODIFIED:20250730T155432Z
UID:10005786-1753986600-1753992000@www.jewishannarbor.org
SUMMARY:Jewish Life on Campus 101
DESCRIPTION:Register Here
URL:https://www.jewishannarbor.org/event/pre-college-workshop-for-jewish-freshman/
LOCATION:Ann Arbor District Library\, Pittsfield Branch\, 2359 Oak Valley Dr\, Ann Arbor\, 48103\, United States
CATEGORIES:Chabad House,Community,Educational,Jewish Federation of Greater Ann Arbor,Jewish Federation of Greater Ann Arbor - General,UM Hillel
ATTACH;FMTTYPE=application/pdf:https://www.jewishannarbor.org/wp-content/uploads/2025/06/Invitation-Jewish-Life-on-Campus-101-1.pdf
ORGANIZER;CN="Jewish Federation of Greater Ann Arbor":MAILTO:info@jewishannarbor.org
END:VEVENT
BEGIN:VEVENT
DTSTART;VALUE=DATE:20250802
DTEND;VALUE=DATE:20250803
DTSTAMP:20260425T102843
CREATED:20200625T190613Z
LAST-MODIFIED:20200625T190613Z
UID:10002972-1754092800-1754179199@www.jewishannarbor.org
SUMMARY:Shabbat Chazon
DESCRIPTION:Shabbat before Tish’a B’Av (Shabbat of Prophecy/Shabbat of Vision)
URL:https://www.jewishannarbor.org/event/shabbat-chazon-6/
END:VEVENT
BEGIN:VEVENT
DTSTART;VALUE=DATE:20250802
DTEND;VALUE=DATE:20250803
DTSTAMP:20260425T102843
CREATED:20200625T190613Z
LAST-MODIFIED:20200625T190613Z
UID:10002973-1754092800-1754179199@www.jewishannarbor.org
SUMMARY:Erev Tish'a B'Av
DESCRIPTION:The Ninth of Av; fast commemorating the destruction of the two Temples
URL:https://www.jewishannarbor.org/event/erev-tisha-bav-7/
END:VEVENT
BEGIN:VEVENT
DTSTART;VALUE=DATE:20250803
DTEND;VALUE=DATE:20250804
DTSTAMP:20260425T102843
CREATED:20200625T190614Z
LAST-MODIFIED:20200625T190614Z
UID:10002974-1754179200-1754265599@www.jewishannarbor.org
SUMMARY:Tish'a B'Av
DESCRIPTION:The Ninth of Av; fast commemorating the destruction of the two Temples
URL:https://www.jewishannarbor.org/event/tisha-bav-7/
END:VEVENT
BEGIN:VEVENT
DTSTART;VALUE=DATE:20250803
DTEND;VALUE=DATE:20250809
DTSTAMP:20260425T102843
CREATED:20241106T205531Z
LAST-MODIFIED:20241106T205531Z
UID:10005552-1754179200-1754697599@www.jewishannarbor.org
SUMMARY:2025 JCC Maccabi Campus Games
DESCRIPTION:
URL:https://www.jewishannarbor.org/event/2025-jcc-maccabi-campus-games/
CATEGORIES:Jewish Community Center of Greater Ann Arbor
END:VEVENT
BEGIN:VEVENT
DTSTART;TZID=America/Detroit:20250803T160000
DTEND;TZID=America/Detroit:20250803T210000
DTSTAMP:20260425T102843
CREATED:20250605T160029Z
LAST-MODIFIED:20250605T161124Z
UID:10005765-1754236800-1754254800@www.jewishannarbor.org
SUMMARY:Renaissance Mud Hens Game
DESCRIPTION:
URL:https://www.jewishannarbor.org/event/renaissance-mud-hens-game/
CATEGORIES:Temple Beth Emeth
ATTACH;FMTTYPE=image/jpeg:https://www.jewishannarbor.org/wp-content/uploads/2025/06/RG-Mud-Hens-Game-2.jpg
ORGANIZER;CN="Temple Beth Emeth":MAILTO:tbe@templebethemeth.org
END:VEVENT
BEGIN:VEVENT
DTSTART;TZID=America/Detroit:20250804T183000
DTEND;TZID=America/Detroit:20250804T203000
DTSTAMP:20260425T102843
CREATED:20241007T151053Z
LAST-MODIFIED:20241007T151053Z
UID:10005513-1754332200-1754339400@www.jewishannarbor.org
SUMMARY:BIC: Hebrew Language Classes Start Again!
DESCRIPTION:We are offering Beginners Liturgical Hebrew and Intermediate Modern Hebrew. Please see registration page for more details.
URL:https://www.jewishannarbor.org/event/bic-hebrew-language-classes-start-again/2025-08-04/
LOCATION:Beth Israel Congregation\, 2000 Washtenaw Avenue\, Ann Arbor\, MI\, USA\, Ann Arbor\, MI\, 48108\, United States
CATEGORIES:Beth Israel Congregation,Community,Educational
ORGANIZER;CN="Beth Israel Congregation":MAILTO:office@bethisrael-aa.org
END:VEVENT
BEGIN:VEVENT
DTSTART;TZID=America/Detroit:20250807T190000
DTEND;TZID=America/Detroit:20250807T210000
DTSTAMP:20260425T102843
CREATED:20250624T133519Z
LAST-MODIFIED:20250627T180402Z
UID:10005788-1754593200-1754600400@www.jewishannarbor.org
SUMMARY:HDS Trivia Night
DESCRIPTION:Join us in our new Anna Schwalb Memorial Library at Hebrew Day School of Ann Arbor for an evening of trivia (children’s literature themed–nostalgic and current). \nWe welcome our alumni\, parents\, grandparents\, and community members (21+) for an evening of socializing\, drinks\, light refreshments\, and trivia. \nSuggested donation of $5 per person. \nRSVP here by 8/1. Space is limited. \n 
URL:https://www.jewishannarbor.org/event/hds-tu-bav-trivia-night/
LOCATION:Hebrew Day School of AA\, 2937 Birch Hollow Drive\, Ann Arbor\, MI\, 48108\, United States
ORGANIZER;CN="Hebrew Day School of Ann Arbor":MAILTO:office@hdsaa.org
END:VEVENT
BEGIN:VEVENT
DTSTART;TZID=America/Detroit:20250808T180000
DTEND;TZID=America/Detroit:20250808T200000
DTSTAMP:20260425T102843
CREATED:20250711T141733Z
LAST-MODIFIED:20250711T142551Z
UID:10005862-1754676000-1754683200@www.jewishannarbor.org
SUMMARY:BIC Shabbat in the Park
DESCRIPTION:
URL:https://www.jewishannarbor.org/event/bic-shabbat-in-the-park-3/
LOCATION:County Farm Park\, 2230 Platt Rd\, Ann Arbor\, MI\, 48104\, United States
CATEGORIES:Beth Israel Congregation,Community
ORGANIZER;CN="Beth Israel Congregation":MAILTO:office@bethisrael-aa.org
END:VEVENT
BEGIN:VEVENT
DTSTART;VALUE=DATE:20250809
DTEND;VALUE=DATE:20250810
DTSTAMP:20260425T102843
CREATED:20200625T190637Z
LAST-MODIFIED:20200625T190637Z
UID:10002975-1754697600-1754783999@www.jewishannarbor.org
SUMMARY:Shabbat Nachamu
DESCRIPTION:Shabbat after Tish’a B’Av (Shabbat of Consolation)
URL:https://www.jewishannarbor.org/event/shabbat-nachamu-6/
END:VEVENT
BEGIN:VEVENT
DTSTART;VALUE=DATE:20250809
DTEND;VALUE=DATE:20250810
DTSTAMP:20260425T102843
CREATED:20200625T190637Z
LAST-MODIFIED:20200625T190637Z
UID:10002976-1754697600-1754783999@www.jewishannarbor.org
SUMMARY:Tu B'Av
DESCRIPTION:minor Jewish holiday of love; observed on the 15th day of the Hebrew month of Av
URL:https://www.jewishannarbor.org/event/tu-bav-7/
END:VEVENT
BEGIN:VEVENT
DTSTART;VALUE=DATE:20250811
DTEND;VALUE=DATE:20250812
DTSTAMP:20260425T102843
CREATED:20241030T190243Z
LAST-MODIFIED:20250530T184107Z
UID:10005547-1754870400-1754956799@www.jewishannarbor.org
SUMMARY:JCC 10th Annual Golf Outing
DESCRIPTION:
URL:https://www.jewishannarbor.org/event/jcc-10th-annual-golf-outing/
LOCATION:The Polo Fields\, 5200 Polo Fields Drive\, Ann Arbor\, MI\, 48103
CATEGORIES:Jewish Community Center of Greater Ann Arbor
END:VEVENT
BEGIN:VEVENT
DTSTART;TZID=America/Detroit:20250811T183000
DTEND;TZID=America/Detroit:20250811T203000
DTSTAMP:20260425T102843
CREATED:20241007T151053Z
LAST-MODIFIED:20241007T151053Z
UID:10005514-1754937000-1754944200@www.jewishannarbor.org
SUMMARY:BIC: Hebrew Language Classes Start Again!
DESCRIPTION:We are offering Beginners Liturgical Hebrew and Intermediate Modern Hebrew. Please see registration page for more details.
URL:https://www.jewishannarbor.org/event/bic-hebrew-language-classes-start-again/2025-08-11/
LOCATION:Beth Israel Congregation\, 2000 Washtenaw Avenue\, Ann Arbor\, MI\, USA\, Ann Arbor\, MI\, 48108\, United States
CATEGORIES:Beth Israel Congregation,Community,Educational
ORGANIZER;CN="Beth Israel Congregation":MAILTO:office@bethisrael-aa.org
END:VEVENT
BEGIN:VEVENT
DTSTART;TZID=America/Detroit:20250811T183000
DTEND;TZID=America/Detroit:20250811T210000
DTSTAMP:20260425T102843
CREATED:20250730T133104Z
LAST-MODIFIED:20250730T133318Z
UID:10005874-1754937000-1754946000@www.jewishannarbor.org
SUMMARY:A Soviet Republic Heritage Dinner with Kachka\, LLC
DESCRIPTION:Bringing the Russian-Jewish experience to our table.\nMonday\, August 11th 6:30pm | $95\nAt the Roadhouse\, we are inspired daily by stories and tradition. On Monday\, August 11th\, we will connect you with one of the most meaningful yet. Join us as we learn about the story of how one woman’s escape from Nazi persecution in Belarus\, and the subsequent immigration of her son\, led to her granddaughter’s present day culinary success with connecting us to her Russian-Jewish heritage. \nThe Roadhouse is honored to host an incredible evening with Bonnie Morales\, James Beard Award-nominated Chef and Co-Owner of Kachka\, LLC. Opened in Portland in 2014\, Kachka features a menu and style of service firmly rooted in the Soviet era\, with nods even further back to both czarist excess and traditional rustic foodways. While Bonnie refers to the cuisine as Russian\, she is careful to explain that in her parents’ generation\, the word “Russia” is interchangeable with “Soviet Union”. The restaurant has been lauded in many publications in particular for its dishes inspired by Bonnie’s heritage as a first-generation daughter of Jewish immigrants from Belarus\, and its menu includes recipes from Russia\, Belarus\, Georgia\, the Ukraine\, and other countries that were formerly part of the Soviet Republic. \nThe extraordinary dishes Chef Bob will prepare for this dinner captures many of those deep and vibrant flavors Kachka is known for\, and are pulled from Bonnie’s cookbook\, Kachka: A Return to Russian Cooking. We are excited to offer four courses\, kicked off by Kachka’s beloved Zakuski\, a family style tradition of filling a table of assorted small bites. Do not miss out on some of the recipes Kachka is famous for\, including Ukrainian-style dumplings; a layered dish called Herring “Under a Fur Coat”; Shashlik\, a dish of kefir-marinated chicken; Golubtsi\, which are sweet and sour cabbage rolls made with beef\, lamb\, and pork; and so much more! Every bite will be a reflection of the importance of immigration to the preservation of culinary foodways\, as we hear all about Bonnie’s grandmother’s perseverance through wartime\, and her parents’ courage to later leave the former Soviet Union to start a new life in America. \nBonnie describes that her mission with Kachka is to “bring the food\, stories\, and feelings of all of these threads of the Russian experience to an entirely new table”\, and on August 11th she will bring it to ours. We can’t wait to savor the heartwarming food and inviting hospitality of one of the most renowned restaurateurs from Portland—right here in Ann Arbor for one evening only! We welcome you to come meet Bonnie\, and hear the incredible story of her family’s resilience as we taste her timeless recipes. \nMENU\nZakuski (Small Bites) Course – Family Style\nRecommended Vodka Pairing: Horseradish-Infused Vodka $4\nHerring “Under a Fur Coat”\nA layered salad of oil-cured herring\, dill\, onion\, potato\, carrot\, beet\, sunflower-beet mayonnaise\, and sieved eggs. \nBaltic Sprat Buterbrodi (V)\nPumpernickel toast canapes with parsley sauce\, hard boiled egg\, red wine pickled onions\, smoked herring\, and an herb salad. \nBeet Caviar-Stuffed Eggs (V)\nLike deviled eggs\, but the filling is a minced salad (in Russia\, known as vegetable caviar\, or ikra) of beet\, pickled celery heart\, prune\, and walnut. Garnished with sliced beet and celery leaf. \nBrindza Pashtet with Lepyoshki (V)\nA paprika and sheep’s milk cheese spread\, served with freshly grilled flatbreads. \nEggplant Pkhali Rolls (V)\nThinly sliced roasted eggplant\, with an eggplant\, walnut\, and herb filling. \nMid Course – Plated\n\nTvorog Vareniki (V)\nHandmade Ukrainian-style dumplings with farmer’s cheese and chive (a lot of people familiar with farmer’s cheese dumplings have only had them sweet so it is important to note that these are decidedly savory). Serves with sour cream and scallions. \nMains – Family Style\n\nRecommended Vodka Pairing: Tarragon-Infused Vodka $4\nChicken Shashlik with Dacha Salat & Lepyoshki\nChicken thighs marinated in a mixture of kefir\, cilantro\, and onion. Served with a salad of cucumbers\, tomatoes\, onions\, herbs\, and sour cream\, with freshly grilled flatbreads. \nSweet & Sour Golubtsi\nCabbage rolls filled with a mixture of lamb\, pork\, beef\, and rice. Seared and braised in a sauce made from tomatoes\, onions\, carrots\, and lingonberry jam. Served with sour cream. \nDessert\n\nRecommended Vodka Pairing: Cacao-Infused Vodka $4\nLocal Berries & Smetana Shortcake – Plated\nSeasonal berries macerated in sugar and sparkling wine\, served with lemon chiffon cake\, whipped vanilla sour cream\, and vanilla sugar. \nChocolate Kolbasa Cookies – Family Style\nA no-bake cookie that’s a bit more like a fudge\, studded with cookie pieces and hazelnuts. \nVodka\nKachka Infused Vodka Flight $10\nCreated from Kachka’s recipes\, a selection of 1 ounce infused vodka pours to sip with each course\, including horseradish\, tarragon\, and cacao. \n  \nSign Up Here\n 
URL:https://www.jewishannarbor.org/event/a-soviet-republic-heritage-dinner-with-kachka-llc/
LOCATION:Zingerman’s Roadhouse\, 2501 Jackson Ave\, Ann Arbor\, MI\, 48103\, United States
CATEGORIES:Community
ATTACH;FMTTYPE=image/jpeg:https://www.jewishannarbor.org/wp-content/uploads/2025/07/zingermans.jpg
END:VEVENT
BEGIN:VEVENT
DTSTART;TZID=America/Detroit:20250816T121500
DTEND;TZID=America/Detroit:20250816T131500
DTSTAMP:20260425T102843
CREATED:20250711T140813Z
LAST-MODIFIED:20250711T142515Z
UID:10005861-1755346500-1755350100@www.jewishannarbor.org
SUMMARY:BIC Torah Reading 202
DESCRIPTION:
URL:https://www.jewishannarbor.org/event/bic-torah-reading-202/
LOCATION:Beth Israel Congregation\, 2000 Washtenaw Avenue\, Ann Arbor\, MI\, USA\, Ann Arbor\, MI\, 48108\, United States
CATEGORIES:Beth Israel Congregation,Community
ORGANIZER;CN="Beth Israel Congregation":MAILTO:office@bethisrael-aa.org
END:VEVENT
BEGIN:VEVENT
DTSTART;TZID=America/Detroit:20250817T103000
DTEND;TZID=America/Detroit:20250817T130000
DTSTAMP:20260425T102843
CREATED:20250624T153110Z
LAST-MODIFIED:20250814T135220Z
UID:10005790-1755426600-1755435600@www.jewishannarbor.org
SUMMARY:FED: Community Wide Shinshinim Farewell/Welcome Party
DESCRIPTION:Join us for one final event with our current Shinshinim\, Danielle and Lahav!!\nHelp us thank them for everything they have done for our community and help us welcome our newest Shinshinim\, Carmel and Ori!\nLight Brunch Provided\nRegister Here
URL:https://www.jewishannarbor.org/event/fed-community-wide-shinshinim-farewell-welcome-party/
LOCATION:Gallup Park\, 3000 Fuller\, Ann Arbor\, MI\, 48105\, United States
CATEGORIES:Community,Israel Programming,Jewish Federation of Greater Ann Arbor - General
ATTACH;FMTTYPE=image/jpeg:https://www.jewishannarbor.org/wp-content/uploads/2025/06/Community-Shinshinim-Farewell-Flyer-smaller-2.jpg
END:VEVENT
BEGIN:VEVENT
DTSTART;TZID=America/Detroit:20250817T120000
DTEND;TZID=America/Detroit:20250817T140000
DTSTAMP:20260425T102843
CREATED:20250522T132913Z
LAST-MODIFIED:20250813T124204Z
UID:10005763-1755432000-1755439200@www.jewishannarbor.org
SUMMARY:Network: 3rd Annual Family Picnic
DESCRIPTION:Third Annual Family Picnic\, Sunday\, August 17\, 12n-2pm \nEveryone who self-identifies as Jewish and as a person of color is invited — along with their family and/or significant other: couples or single\, with or without children. Share good food\, great company\, and scintillating conversation\, lots of things for kids to do\, bountiful shade and sun. Bring a veggie dish to share. \nRegister Here
URL:https://www.jewishannarbor.org/event/network-3rd-annual-family-picnic/
CATEGORIES:Jewish People of Color Network
ATTACH;FMTTYPE=image/jpeg:https://www.jewishannarbor.org/wp-content/uploads/2025/05/network.jpg
ORGANIZER;CN="Jewish People of Color Network":MAILTO:greenedm@umich.edu
END:VEVENT
BEGIN:VEVENT
DTSTART;TZID=America/Detroit:20250817T160000
DTEND;TZID=America/Detroit:20250817T180000
DTSTAMP:20260425T102843
CREATED:20250624T131633Z
LAST-MODIFIED:20250624T131633Z
UID:10005787-1755446400-1755453600@www.jewishannarbor.org
SUMMARY:HDS New Family Welcome BBQ
DESCRIPTION:Hebrew Day School of Ann Arbor is hosting families new to the school for the coming year at the home of a local family. Join us to get to know each other\, ask questions\, kosher BBQ dinner\, and kids can play together.
URL:https://www.jewishannarbor.org/event/hds-new-family-welcome-bbq/
CATEGORIES:Hebrew Day School
ORGANIZER;CN="Hebrew Day School of Ann Arbor":MAILTO:office@hdsaa.org
END:VEVENT
BEGIN:VEVENT
DTSTART;TZID=America/Detroit:20250818T183000
DTEND;TZID=America/Detroit:20250818T203000
DTSTAMP:20260425T102843
CREATED:20241007T151053Z
LAST-MODIFIED:20241007T151053Z
UID:10005515-1755541800-1755549000@www.jewishannarbor.org
SUMMARY:BIC: Hebrew Language Classes Start Again!
DESCRIPTION:We are offering Beginners Liturgical Hebrew and Intermediate Modern Hebrew. Please see registration page for more details.
URL:https://www.jewishannarbor.org/event/bic-hebrew-language-classes-start-again/2025-08-18/
LOCATION:Beth Israel Congregation\, 2000 Washtenaw Avenue\, Ann Arbor\, MI\, USA\, Ann Arbor\, MI\, 48108\, United States
CATEGORIES:Beth Israel Congregation,Community,Educational
ORGANIZER;CN="Beth Israel Congregation":MAILTO:office@bethisrael-aa.org
END:VEVENT
BEGIN:VEVENT
DTSTART;TZID=America/Detroit:20250818T190000
DTEND;TZID=America/Detroit:20250818T203000
DTSTAMP:20260425T102843
CREATED:20250106T162451Z
LAST-MODIFIED:20250106T162745Z
UID:10005600-1755543600-1755549000@www.jewishannarbor.org
SUMMARY:Federation Board Meeting
DESCRIPTION:
URL:https://www.jewishannarbor.org/event/federation-board-meeting-3/2025-08-18/
LOCATION:Jewish Community Center of Ann Arbor\, 2935 Birch Hollow Drive\, Ann Arbor\, MI\, 48108\, United States
ORGANIZER;CN="Jewish Federation of Greater Ann Arbor":MAILTO:info@jewishannarbor.org
END:VEVENT
BEGIN:VEVENT
DTSTART;TZID=America/Detroit:20250819T110000
DTEND;TZID=America/Detroit:20250819T140000
DTSTAMP:20260425T102843
CREATED:20250624T150526Z
LAST-MODIFIED:20250703T153640Z
UID:10005789-1755601200-1755612000@www.jewishannarbor.org
SUMMARY:JCRC: Washtenaw Black Jewish Coalition tour of the Ann Arbor Underground Railroad
DESCRIPTION:Join JCRC and the Washtenaw Black-Jewish Coalition for an amazing tour of the Ann Arbor’s Underground Railroad. \n  \nRegistration details will be added soon
URL:https://www.jewishannarbor.org/event/fed-washtenaw-black-jewish-coalition-tour-of-the-ann-arbor-underground-railroad/
LOCATION:African American Cultural & Historical Museum\, 3261 Lohr Rd\, Ann Arbor\, MI\, 48108\, United States
CATEGORIES:Community,Educational,Jewish Community Relations Committee,Jewish Federation of Greater Ann Arbor,Jewish People of Color Network,NEXTGen A2
END:VEVENT
BEGIN:VEVENT
DTSTART;TZID=America/Detroit:20250823T110000
DTEND;TZID=America/Detroit:20250823T120000
DTSTAMP:20260425T102843
CREATED:20250711T142448Z
LAST-MODIFIED:20250711T142448Z
UID:10005865-1755946800-1755950400@www.jewishannarbor.org
SUMMARY:BIC Tot Shabbat
DESCRIPTION:
URL:https://www.jewishannarbor.org/event/bic-tot-shabbat-3/2025-08-23/
CATEGORIES:Beth Israel Congregation,Community
END:VEVENT
BEGIN:VEVENT
DTSTART;VALUE=DATE:20250824
DTEND;VALUE=DATE:20250825
DTSTAMP:20260425T102843
CREATED:20200625T190637Z
LAST-MODIFIED:20200625T190637Z
UID:10002977-1755993600-1756079999@www.jewishannarbor.org
SUMMARY:Rosh Chodesh Elul
DESCRIPTION:Beginning of new Hebrew month of Elul
URL:https://www.jewishannarbor.org/event/rosh-chodesh-elul-11/
END:VEVENT
BEGIN:VEVENT
DTSTART;TZID=America/Detroit:20250824T110000
DTEND;TZID=America/Detroit:20250824T140000
DTSTAMP:20260425T102843
CREATED:20250418T194222Z
LAST-MODIFIED:20250418T194222Z
UID:10005747-1756033200-1756044000@www.jewishannarbor.org
SUMMARY:TBE Annual Picnic
DESCRIPTION:
URL:https://www.jewishannarbor.org/event/tbe-annual-picnic/
LOCATION:Temple Beth Emeth\, 2309 Packard St\, Ann Arbor\, MI\, 48104\, United States
CATEGORIES:Temple Beth Emeth
ORGANIZER;CN="Temple Beth Emeth":MAILTO:tbe@templebethemeth.org
END:VEVENT
BEGIN:VEVENT
DTSTART;TZID=America/Detroit:20250824T140000
DTEND;TZID=America/Detroit:20250824T160000
DTSTAMP:20260425T102843
CREATED:20250513T181916Z
LAST-MODIFIED:20250513T181916Z
UID:10005759-1756044000-1756051200@www.jewishannarbor.org
SUMMARY:Multicultural Community Carnivale: JCC Music Series
DESCRIPTION:
URL:https://www.jewishannarbor.org/event/multicultural-community-carnivale-jcc-music-series/
LOCATION:Jewish Community Center of Ann Arbor\, 2935 Birch Hollow Drive\, Ann Arbor\, MI\, 48108\, United States
CATEGORIES:Jewish Community Center of Greater Ann Arbor
END:VEVENT
BEGIN:VEVENT
DTSTART;VALUE=DATE:20250825
DTEND;VALUE=DATE:20250826
DTSTAMP:20260425T102843
CREATED:20200625T190638Z
LAST-MODIFIED:20200625T190638Z
UID:10002978-1756080000-1756166399@www.jewishannarbor.org
SUMMARY:Rosh Chodesh Elul
DESCRIPTION:Beginning of new Hebrew month of Elul
URL:https://www.jewishannarbor.org/event/rosh-chodesh-elul-12/
END:VEVENT
BEGIN:VEVENT
DTSTART;TZID=America/Detroit:20250825T080000
DTEND;TZID=America/Detroit:20250825T093000
DTSTAMP:20260425T102843
CREATED:20250804T143923Z
LAST-MODIFIED:20250805T133410Z
UID:10005909-1756108800-1756114200@www.jewishannarbor.org
SUMMARY:JCLP: Community Welcome Breakfast
DESCRIPTION:The Jewish Communal Leadership Program (JCLP) is set to welcome its newest cohort\, the Class of 2027\, to the Ann Arbor Jewish community. \nThis year\, six incoming students will bring new diverse perspectives and experiences to JCLP and to the broader community. As usual\, JCLP will be kicking off the new academic year by hosting its annual Community Welcome Breakfast. Table conversations facilitated by JCLP students offer community members and university staff and faculty an opportunity to connect with new and returning students and with each other. This year’s breakfast offers an opportunity to create community at a challenging time and to prepare for the year ahead. Community members are warmly invited to this year’s Breakfast (catered by Amanda’s Kitchen) at Beth Israel Congregation on Monday\, August 25\, from 8:00 to 9:30 AM. \n  \nRSVP HERE: https://myumi.ch/E865M \nPlease RSVP by Monday\, August 18.
URL:https://www.jewishannarbor.org/event/jclp-community-welcome-breakfast/
LOCATION:Beth Israel Congregation\, 2000 Washtenaw Avenue\, Ann Arbor\, MI\, USA\, Ann Arbor\, MI\, 48108\, United States
CATEGORIES:Community,Educational,Jewish Communal Leadership Program
END:VEVENT
BEGIN:VEVENT
DTSTART;TZID=America/Detroit:20250825T163000
DTEND;TZID=America/Detroit:20250825T173000
DTSTAMP:20260425T102843
CREATED:20250707T182755Z
LAST-MODIFIED:20250707T182755Z
UID:10005792-1756139400-1756143000@www.jewishannarbor.org
SUMMARY:HDS Back to School Kick-Off
DESCRIPTION:
URL:https://www.jewishannarbor.org/event/hds-back-to-school-kick-off/
CATEGORIES:Hebrew Day School
END:VEVENT
END:VCALENDAR