BEGIN:VCALENDAR
VERSION:2.0
PRODID:-//Jewish Federation of Greater Ann Arbor - ECPv6.15.17.1//NONSGML v1.0//EN
CALSCALE:GREGORIAN
METHOD:PUBLISH
X-WR-CALNAME:Jewish Federation of Greater Ann Arbor
X-ORIGINAL-URL:https://www.jewishannarbor.org
X-WR-CALDESC:Events for Jewish Federation of Greater Ann Arbor
REFRESH-INTERVAL;VALUE=DURATION:PT1H
X-Robots-Tag:noindex
X-PUBLISHED-TTL:PT1H
BEGIN:VTIMEZONE
TZID:America/Detroit
BEGIN:DAYLIGHT
TZOFFSETFROM:-0500
TZOFFSETTO:-0400
TZNAME:EDT
DTSTART:20240310T070000
END:DAYLIGHT
BEGIN:STANDARD
TZOFFSETFROM:-0400
TZOFFSETTO:-0500
TZNAME:EST
DTSTART:20241103T060000
END:STANDARD
BEGIN:DAYLIGHT
TZOFFSETFROM:-0500
TZOFFSETTO:-0400
TZNAME:EDT
DTSTART:20250309T070000
END:DAYLIGHT
BEGIN:STANDARD
TZOFFSETFROM:-0400
TZOFFSETTO:-0500
TZNAME:EST
DTSTART:20251102T060000
END:STANDARD
BEGIN:DAYLIGHT
TZOFFSETFROM:-0500
TZOFFSETTO:-0400
TZNAME:EDT
DTSTART:20260308T070000
END:DAYLIGHT
BEGIN:STANDARD
TZOFFSETFROM:-0400
TZOFFSETTO:-0500
TZNAME:EST
DTSTART:20261101T060000
END:STANDARD
END:VTIMEZONE
BEGIN:VEVENT
DTSTART;TZID=America/Detroit:20250222T093000
DTEND;TZID=America/Detroit:20250222T130000
DTSTAMP:20260425T203733
CREATED:20250108T204716Z
LAST-MODIFIED:20250116T202432Z
UID:10005616-1740216600-1740229200@www.jewishannarbor.org
SUMMARY:BIC: Repro Shabbat with NCJW
DESCRIPTION:Please join us on February 22\, 2025 for an important shabbat highlighting reproductive health and public policy. Dr. Lantz will give a short talk after services\, then host a q&a session for those wanting to learn more about the state-level legal landscape for abortion post Dobbs decision; what we know from research about the many impacts of restrictive abortion policy on women and families;  as well as recent public policy strategies\, with a focus on state ballot initiatives and also some policy predictions regarding the new Trump administration. \nPaula Lantz\, PhD\, MS is the James B. Hudak Professor of Health Policy and director of undergraduate programs at the University of Michigan’s Gerald R. Ford School of Public Policy. She also is a University Professor of Diversity and Social Transformation and professor of health management and policy in the School of Public Health. Lantz\, a social demographer/social epidemiologist\, teaches and conducts research regarding the role of public policy in improving population health and reducing social disparities in health. An elected member of the National Academy of Medicine\, Dr. Lantz is currently engaged in research regarding reproductive health policy in the U.S. and the relationship between housing policy and health.
URL:https://www.jewishannarbor.org/event/bic-repro-shabbat-with-ncjw/
LOCATION:Beth Israel Congregation\, 2000 Washtenaw Avenue\, Ann Arbor\, MI\, USA\, Ann Arbor\, MI\, 48108\, United States
CATEGORIES:Beth Israel Congregation,Community,Educational,Religious
ORGANIZER;CN="Beth Israel Congregation":MAILTO:office@bethisrael-aa.org
END:VEVENT
BEGIN:VEVENT
DTSTART;TZID=America/Detroit:20250221T173000
DTEND;TZID=America/Detroit:20250221T183000
DTSTAMP:20260425T203733
CREATED:20250122T160403Z
LAST-MODIFIED:20250122T160403Z
UID:10005649-1740159000-1740162600@www.jewishannarbor.org
SUMMARY:TBE: LGBTQ Shabbat Potluck
DESCRIPTION:
URL:https://www.jewishannarbor.org/event/tbe-lgbtq-shabbat-potluck-3/
LOCATION:Temple Beth Emeth\, 2309 Packard St\, Ann Arbor\, MI\, 48104\, United States
CATEGORIES:Temple Beth Emeth
ORGANIZER;CN="Temple Beth Emeth":MAILTO:tbe@templebethemeth.org
END:VEVENT
BEGIN:VEVENT
DTSTART;TZID=America/Detroit:20250220T183000
DTEND;TZID=America/Detroit:20250220T204500
DTSTAMP:20260425T203733
CREATED:20250116T191521Z
LAST-MODIFIED:20250116T191521Z
UID:10005635-1740076200-1740084300@www.jewishannarbor.org
SUMMARY:Dungeons & Dragons: Oy Vey (K)nights
DESCRIPTION:
URL:https://www.jewishannarbor.org/event/dungeons-dragons-oy-vey-knights/2025-02-20/
LOCATION:Jewish Community Center of Ann Arbor\, 2935 Birch Hollow Drive\, Ann Arbor\, MI\, 48108\, United States
CATEGORIES:Jewish Community Center of Greater Ann Arbor
END:VEVENT
BEGIN:VEVENT
DTSTART;TZID=America/Detroit:20250220T180000
DTEND;TZID=America/Detroit:20250220T193000
DTSTAMP:20260425T203733
CREATED:20240620T150326Z
LAST-MODIFIED:20241210T183624Z
UID:10005350-1740074400-1740079800@www.jewishannarbor.org
SUMMARY:HDS Academic Fair
DESCRIPTION:Join us for dinner and visit our classrooms to see what our students have been learning throughout the year.
URL:https://www.jewishannarbor.org/event/hds-academic-fair-5/
CATEGORIES:Hebrew Day School
ORGANIZER;CN="Hebrew Day School of Ann Arbor":MAILTO:office@hdsaa.org
END:VEVENT
BEGIN:VEVENT
DTSTART;TZID=America/Detroit:20250219T193000
DTEND;TZID=America/Detroit:20250219T210000
DTSTAMP:20260425T203733
CREATED:20240816T150130Z
LAST-MODIFIED:20240816T150130Z
UID:10005399-1739993400-1739998800@www.jewishannarbor.org
SUMMARY:ORT Book Group
DESCRIPTION:The ORT Book Group meets on the third Wednesday of the month (barring complications). For information about membership or to see the list of books we are reading\, check the website. Some months\, particularly in the winter\, we meet on ZOOM. Membership in ORT is required. \nThe website is ortannarbor.org.
URL:https://www.jewishannarbor.org/event/ort-book-group-47/
LOCATION:Jewish Community Center of Ann Arbor\, 2935 Birch Hollow Drive\, Ann Arbor\, MI\, 48108\, United States
CATEGORIES:ORT America, Ann Arbor Chapter
ORGANIZER;CN="Gretta Spier":MAILTO:Gretspier@gmail.com
END:VEVENT
BEGIN:VEVENT
DTSTART;TZID=America/Detroit:20250218T193000
DTEND;TZID=America/Detroit:20250218T210000
DTSTAMP:20260425T203733
CREATED:20230830T192523Z
LAST-MODIFIED:20240809T141918Z
UID:10005053-1739907000-1739912400@www.jewishannarbor.org
SUMMARY:HDS Board Meeting
DESCRIPTION:
URL:https://www.jewishannarbor.org/event/hds-board-meeting-30/
LOCATION:Hebrew Day School of AA\, 2937 Birch Hollow Drive\, Ann Arbor\, MI\, 48108\, United States
END:VEVENT
BEGIN:VEVENT
DTSTART;TZID=America/Detroit:20250218T173000
DTEND;TZID=America/Detroit:20250218T190000
DTSTAMP:20260425T203733
CREATED:20250116T203933Z
LAST-MODIFIED:20250116T204003Z
UID:10005644-1739899800-1739905200@www.jewishannarbor.org
SUMMARY:Devotion & the Insatiable: An Artist Talk with Rudy Gerson
DESCRIPTION:Rudy Gerson is an artist and educator working across mediums of print\, still and moving image\, and performance. In this artist talk\, Rudy will share his practice\, which explores how the force of erotics is expressed in memory culture\, social life\, and historical inquiry. Recent film and video works will be screened and text works will be read. The talk will engage questions of sacredness and profanity and touch on queer poetics and the aesthetics of desire under conditions of opacity and loss.
URL:https://www.jewishannarbor.org/event/devotion-the-insatiable-an-artist-talk-with-rudy-gerson/
LOCATION:North Quadrangle Residential & Academic Complex\, 105 S State St.\, Ann Arbor\, MI\, 48109\, United States
CATEGORIES:Educational,UM Frankel Center for Judaic Studies
ATTACH;FMTTYPE=image/jpeg:https://www.jewishannarbor.org/wp-content/uploads/2025/01/rudygerson3_1-1.jpeg
ORGANIZER;CN="University of Michigan Frankel Center for Judaic Studies":MAILTO:JudaicStudies@umich.edu
END:VEVENT
BEGIN:VEVENT
DTSTART;TZID=America/Detroit:20250218T170000
DTEND;TZID=America/Detroit:20250218T183000
DTSTAMP:20260425T203733
CREATED:20250212T132907Z
LAST-MODIFIED:20250212T132907Z
UID:10005682-1739898000-1739903400@www.jewishannarbor.org
SUMMARY:RWI: Why is it so Difficult to Talk About the Conflict in Israel and Palestine
DESCRIPTION:This panel aims to unpack the contemporary implications of the conflict in our own campus community\, fostering a nuanced dialogue that acknowledges diverse perspectives and seeks pathways for understanding and continued dialogue across ideologies. Exploring the complexities and differing narratives surrounding the ongoing Israel-Palestine conflict\, panelists will discuss the ways in which various interpretations and representations shape public perception and policy\, and how they make emotions and communications around the topic difficult to navigate. \n\n  \n  \nThis panel will include experts from across the University of Michigan community\, including: \n\n– Mostafa Hussein: Assistant Professor\, Jean & Samuel Frankel Center for Judaic Studies\n– Aaron Rock-Singer: Research Fellow\, Raoul Wallenberg Institute; Lecturer\, Judaic and Middle East Studies\n-Karla Goldman: Sol Drachler Professor of Social Work; Director\, Jewish Communal Leadership Program; Professor\, Jean & Samuel Frankel Center for Judaic Studies\n-Jeffrey Veidlinger\, Moderator: Director\, Raoul Wallenberg Institute\, Joseph Brodsky Collegiate Professor of History and Judaic Studies \n\n\nREGISTER HERE\n  \nLearn more about the Raoul Wallenberg Institute HERE
URL:https://www.jewishannarbor.org/event/rwi-why-is-it-so-difficult-to-talk-about-the-conflict-in-israel-and-palestine/
END:VEVENT
BEGIN:VEVENT
DTSTART;TZID=America/Detroit:20250218T160000
DTEND;TZID=America/Detroit:20250218T170000
DTSTAMP:20260425T203733
CREATED:20250122T162336Z
LAST-MODIFIED:20250122T162336Z
UID:10005651-1739894400-1739898000@www.jewishannarbor.org
SUMMARY:TBE: Bereavement Group
DESCRIPTION:
URL:https://www.jewishannarbor.org/event/tbe-bereavement-group-2/
LOCATION:Temple Beth Emeth\, 2309 Packard St\, Ann Arbor\, MI\, 48104\, United States
CATEGORIES:Temple Beth Emeth
ORGANIZER;CN="Temple Beth Emeth":MAILTO:tbe@templebethemeth.org
END:VEVENT
BEGIN:VEVENT
DTSTART;TZID=America/Detroit:20250218T100000
DTEND;TZID=America/Detroit:20250218T110000
DTSTAMP:20260425T203733
CREATED:20250218T132556Z
LAST-MODIFIED:20250218T132556Z
UID:10005689-1739872800-1739876400@www.jewishannarbor.org
SUMMARY:Taste of Gan
DESCRIPTION:A Taste of Gan!\n\n\nJoin us for an open house on Sunday\, February 23rd\, where we welcome families with preschool-aged children to experience our warm community and participate in hands-on activities!\n\n\n\nRSVP to Susan at admissions@hdsaa.org. We can’t wait to see you there!
URL:https://www.jewishannarbor.org/event/taste-of-gan-4/
LOCATION:Hebrew Day School of AA\, 2937 Birch Hollow Drive\, Ann Arbor\, MI\, 48108\, United States
CATEGORIES:Hebrew Day School
ORGANIZER;CN="Hebrew Day School of Ann Arbor":MAILTO:office@hdsaa.org
END:VEVENT
BEGIN:VEVENT
DTSTART;TZID=America/Detroit:20250217T190000
DTEND;TZID=America/Detroit:20250217T210000
DTSTAMP:20260425T203733
CREATED:20250106T162451Z
LAST-MODIFIED:20250106T162745Z
UID:10005594-1739818800-1739826000@www.jewishannarbor.org
SUMMARY:Federation Board Meeting
DESCRIPTION:
URL:https://www.jewishannarbor.org/event/federation-board-meeting-3/2025-02-17/
LOCATION:Jewish Community Center of Ann Arbor\, 2935 Birch Hollow Drive\, Ann Arbor\, MI\, 48108\, United States
ORGANIZER;CN="Jewish Federation of Greater Ann Arbor":MAILTO:info@jewishannarbor.org
END:VEVENT
BEGIN:VEVENT
DTSTART;TZID=America/Detroit:20250217T183000
DTEND;TZID=America/Detroit:20250217T203000
DTSTAMP:20260425T203733
CREATED:20241007T151053Z
LAST-MODIFIED:20241007T151053Z
UID:10005489-1739817000-1739824200@www.jewishannarbor.org
SUMMARY:BIC: Hebrew Language Classes Start Again!
DESCRIPTION:We are offering Beginners Liturgical Hebrew and Intermediate Modern Hebrew. Please see registration page for more details.
URL:https://www.jewishannarbor.org/event/bic-hebrew-language-classes-start-again/2025-02-17/
LOCATION:Beth Israel Congregation\, 2000 Washtenaw Avenue\, Ann Arbor\, MI\, USA\, Ann Arbor\, MI\, 48108\, United States
CATEGORIES:Beth Israel Congregation,Community,Educational
ORGANIZER;CN="Beth Israel Congregation":MAILTO:office@bethisrael-aa.org
END:VEVENT
BEGIN:VEVENT
DTSTART;TZID=America/Detroit:20250216T173000
DTEND;TZID=America/Detroit:20250216T200000
DTSTAMP:20260425T203733
CREATED:20250109T190328Z
LAST-MODIFIED:20250204T194427Z
UID:10005618-1739727000-1739736000@www.jewishannarbor.org
SUMMARY:NEXTGen and BIC present Trivia Night!
DESCRIPTION:Join us for Trivia Night! We will have prizes\, drinks\, snacks\, and FUN! Each $10 ticket comes with two drink tickets. Teams of 3-6 welcome OR register without a team and you’ll be given a team! Childcare available and each entrant gets two drink tickets! \nA partner event with NEXTGen and Beth Israel Congregation
URL:https://www.jewishannarbor.org/event/bic-trivia-night/
LOCATION:Beth Israel Congregation\, 2000 Washtenaw Avenue\, Ann Arbor\, MI\, USA\, Ann Arbor\, MI\, 48108\, United States
CATEGORIES:Beth Israel Congregation,Community,Jewish Young Professionals,NEXTGen A2
ATTACH;FMTTYPE=image/jpeg:https://www.jewishannarbor.org/wp-content/uploads/2025/01/Feb-16-final.jpg
ORGANIZER;CN="Beth Israel Congregation":MAILTO:office@bethisrael-aa.org
END:VEVENT
BEGIN:VEVENT
DTSTART;TZID=America/Detroit:20250216T140000
DTEND;TZID=America/Detroit:20250216T160000
DTSTAMP:20260425T203733
CREATED:20250108T160305Z
LAST-MODIFIED:20250108T160305Z
UID:10005602-1739714400-1739721600@www.jewishannarbor.org
SUMMARY:Community Tu B'Shevat - Growing Minds: Reading Opens Doors
DESCRIPTION:
URL:https://www.jewishannarbor.org/event/community-tu-bshevat-growing-minds-reading-opens-doors/
LOCATION:Jewish Community Center of Ann Arbor\, 2935 Birch Hollow Drive\, Ann Arbor\, MI\, 48108\, United States
CATEGORIES:Jewish Community Center of Greater Ann Arbor
END:VEVENT
BEGIN:VEVENT
DTSTART;TZID=America/Detroit:20250214T184500
DTEND;TZID=America/Detroit:20250214T193000
DTSTAMP:20260425T203733
CREATED:20250122T162238Z
LAST-MODIFIED:20250122T162238Z
UID:10005650-1739558700-1739561400@www.jewishannarbor.org
SUMMARY:TBE: Family Camp
DESCRIPTION:
URL:https://www.jewishannarbor.org/event/tbe-family-camp-2/
LOCATION:Temple Beth Emeth\, 2309 Packard St\, Ann Arbor\, MI\, 48104\, United States
CATEGORIES:Temple Beth Emeth
ORGANIZER;CN="Temple Beth Emeth":MAILTO:tbe@templebethemeth.org
END:VEVENT
BEGIN:VEVENT
DTSTART;TZID=America/Detroit:20250213T183000
DTEND;TZID=America/Detroit:20250213T204500
DTSTAMP:20260425T203733
CREATED:20250116T191521Z
LAST-MODIFIED:20250116T191521Z
UID:10005634-1739471400-1739479500@www.jewishannarbor.org
SUMMARY:Dungeons & Dragons: Oy Vey (K)nights
DESCRIPTION:
URL:https://www.jewishannarbor.org/event/dungeons-dragons-oy-vey-knights/2025-02-13/
LOCATION:Jewish Community Center of Ann Arbor\, 2935 Birch Hollow Drive\, Ann Arbor\, MI\, 48108\, United States
CATEGORIES:Jewish Community Center of Greater Ann Arbor
END:VEVENT
BEGIN:VEVENT
DTSTART;TZID=America/Detroit:20250213T180000
DTEND;TZID=America/Detroit:20250213T190000
DTSTAMP:20260425T203733
CREATED:20250122T160244Z
LAST-MODIFIED:20250122T160244Z
UID:10005648-1739469600-1739473200@www.jewishannarbor.org
SUMMARY:TBE: Brotherhood: Guys Night Out
DESCRIPTION:
URL:https://www.jewishannarbor.org/event/tbe-brotherhood-guys-night-out-3/
LOCATION:Zamaan\, 865 Eisenhower Parkway\, Ann Arbor\, Michigan\, 48103
CATEGORIES:Temple Beth Emeth
ORGANIZER;CN="Temple Beth Emeth":MAILTO:tbe@templebethemeth.org
END:VEVENT
BEGIN:VEVENT
DTSTART;VALUE=DATE:20250213
DTEND;VALUE=DATE:20250214
DTSTAMP:20260425T203733
CREATED:20200625T190338Z
LAST-MODIFIED:20200625T190338Z
UID:10002933-1739404800-1739491199@www.jewishannarbor.org
SUMMARY:Tu BiShvat
DESCRIPTION:New Year for Trees
URL:https://www.jewishannarbor.org/event/tu-bishvat-6/
END:VEVENT
BEGIN:VEVENT
DTSTART;TZID=America/Detroit:20250212T190000
DTEND;TZID=America/Detroit:20250212T203000
DTSTAMP:20260425T203733
CREATED:20250209T002533Z
LAST-MODIFIED:20250209T002533Z
UID:10005678-1739386800-1739392200@www.jewishannarbor.org
SUMMARY:BIC: Annual Tu B'Shvat Seder
DESCRIPTION:The seder is free but registration is required.
URL:https://www.jewishannarbor.org/event/bic-annual-tu-bshvat-seder/
LOCATION:Beth Israel Congregation\, 2000 Washtenaw Avenue\, Ann Arbor\, MI\, USA\, Ann Arbor\, MI\, 48108\, United States
CATEGORIES:Beth Israel Congregation,Community,Educational,Religious
ORGANIZER;CN="Beth Israel Congregation":MAILTO:office@bethisrael-aa.org
END:VEVENT
BEGIN:VEVENT
DTSTART;TZID=America/Detroit:20250212T190000
DTEND;TZID=America/Detroit:20250212T203000
DTSTAMP:20260425T203733
CREATED:20250116T192041Z
LAST-MODIFIED:20250116T192041Z
UID:10005637-1739386800-1739392200@www.jewishannarbor.org
SUMMARY:JCC Film Discussion Group
DESCRIPTION:
URL:https://www.jewishannarbor.org/event/jcc-film-discussion-group/2025-02-12/
LOCATION:Jewish Community Center of Ann Arbor\, 2935 Birch Hollow Drive\, Ann Arbor\, MI\, 48108\, United States
CATEGORIES:Jewish Community Center of Greater Ann Arbor
END:VEVENT
BEGIN:VEVENT
DTSTART;TZID=America/Detroit:20250211T190000
DTEND;TZID=America/Detroit:20250211T190000
DTSTAMP:20260425T203733
CREATED:20241203T190629Z
LAST-MODIFIED:20250114T193020Z
UID:10005560-1739300400-1739300400@www.jewishannarbor.org
SUMMARY:FED: Champagne and Charcuterie: A Tu B'Shvat Celebration
DESCRIPTION:Join us for an evening of friendship\, community\, food and fun. \nWe will have a chance to nibble and nosh as Liora Rosen leads us in a hands-on charcuterie design presentation. Each participant will leave with her own charcuterie board\, beautifully adorned with a variety of dried fruit\, cheese\, chocolate and more. \nRegister HERE by February 7th\n 
URL:https://www.jewishannarbor.org/event/fed-charcuterie-tu-bi-shvat-event/
LOCATION:Jewish Community Center of Ann Arbor\, 2935 Birch Hollow Drive\, Ann Arbor\, MI\, 48108\, United States
CATEGORIES:Jewish Federation of Greater Ann Arbor,Jewish Federation of Greater Ann Arbor - General,Women's Philanthropy
ATTACH;FMTTYPE=image/jpeg:https://www.jewishannarbor.org/wp-content/uploads/2024/12/Feb-2025-Womens-Champagne-and-Charcuterie-1.jpg
ORGANIZER;CN="Jewish Federation of Greater Ann Arbor":MAILTO:info@jewishannarbor.org
END:VEVENT
BEGIN:VEVENT
DTSTART;TZID=America/Detroit:20250210T190000
DTEND;TZID=America/Detroit:20250210T210000
DTSTAMP:20260425T203733
CREATED:20240708T144416Z
LAST-MODIFIED:20240708T144416Z
UID:10005361-1739214000-1739221200@www.jewishannarbor.org
SUMMARY:EMU Center for Jewish Studies
DESCRIPTION:Discussion of the Jewish Life and Language in Southeast Michigan program by two EMU professors of Linguistics
URL:https://www.jewishannarbor.org/event/emu-center-for-jewish-studies/
ORGANIZER;CN="Eastern Michigan University Center for Jewish Studies":MAILTO:jewish.studies@emich.edu
END:VEVENT
BEGIN:VEVENT
DTSTART;TZID=America/Detroit:20250210T183000
DTEND;TZID=America/Detroit:20250210T203000
DTSTAMP:20260425T203733
CREATED:20241007T151053Z
LAST-MODIFIED:20241007T151053Z
UID:10005488-1739212200-1739219400@www.jewishannarbor.org
SUMMARY:BIC: Hebrew Language Classes Start Again!
DESCRIPTION:We are offering Beginners Liturgical Hebrew and Intermediate Modern Hebrew. Please see registration page for more details.
URL:https://www.jewishannarbor.org/event/bic-hebrew-language-classes-start-again/2025-02-10/
LOCATION:Beth Israel Congregation\, 2000 Washtenaw Avenue\, Ann Arbor\, MI\, USA\, Ann Arbor\, MI\, 48108\, United States
CATEGORIES:Beth Israel Congregation,Community,Educational
ORGANIZER;CN="Beth Israel Congregation":MAILTO:office@bethisrael-aa.org
END:VEVENT
BEGIN:VEVENT
DTSTART;TZID=America/Detroit:20250209T143000
DTEND;TZID=America/Detroit:20250209T160000
DTSTAMP:20260425T203733
CREATED:20250115T212017Z
LAST-MODIFIED:20250115T212357Z
UID:10005622-1739111400-1739116800@www.jewishannarbor.org
SUMMARY:TBE: Finding Our Space of Refuge
DESCRIPTION:
URL:https://www.jewishannarbor.org/event/tbe-finding-our-space-of-refuge/
LOCATION:Temple Beth Emeth\, 2309 Packard St\, Ann Arbor\, MI\, 48104\, United States
CATEGORIES:Temple Beth Emeth
ORGANIZER;CN="Temple Beth Emeth":MAILTO:tbe@templebethemeth.org
END:VEVENT
BEGIN:VEVENT
DTSTART;TZID=America/Detroit:20250209T100000
DTEND;TZID=America/Detroit:20250209T120000
DTSTAMP:20260425T203733
CREATED:20241203T193402Z
LAST-MODIFIED:20250214T194530Z
UID:10005562-1739095200-1739102400@www.jewishannarbor.org
SUMMARY:FED: Jewish-Arab Relations Discussion Series
DESCRIPTION:Register Here\nDiscussion Series\nJewish-Arab Relations in Israel:\nSunday Jan. 12th 10:00AM:\nDr. Arik Cheshin to talk about the shared society in the Haifa University.\nIN-PERSON BRUNCH AT THE JCC \nFeb. 9 10AM:\n“Hand in Hand Schools”\nZOOM ONLY EVENT \nMar. 9 10AM:\n“A New Way”\nZOOM ONLY EVENT \nApr. 6 10AM:\nThe New Israel Fund CEO\, Mickey Gitzin\, talking about challenges and opportunities in the field of Shared society in Israel since Oct. 7\nZOOM ONLY EVENT \n*Different topics will be discussed at each event in the series. You are invited to attend any or all of them!*\nQuestions? Email info@jewishannarbor.org\n 
URL:https://www.jewishannarbor.org/event/fed-jewish-arab-relations-discussion-series/2025-02-09/
LOCATION:Jewish Community Center of Ann Arbor\, 2935 Birch Hollow Drive\, Ann Arbor\, MI\, 48108\, United States
CATEGORIES:Jewish Federation of Greater Ann Arbor,Jewish Federation of Greater Ann Arbor - General
ATTACH;FMTTYPE=image/jpeg:https://www.jewishannarbor.org/wp-content/uploads/2024/12/JA-relations-series-flyer-1.jpg
END:VEVENT
BEGIN:VEVENT
DTSTART;TZID=America/Detroit:20250206T183000
DTEND;TZID=America/Detroit:20250206T204500
DTSTAMP:20260425T203733
CREATED:20250116T191521Z
LAST-MODIFIED:20250116T191521Z
UID:10005633-1738866600-1738874700@www.jewishannarbor.org
SUMMARY:Dungeons & Dragons: Oy Vey (K)nights
DESCRIPTION:
URL:https://www.jewishannarbor.org/event/dungeons-dragons-oy-vey-knights/2025-02-06/
LOCATION:Jewish Community Center of Ann Arbor\, 2935 Birch Hollow Drive\, Ann Arbor\, MI\, 48108\, United States
CATEGORIES:Jewish Community Center of Greater Ann Arbor
END:VEVENT
BEGIN:VEVENT
DTSTART;TZID=America/Detroit:20250203T183000
DTEND;TZID=America/Detroit:20250203T203000
DTSTAMP:20260425T203733
CREATED:20241007T151053Z
LAST-MODIFIED:20241007T151053Z
UID:10005487-1738607400-1738614600@www.jewishannarbor.org
SUMMARY:BIC: Hebrew Language Classes Start Again!
DESCRIPTION:We are offering Beginners Liturgical Hebrew and Intermediate Modern Hebrew. Please see registration page for more details.
URL:https://www.jewishannarbor.org/event/bic-hebrew-language-classes-start-again/2025-02-03/
LOCATION:Beth Israel Congregation\, 2000 Washtenaw Avenue\, Ann Arbor\, MI\, USA\, Ann Arbor\, MI\, 48108\, United States
CATEGORIES:Beth Israel Congregation,Community,Educational
ORGANIZER;CN="Beth Israel Congregation":MAILTO:office@bethisrael-aa.org
END:VEVENT
BEGIN:VEVENT
DTSTART;TZID=America/Detroit:20250202T130000
DTEND;TZID=America/Detroit:20250202T160000
DTSTAMP:20260425T203733
CREATED:20240912T192813Z
LAST-MODIFIED:20250327T203117Z
UID:10005580-1738501200-1738512000@www.jewishannarbor.org
SUMMARY:FED: Jewish Storytime with PJ Library (AADL)
DESCRIPTION:Jewish Storytime with PJ Library (AADL)\nAttendance is free and open to the public! \nDates and Locations:\nSunday\, Feb 2- Westgate Library (2503 Jackson Ave)\nSunday\, Mar 16- Mallets Creek Library (3090 E Eisenhower Pkwy)\nSunday\, Apr 6- Mallets Creek (3090 E Eisenhower Pkwy)\nSunday\, Jun 1- Westgate Library (2503 Jackson Ave) \nEach date will consist of three sessions:\n1PM (Ages 5-7) English Story time and activities.\n2PM (Ages 3-7) Hebrew Story time and activities.\n3PM (Ages 2-4) English Story time and activities. \nWe really hope these sessions will enable us to broaden our reach to audiences who less frequently engage in our mainstream Jewish institutions such as the JCC and the synagogues\, giving young children access to Hebrew immersion. \nSessions will be led by our ShinShinim\, Danielle and Lahav\, under supervision of our Israel and Overseas Manager\, Amichay Findling.
URL:https://www.jewishannarbor.org/event/fed-jewish-storytime-with-pj-library-aadl/2025-02-02/
CATEGORIES:Community,Educational,Jewish Federation of Greater Ann Arbor,Jewish Federation of Greater Ann Arbor - General
ATTACH;FMTTYPE=image/jpeg:https://www.jewishannarbor.org/wp-content/uploads/2024/09/Post-10-2.jpg
ORGANIZER;CN="Jewish Federation of Greater Ann Arbor":MAILTO:info@jewishannarbor.org
END:VEVENT
BEGIN:VEVENT
DTSTART;TZID=America/Detroit:20250202T093000
DTEND;TZID=America/Detroit:20250202T120000
DTSTAMP:20260425T203733
CREATED:20240916T180143Z
LAST-MODIFIED:20250107T212639Z
UID:10005461-1738488600-1738497600@www.jewishannarbor.org
SUMMARY:FED: Super Sunday
DESCRIPTION:Join the Federation Team for a Day of Fundraising and Giving!\nRegister to volunteer here!
URL:https://www.jewishannarbor.org/event/fed-super-sunday-2/
LOCATION:Jewish Community Center of Ann Arbor\, 2935 Birch Hollow Drive\, Ann Arbor\, MI\, 48108\, United States
CATEGORIES:Community,Fundraiser,Jewish Federation of Greater Ann Arbor,Jewish Federation of Greater Ann Arbor - General,Women's Philanthropy
ATTACH;FMTTYPE=image/png:https://www.jewishannarbor.org/wp-content/uploads/2024/09/Super-Sunday-2025.png
ORGANIZER;CN="Jewish Federation of Greater Ann Arbor":MAILTO:info@jewishannarbor.org
END:VEVENT
BEGIN:VEVENT
DTSTART;TZID=America/Detroit:20250130T183000
DTEND;TZID=America/Detroit:20250130T204500
DTSTAMP:20260425T203733
CREATED:20250116T191521Z
LAST-MODIFIED:20250116T191521Z
UID:10005632-1738261800-1738269900@www.jewishannarbor.org
SUMMARY:Dungeons & Dragons: Oy Vey (K)nights
DESCRIPTION:
URL:https://www.jewishannarbor.org/event/dungeons-dragons-oy-vey-knights/2025-01-30/
LOCATION:Jewish Community Center of Ann Arbor\, 2935 Birch Hollow Drive\, Ann Arbor\, MI\, 48108\, United States
CATEGORIES:Jewish Community Center of Greater Ann Arbor
END:VEVENT
END:VCALENDAR