BEGIN:VCALENDAR
VERSION:2.0
PRODID:-//Jewish Federation of Greater Ann Arbor - ECPv6.15.17.1//NONSGML v1.0//EN
CALSCALE:GREGORIAN
METHOD:PUBLISH
X-WR-CALNAME:Jewish Federation of Greater Ann Arbor
X-ORIGINAL-URL:https://www.jewishannarbor.org
X-WR-CALDESC:Events for Jewish Federation of Greater Ann Arbor
REFRESH-INTERVAL;VALUE=DURATION:PT1H
X-Robots-Tag:noindex
X-PUBLISHED-TTL:PT1H
BEGIN:VTIMEZONE
TZID:America/Detroit
BEGIN:DAYLIGHT
TZOFFSETFROM:-0500
TZOFFSETTO:-0400
TZNAME:EDT
DTSTART:20250309T070000
END:DAYLIGHT
BEGIN:STANDARD
TZOFFSETFROM:-0400
TZOFFSETTO:-0500
TZNAME:EST
DTSTART:20251102T060000
END:STANDARD
BEGIN:DAYLIGHT
TZOFFSETFROM:-0500
TZOFFSETTO:-0400
TZNAME:EDT
DTSTART:20260308T070000
END:DAYLIGHT
BEGIN:STANDARD
TZOFFSETFROM:-0400
TZOFFSETTO:-0500
TZNAME:EST
DTSTART:20261101T060000
END:STANDARD
BEGIN:DAYLIGHT
TZOFFSETFROM:-0500
TZOFFSETTO:-0400
TZNAME:EDT
DTSTART:20270314T070000
END:DAYLIGHT
BEGIN:STANDARD
TZOFFSETFROM:-0400
TZOFFSETTO:-0500
TZNAME:EST
DTSTART:20271107T060000
END:STANDARD
END:VTIMEZONE
BEGIN:VEVENT
DTSTART;TZID=America/Detroit:20260306T110000
DTEND;TZID=America/Detroit:20260306T130000
DTSTAMP:20260423T200750
CREATED:20260223T221605Z
LAST-MODIFIED:20260302T061602Z
UID:10006161-1772794800-1772802000@www.jewishannarbor.org
SUMMARY:Women's Philanthropy Volunteers @ JFS
DESCRIPTION:Join **Jewish Federation Women’s Philanthropy**  for a series of giving back\nin our own community. We will be helping **JFS Nourish Food Pantry**  prepare\nand pack food to be distributed to members of our community. \nSpace is limited to 4-6 people! Follow the registration button to sign up! \nOrganized by: Jewish Federation of Greater Ann Arbor \nView event on Jlive: https://jlive.app/events/14849
URL:https://www.jewishannarbor.org/event/womens-philanthropy-volunteers-jfs/
CATEGORIES:Adults,College Students,Grandparents,Older Adults,Philanthropy,Volunteering,Women,Young Adults
ATTACH;FMTTYPE=image/jpeg:https://www.jewishannarbor.org/wp-content/uploads/2026/02/WP__JFS_Hero_Image_1-6R1xQM.jpg
ORGANIZER;CN="Jewish Federation of Greater Ann Arbor":MAILTO:info@jewishannarbor.org
END:VEVENT
BEGIN:VEVENT
DTSTART;TZID=America/Detroit:20260218T190000
DTEND;TZID=America/Detroit:20260218T210000
DTSTAMP:20260423T200750
CREATED:20260115T231609Z
LAST-MODIFIED:20260204T170547Z
UID:10006069-1771441200-1771448400@www.jewishannarbor.org
SUMMARY:An Evening of Civic Engagement
DESCRIPTION:**The JCRC of Greater Ann Arbor invites you to join us for an evening of civic\nengagement on February 18 at 7:00 pm** \, where we will host elected officials\,\nrepresentatives of the Democratic and Republican parties\, civic leaders\, and\neducational advocates. **Together\, we will gather and learn:**\n  * How can we get involved in county or state politics?\n  * How can we join city or county commissions?\n  * How can we impact the quality of our local schools?\n  * How can we impact decisions made in my town\, my county and my state?\nThe Jewish community has so much to contribute\, and this evening\nwill show us you how to get involved and make a difference by\nengaging in local issues that matter to you. \nOrganized by: Jewish Federation of Greater Ann Arbor \nView event on Jlive: https://jlive.app/events/14244
URL:https://www.jewishannarbor.org/event/an-evening-of-civic-engagement/
LOCATION:Beth Israel Congregation 2000 Washtenaw Ave\, Ann Arbor
CATEGORIES:Adults,College Students,Grandparents,Older Adults,Parents,Parking (free),Politics & Current Affairs,Volunteering,Wheelchair Accessible,Young Adults
ATTACH;FMTTYPE=image/png:https://www.jewishannarbor.org/wp-content/uploads/2026/01/jLive_JCRC_Civic_Engagement_Evening-j8OTeB.png
ORGANIZER;CN="Jewish Federation of Greater Ann Arbor":MAILTO:info@jewishannarbor.org
END:VEVENT
BEGIN:VEVENT
DTSTART;TZID=America/Detroit:20260201T093000
DTEND;TZID=America/Detroit:20260201T110000
DTSTAMP:20260423T200750
CREATED:20251203T091611Z
LAST-MODIFIED:20260131T185007Z
UID:10006042-1769938200-1769943600@www.jewishannarbor.org
SUMMARY:Super Sunday
DESCRIPTION:Join us for a fun morning making phone calls\, sending emails (and eating\nbagels) to raise critical funds for the Jewish community to fight hate and\nantisemitism\, enhance security\, care for the vulnerable\, inspire kids’ Jewish\nidentity for a strong Jewish future\, connect all Jews to a vibrant\, inclusive\ncommunity\, and more. \nView event on Jlive: https://jlive.app/events/13652
URL:https://www.jewishannarbor.org/event/super-sunday/
LOCATION:Jewish Community Center of Greater Ann Arbor 2935 Birch Hollow Dr\, Ann Arbor
CATEGORIES:Adults,Coffee,College Students,English Speaking,Finger Food,Grandparents,Older Adults,Parking (free),Volunteering,Wheelchair Accessible,WiFi,Young Adults
ATTACH;FMTTYPE=image/jpeg:https://www.jewishannarbor.org/wp-content/uploads/2025/12/2026_Super_Sunday_960_x_600_px-8ubIbX.jpg
ORGANIZER;CN="Jewish Federation of Greater Ann Arbor":MAILTO:info@jewishannarbor.org
END:VEVENT
END:VCALENDAR