BEGIN:VCALENDAR
VERSION:2.0
PRODID:-//Jewish Federation of Greater Ann Arbor - ECPv6.15.17.1//NONSGML v1.0//EN
CALSCALE:GREGORIAN
METHOD:PUBLISH
X-WR-CALNAME:Jewish Federation of Greater Ann Arbor
X-ORIGINAL-URL:https://www.jewishannarbor.org
X-WR-CALDESC:Events for Jewish Federation of Greater Ann Arbor
REFRESH-INTERVAL;VALUE=DURATION:PT1H
X-Robots-Tag:noindex
X-PUBLISHED-TTL:PT1H
BEGIN:VTIMEZONE
TZID:America/Detroit
BEGIN:DAYLIGHT
TZOFFSETFROM:-0500
TZOFFSETTO:-0400
TZNAME:EDT
DTSTART:20240310T070000
END:DAYLIGHT
BEGIN:STANDARD
TZOFFSETFROM:-0400
TZOFFSETTO:-0500
TZNAME:EST
DTSTART:20241103T060000
END:STANDARD
BEGIN:DAYLIGHT
TZOFFSETFROM:-0500
TZOFFSETTO:-0400
TZNAME:EDT
DTSTART:20250309T070000
END:DAYLIGHT
BEGIN:STANDARD
TZOFFSETFROM:-0400
TZOFFSETTO:-0500
TZNAME:EST
DTSTART:20251102T060000
END:STANDARD
BEGIN:DAYLIGHT
TZOFFSETFROM:-0500
TZOFFSETTO:-0400
TZNAME:EDT
DTSTART:20260308T070000
END:DAYLIGHT
BEGIN:STANDARD
TZOFFSETFROM:-0400
TZOFFSETTO:-0500
TZNAME:EST
DTSTART:20261101T060000
END:STANDARD
END:VTIMEZONE
BEGIN:VEVENT
DTSTART;TZID=America/Detroit:20251115T090000
DTEND;TZID=America/Detroit:20251115T170000
DTSTAMP:20260419T100959
CREATED:20251027T165057Z
LAST-MODIFIED:20251027T165104Z
UID:10006027-1763197200-1763226000@www.jewishannarbor.org
SUMMARY:TBE: Psalms Shabbaton with (P)scholar-in-Residence Rabbi Jade Sank Ross
DESCRIPTION:Psalms are a key piece of our shared canon\, adding depth to Jewish liturgy and enriching the worship experience. Still\, this prayerful poetry is not understood or utilized to its full potential. To You I Call: Psalms Throughout Our Lives by Rabbi Jade Sank Ross is a new book that inspires readers to connect to psalms in times of hardship\, celebration\, and everything in between. \nJoin in one or all of the opportunities to learn with Rabbi Jade throughout Shabbat: Friday dinner\, Friday evening worship\, Saturday Torah study\, Saturday morning worship\, and Saturday Brunch-and-Learn study session. \nRegistration for the Friday Program is below. If you want to register for Saturday\, please click this link: Register for the Saturday Brunch and Learn \nTo order To You I Call: Psalms Throughout Our Lives by Rabbi Jade Sank Ross click this link: Order Rabbi Jade Sank Ross’ Book
URL:https://www.jewishannarbor.org/event/psalms-shabbaton-with-pscholar-in-residence-rabbi-jade-sank-ross-2/
LOCATION:Temple Beth Emeth\, 2309 Packard St\, Ann Arbor\, MI\, 48104\, United States
CATEGORIES:Temple Beth Emeth
ATTACH;FMTTYPE=image/jpeg:https://www.jewishannarbor.org/wp-content/uploads/2025/10/Shabbaton-with-Jade-Sank-Ross-2.jpg
END:VEVENT
END:VCALENDAR