BEGIN:VCALENDAR
VERSION:2.0
PRODID:-//Jewish Federation of Greater Ann Arbor - ECPv6.15.17.1//NONSGML v1.0//EN
CALSCALE:GREGORIAN
METHOD:PUBLISH
X-WR-CALNAME:Jewish Federation of Greater Ann Arbor
X-ORIGINAL-URL:https://www.jewishannarbor.org
X-WR-CALDESC:Events for Jewish Federation of Greater Ann Arbor
REFRESH-INTERVAL;VALUE=DURATION:PT1H
X-Robots-Tag:noindex
X-PUBLISHED-TTL:PT1H
BEGIN:VTIMEZONE
TZID:America/Detroit
BEGIN:DAYLIGHT
TZOFFSETFROM:-0500
TZOFFSETTO:-0400
TZNAME:EDT
DTSTART:20240310T070000
END:DAYLIGHT
BEGIN:STANDARD
TZOFFSETFROM:-0400
TZOFFSETTO:-0500
TZNAME:EST
DTSTART:20241103T060000
END:STANDARD
BEGIN:DAYLIGHT
TZOFFSETFROM:-0500
TZOFFSETTO:-0400
TZNAME:EDT
DTSTART:20250309T070000
END:DAYLIGHT
BEGIN:STANDARD
TZOFFSETFROM:-0400
TZOFFSETTO:-0500
TZNAME:EST
DTSTART:20251102T060000
END:STANDARD
BEGIN:DAYLIGHT
TZOFFSETFROM:-0500
TZOFFSETTO:-0400
TZNAME:EDT
DTSTART:20260308T070000
END:DAYLIGHT
BEGIN:STANDARD
TZOFFSETFROM:-0400
TZOFFSETTO:-0500
TZNAME:EST
DTSTART:20261101T060000
END:STANDARD
END:VTIMEZONE
BEGIN:VEVENT
DTSTART;TZID=America/Detroit:20250604T193000
DTEND;TZID=America/Detroit:20250604T203000
DTSTAMP:20260424T153435
CREATED:20250116T180815Z
LAST-MODIFIED:20250116T180815Z
UID:10005626-1749065400-1749069000@www.jewishannarbor.org
SUMMARY:TBE: Annual Meeting
DESCRIPTION:
URL:https://www.jewishannarbor.org/event/tbe-annual-meeting/
LOCATION:Temple Beth Emeth\, 2309 Packard St\, Ann Arbor\, MI\, 48104\, United States
CATEGORIES:Temple Beth Emeth
ORGANIZER;CN="Temple Beth Emeth":MAILTO:tbe@templebethemeth.org
END:VEVENT
BEGIN:VEVENT
DTSTART;TZID=America/Detroit:20250608T150000
DTEND;TZID=America/Detroit:20250608T160000
DTSTAMP:20260424T153435
CREATED:20250109T161749Z
LAST-MODIFIED:20250415T163312Z
UID:10005617-1749394800-1749398400@www.jewishannarbor.org
SUMMARY:Genesis 50th: Celebration and Rededication of the Star of David and the Cross
DESCRIPTION:
URL:https://www.jewishannarbor.org/event/genesis-50th-anniversary/
LOCATION:Temple Beth Emeth\, 2309 Packard St\, Ann Arbor\, MI\, 48104\, United States
CATEGORIES:Community,Temple Beth Emeth
ORGANIZER;CN="Temple Beth Emeth":MAILTO:tbe@templebethemeth.org
END:VEVENT
BEGIN:VEVENT
DTSTART;TZID=America/Detroit:20250611T190000
DTEND;TZID=America/Detroit:20250611T210000
DTSTAMP:20260424T153435
CREATED:20250210T163815Z
LAST-MODIFIED:20250415T163254Z
UID:10005680-1749668400-1749675600@www.jewishannarbor.org
SUMMARY:Genesis 50th: a Celebration in Song with Kol Halev and Saint Claire's Choir
DESCRIPTION:
URL:https://www.jewishannarbor.org/event/genesis-at-50-a-celebration-in-song-with-kol-halev-and-saint-claires-choir/
LOCATION:Temple Beth Emeth\, 2309 Packard St\, Ann Arbor\, MI\, 48104\, United States
CATEGORIES:Temple Beth Emeth
ORGANIZER;CN="Temple Beth Emeth":MAILTO:tbe@templebethemeth.org
END:VEVENT
BEGIN:VEVENT
DTSTART;TZID=America/Detroit:20250622T160000
DTEND;TZID=America/Detroit:20250622T180000
DTSTAMP:20260424T153435
CREATED:20250605T160351Z
LAST-MODIFIED:20250605T161149Z
UID:10005766-1750608000-1750615200@www.jewishannarbor.org
SUMMARY:Renaissance Group Bowling Event
DESCRIPTION:
URL:https://www.jewishannarbor.org/event/renaissance-group-bowling-event/
LOCATION:MI
CATEGORIES:Temple Beth Emeth
ATTACH;FMTTYPE=image/jpeg:https://www.jewishannarbor.org/wp-content/uploads/2025/06/Renaissance-Bowling-Flyer-2.jpg
ORGANIZER;CN="Temple Beth Emeth":MAILTO:tbe@templebethemeth.org
END:VEVENT
BEGIN:VEVENT
DTSTART;TZID=America/Detroit:20250622T160000
DTEND;TZID=America/Detroit:20250622T183000
DTSTAMP:20260424T153435
CREATED:20250429T182824Z
LAST-MODIFIED:20250429T182824Z
UID:10005751-1750608000-1750617000@www.jewishannarbor.org
SUMMARY:TBE: Renaissance Group Bowling Night
DESCRIPTION:
URL:https://www.jewishannarbor.org/event/tbe-renaissance-group-bowling-night/
LOCATION:Station 300\, 830 Woodland Dr E\, Saline\, Michigan\, 48176
CATEGORIES:Temple Beth Emeth
ORGANIZER;CN="Temple Beth Emeth":MAILTO:tbe@templebethemeth.org
END:VEVENT
BEGIN:VEVENT
DTSTART;TZID=America/Detroit:20250626T180000
DTEND;TZID=America/Detroit:20250626T203000
DTSTAMP:20260424T153435
CREATED:20250605T161046Z
LAST-MODIFIED:20250605T161046Z
UID:10005771-1750960800-1750969800@www.jewishannarbor.org
SUMMARY:Our Country\, Our Judaism\, Our Lives
DESCRIPTION:
URL:https://www.jewishannarbor.org/event/our-country-our-judaism-our-lives/
LOCATION:Temple Beth Emeth\, 2309 Packard St\, Ann Arbor\, MI\, 48104\, United States
CATEGORIES:Temple Beth Emeth
ATTACH;FMTTYPE=image/jpeg:https://www.jewishannarbor.org/wp-content/uploads/2025/06/Our-Country-Our-Judaism-Our-Lives-1.jpg
ORGANIZER;CN="Temple Beth Emeth":MAILTO:tbe@templebethemeth.org
END:VEVENT
END:VCALENDAR