BEGIN:VCALENDAR
VERSION:2.0
PRODID:-//Jewish Federation of Greater Ann Arbor - ECPv6.15.17.1//NONSGML v1.0//EN
CALSCALE:GREGORIAN
METHOD:PUBLISH
X-WR-CALNAME:Jewish Federation of Greater Ann Arbor
X-ORIGINAL-URL:https://www.jewishannarbor.org
X-WR-CALDESC:Events for Jewish Federation of Greater Ann Arbor
REFRESH-INTERVAL;VALUE=DURATION:PT1H
X-Robots-Tag:noindex
X-PUBLISHED-TTL:PT1H
BEGIN:VTIMEZONE
TZID:America/Detroit
BEGIN:DAYLIGHT
TZOFFSETFROM:-0500
TZOFFSETTO:-0400
TZNAME:EDT
DTSTART:20240310T070000
END:DAYLIGHT
BEGIN:STANDARD
TZOFFSETFROM:-0400
TZOFFSETTO:-0500
TZNAME:EST
DTSTART:20241103T060000
END:STANDARD
BEGIN:DAYLIGHT
TZOFFSETFROM:-0500
TZOFFSETTO:-0400
TZNAME:EDT
DTSTART:20250309T070000
END:DAYLIGHT
BEGIN:STANDARD
TZOFFSETFROM:-0400
TZOFFSETTO:-0500
TZNAME:EST
DTSTART:20251102T060000
END:STANDARD
BEGIN:DAYLIGHT
TZOFFSETFROM:-0500
TZOFFSETTO:-0400
TZNAME:EDT
DTSTART:20260308T070000
END:DAYLIGHT
BEGIN:STANDARD
TZOFFSETFROM:-0400
TZOFFSETTO:-0500
TZNAME:EST
DTSTART:20261101T060000
END:STANDARD
END:VTIMEZONE
BEGIN:VEVENT
DTSTART;TZID=America/Detroit:20250513T170000
DTEND;TZID=America/Detroit:20250513T181500
DTSTAMP:20260424T191204
CREATED:20250513T175520Z
LAST-MODIFIED:20250513T175520Z
UID:10005757-1747155600-1747160100@www.jewishannarbor.org
SUMMARY:TBE: A2J Climate Action Shabbat Potluck
DESCRIPTION:
URL:https://www.jewishannarbor.org/event/tbe-a2j-climate-action-shabbat-potluck/
LOCATION:Temple Beth Emeth\, 2309 Packard St\, Ann Arbor\, MI\, 48104\, United States
CATEGORIES:Temple Beth Emeth
ORGANIZER;CN="Temple Beth Emeth":MAILTO:tbe@templebethemeth.org
END:VEVENT
BEGIN:VEVENT
DTSTART;TZID=America/Detroit:20250518T150000
DTEND;TZID=America/Detroit:20250518T180000
DTSTAMP:20260424T191204
CREATED:20250122T202855Z
LAST-MODIFIED:20250415T161930Z
UID:10005669-1747580400-1747591200@www.jewishannarbor.org
SUMMARY:TBE: Community Health & Wellness Fair
DESCRIPTION:
URL:https://www.jewishannarbor.org/event/tbe-sacred-aging-institute-health-wellness-fair/
LOCATION:Temple Beth Emeth\, 2309 Packard St\, Ann Arbor\, MI\, 48104\, United States
CATEGORIES:Temple Beth Emeth
ORGANIZER;CN="Temple Beth Emeth":MAILTO:tbe@templebethemeth.org
END:VEVENT
BEGIN:VEVENT
DTSTART;TZID=America/Detroit:20250518T180000
DTEND;TZID=America/Detroit:20250518T203000
DTSTAMP:20260424T191204
CREATED:20250402T183134Z
LAST-MODIFIED:20250508T203620Z
UID:10005729-1747591200-1747600200@www.jewishannarbor.org
SUMMARY:Community Lag B'Omer Celebration: Sparks of Community
DESCRIPTION:Join Federation\, JCC and the Early Childhood Center\, Temple Beth Emeth\, Beth Israel Congregation\, Chabad of Ann Arbor\, Ann Arbor Orthodox Minyan\, and Hebrew Day School for a true Israeli Lag B’Omer celebration! There will be bonfires\, nature walks\, and so much more. \nOrganized by our Ann Arbor area ShinShinim Danielle and Lahav. Read about other activities Danielle and Lahav have put on for our community here. \nLocation: Dori’s Farm 6363 W. Waters Rd \nWant to make this event happen? Become a sponsor here or sign up to volunteer here.\nRegister Here by May 11! \nIMPORTANT DETAILS TO NOTE:\n–Dress code\nOutdoorsy (Long pants and Closed shoes) \n–What to bring?\nFloor level seating will be provided\, you can bring foldable chairs or outdoor matts (the site is on grass) – just remember\, you will be walking around\n\n–Parking\nParking is provided on site on a grass lot\, as parking is limited\, please make an effort to arrive in one car per family\, no earlier than 5:30PM (Event starts at 6:00PM). \n 
URL:https://www.jewishannarbor.org/event/community-lag-bomer-celebration/
LOCATION:MI
CATEGORIES:Ann Arbor Orthodox Minyan,Beth Israel Congregation,Chabad House,Hebrew Day School,Israel Programming,Jewish Community Center of Greater Ann Arbor,Jewish Federation of Greater Ann Arbor,Jewish Federation of Greater Ann Arbor - General,Jewish Holidays,Temple Beth Emeth
ATTACH;FMTTYPE=image/jpeg:https://www.jewishannarbor.org/wp-content/uploads/2025/05/Final-Flyer-Sparks-of-Community-13.jpg
ORGANIZER;CN="Beth Israel Congregation":MAILTO:office@bethisrael-aa.org
END:VEVENT
END:VCALENDAR