BEGIN:VCALENDAR
VERSION:2.0
PRODID:-//Jewish Federation of Greater Ann Arbor - ECPv6.15.17.1//NONSGML v1.0//EN
CALSCALE:GREGORIAN
METHOD:PUBLISH
X-ORIGINAL-URL:https://www.jewishannarbor.org
X-WR-CALDESC:Events for Jewish Federation of Greater Ann Arbor
REFRESH-INTERVAL;VALUE=DURATION:PT1H
X-Robots-Tag:noindex
X-PUBLISHED-TTL:PT1H
BEGIN:VTIMEZONE
TZID:America/Detroit
BEGIN:DAYLIGHT
TZOFFSETFROM:-0500
TZOFFSETTO:-0400
TZNAME:EDT
DTSTART:20240310T070000
END:DAYLIGHT
BEGIN:STANDARD
TZOFFSETFROM:-0400
TZOFFSETTO:-0500
TZNAME:EST
DTSTART:20241103T060000
END:STANDARD
BEGIN:DAYLIGHT
TZOFFSETFROM:-0500
TZOFFSETTO:-0400
TZNAME:EDT
DTSTART:20250309T070000
END:DAYLIGHT
BEGIN:STANDARD
TZOFFSETFROM:-0400
TZOFFSETTO:-0500
TZNAME:EST
DTSTART:20251102T060000
END:STANDARD
BEGIN:DAYLIGHT
TZOFFSETFROM:-0500
TZOFFSETTO:-0400
TZNAME:EDT
DTSTART:20260308T070000
END:DAYLIGHT
BEGIN:STANDARD
TZOFFSETFROM:-0400
TZOFFSETTO:-0500
TZNAME:EST
DTSTART:20261101T060000
END:STANDARD
END:VTIMEZONE
BEGIN:VEVENT
DTSTART;TZID=America/Detroit:20250308T123000
DTEND;TZID=America/Detroit:20250308T140000
DTSTAMP:20260422T033437
CREATED:20250116T180708Z
LAST-MODIFIED:20250211T204548Z
UID:10005625-1741437000-1741442400@www.jewishannarbor.org
SUMMARY:TBE: Kitchen Kindness: A volunteer opportunity for families
DESCRIPTION:
URL:https://www.jewishannarbor.org/event/tbe-kitchen-kindness-a-volunteer-opportunity-for-families/
LOCATION:Temple Beth Emeth\, 2309 Packard St\, Ann Arbor\, MI\, 48104\, United States
CATEGORIES:Temple Beth Emeth
ATTACH;FMTTYPE=image/jpeg:https://www.jewishannarbor.org/wp-content/uploads/2025/01/Kitchen-Kindness-Event.jpg
ORGANIZER;CN="Temple Beth Emeth":MAILTO:tbe@templebethemeth.org
END:VEVENT
BEGIN:VEVENT
DTSTART;TZID=America/Detroit:20250309T183000
DTEND;TZID=America/Detroit:20250309T200000
DTSTAMP:20260422T033437
CREATED:20250227T201852Z
LAST-MODIFIED:20250228T164103Z
UID:10005701-1741545000-1741550400@www.jewishannarbor.org
SUMMARY:Community Trip to Israel Info Session
DESCRIPTION:Register for the info session here \nClick here to learn all about the trip and express interest for your own personalized trip sign-up link.
URL:https://www.jewishannarbor.org/event/community-trip-to-israel-info-session-3/
LOCATION:Beth Israel Congregation\, 2000 Washtenaw Avenue\, Ann Arbor\, MI\, USA\, Ann Arbor\, MI\, 48108\, United States
CATEGORIES:Beth Israel Congregation,Hebrew Day School,Jewish Community Center of Greater Ann Arbor,Jewish Federation of Greater Ann Arbor,Jewish Federation of Greater Ann Arbor - General,Temple Beth Emeth
ATTACH;FMTTYPE=image/jpeg:https://www.jewishannarbor.org/wp-content/uploads/2025/02/Israel-Trip-Info-Session-flyer-March-2025.jpg
END:VEVENT
BEGIN:VEVENT
DTSTART;TZID=America/Detroit:20250314T184500
DTEND;TZID=America/Detroit:20250314T193000
DTSTAMP:20260422T033437
CREATED:20250122T190727Z
LAST-MODIFIED:20250122T190727Z
UID:10005654-1741977900-1741980600@www.jewishannarbor.org
SUMMARY:TBE: Family Camp
DESCRIPTION:
URL:https://www.jewishannarbor.org/event/tbe-family-camp-3/
LOCATION:Temple Beth Emeth\, 2309 Packard St\, Ann Arbor\, MI\, 48104\, United States
CATEGORIES:Temple Beth Emeth
ORGANIZER;CN="Temple Beth Emeth":MAILTO:tbe@templebethemeth.org
END:VEVENT
BEGIN:VEVENT
DTSTART;TZID=America/Detroit:20250315T100000
DTEND;TZID=America/Detroit:20250315T150000
DTSTAMP:20260422T033437
CREATED:20250116T180930Z
LAST-MODIFIED:20250214T175017Z
UID:10005627-1742032800-1742050800@www.jewishannarbor.org
SUMMARY:TBE: Purim Carnival
DESCRIPTION:
URL:https://www.jewishannarbor.org/event/tbe-purim-carnival/
LOCATION:Temple Beth Emeth\, 2309 Packard St\, Ann Arbor\, MI\, 48104\, United States
CATEGORIES:Temple Beth Emeth
ATTACH;FMTTYPE=image/jpeg:https://www.jewishannarbor.org/wp-content/uploads/2025/01/Purim-Carnival-25-register.jpg
ORGANIZER;CN="Temple Beth Emeth":MAILTO:tbe@templebethemeth.org
END:VEVENT
BEGIN:VEVENT
DTSTART;TZID=America/Detroit:20250316T163000
DTEND;TZID=America/Detroit:20250316T193000
DTSTAMP:20260422T033437
CREATED:20240913T140042Z
LAST-MODIFIED:20250214T180842Z
UID:10005459-1742142600-1742153400@www.jewishannarbor.org
SUMMARY:TBE Antisemitism Summit
DESCRIPTION:REGISTER HERE
URL:https://www.jewishannarbor.org/event/tbe-antisemitism-symposium/
LOCATION:Temple Beth Emeth\, 2309 Packard St\, Ann Arbor\, MI\, 48104\, United States
CATEGORIES:Hillel at EMU,Jewish Federation of Greater Ann Arbor,Jewish Federation of Greater Ann Arbor - General,Temple Beth Emeth
ATTACH;FMTTYPE=image/jpeg:https://www.jewishannarbor.org/wp-content/uploads/2025/01/2.jpg
ORGANIZER;CN="Temple Beth Emeth":MAILTO:tbe@templebethemeth.org
END:VEVENT
BEGIN:VEVENT
DTSTART;TZID=America/Detroit:20250318T160000
DTEND;TZID=America/Detroit:20250318T170000
DTSTAMP:20260422T033437
CREATED:20250122T190642Z
LAST-MODIFIED:20250122T190642Z
UID:10005653-1742313600-1742317200@www.jewishannarbor.org
SUMMARY:TBE: Bereavement Group
DESCRIPTION:
URL:https://www.jewishannarbor.org/event/tbe-bereavement-group-3/
LOCATION:Temple Beth Emeth\, 2309 Packard St\, Ann Arbor\, MI\, 48104\, United States
CATEGORIES:Temple Beth Emeth
ORGANIZER;CN="Temple Beth Emeth":MAILTO:tbe@templebethemeth.org
END:VEVENT
BEGIN:VEVENT
DTSTART;TZID=America/Detroit:20250320T180000
DTEND;TZID=America/Detroit:20250320T190000
DTSTAMP:20260422T033437
CREATED:20250122T190754Z
LAST-MODIFIED:20250122T190754Z
UID:10005655-1742493600-1742497200@www.jewishannarbor.org
SUMMARY:TBE: Brotherhood: Guys Night Out
DESCRIPTION:
URL:https://www.jewishannarbor.org/event/tbe-brotherhood-guys-night-out-4/
LOCATION:Zamaan\, 865 Eisenhower Parkway\, Ann Arbor\, Michigan\, 48103
CATEGORIES:Temple Beth Emeth
ORGANIZER;CN="Temple Beth Emeth":MAILTO:tbe@templebethemeth.org
END:VEVENT
BEGIN:VEVENT
DTSTART;TZID=America/Detroit:20250321T173000
DTEND;TZID=America/Detroit:20250321T183000
DTSTAMP:20260422T033437
CREATED:20250122T190818Z
LAST-MODIFIED:20250122T190818Z
UID:10005656-1742578200-1742581800@www.jewishannarbor.org
SUMMARY:TBE: LGBTQ Shabbat Potluck
DESCRIPTION:
URL:https://www.jewishannarbor.org/event/tbe-lgbtq-shabbat-potluck-4/
LOCATION:Temple Beth Emeth\, 2309 Packard St\, Ann Arbor\, MI\, 48104\, United States
CATEGORIES:Temple Beth Emeth
ORGANIZER;CN="Temple Beth Emeth":MAILTO:tbe@templebethemeth.org
END:VEVENT
BEGIN:VEVENT
DTSTART;TZID=America/Detroit:20250323T150000
DTEND;TZID=America/Detroit:20250323T163000
DTSTAMP:20260422T033437
CREATED:20250122T190437Z
LAST-MODIFIED:20250304T190505Z
UID:10005652-1742742000-1742747400@www.jewishannarbor.org
SUMMARY:TBE: SAI A Good Death: Tough Decisons & Touchy Discussions
DESCRIPTION:
URL:https://www.jewishannarbor.org/event/tbe-sai-a-good-death-tough-decisons-touchy-discussions/
LOCATION:Temple Beth Emeth\, 2309 Packard St\, Ann Arbor\, MI\, 48104\, United States
CATEGORIES:Temple Beth Emeth
ATTACH;FMTTYPE=image/jpeg:https://www.jewishannarbor.org/wp-content/uploads/2025/01/A-Good-Death-1.jpg
ORGANIZER;CN="Temple Beth Emeth":MAILTO:tbe@templebethemeth.org
END:VEVENT
BEGIN:VEVENT
DTSTART;TZID=America/Detroit:20250329T183000
DTEND;TZID=America/Detroit:20250329T203000
DTSTAMP:20260422T033437
CREATED:20250116T180012Z
LAST-MODIFIED:20250211T204235Z
UID:10005624-1743273000-1743280200@www.jewishannarbor.org
SUMMARY:TBE: Renaissance Group Game Night
DESCRIPTION:
URL:https://www.jewishannarbor.org/event/tbe-renaissance-group-game-night-3/
LOCATION:Temple Beth Emeth\, 2309 Packard St\, Ann Arbor\, MI\, 48104\, United States
CATEGORIES:Temple Beth Emeth
ATTACH;FMTTYPE=image/jpeg:https://www.jewishannarbor.org/wp-content/uploads/2025/01/GameNight-2025-Event.jpg
ORGANIZER;CN="Temple Beth Emeth":MAILTO:tbe@templebethemeth.org
END:VEVENT
BEGIN:VEVENT
DTSTART;TZID=America/Detroit:20250330T150000
DTEND;TZID=America/Detroit:20250330T190000
DTSTAMP:20260422T033437
CREATED:20250122T191150Z
LAST-MODIFIED:20250211T204326Z
UID:10005657-1743346800-1743361200@www.jewishannarbor.org
SUMMARY:TBE: Passover Sale
DESCRIPTION:
URL:https://www.jewishannarbor.org/event/tbe-passover-sale/
LOCATION:Temple Beth Emeth\, 2309 Packard St\, Ann Arbor\, MI\, 48104\, United States
CATEGORIES:Temple Beth Emeth
ATTACH;FMTTYPE=image/jpeg:https://www.jewishannarbor.org/wp-content/uploads/2025/01/2025-Passover-Sale-Flyer-3.jpg
ORGANIZER;CN="Temple Beth Emeth":MAILTO:tbe@templebethemeth.org
END:VEVENT
BEGIN:VEVENT
DTSTART;TZID=America/Detroit:20250331T190000
DTEND;TZID=America/Detroit:20250331T203000
DTSTAMP:20260422T033437
CREATED:20250313T133215Z
LAST-MODIFIED:20250327T202904Z
UID:10005714-1743447600-1743453000@www.jewishannarbor.org
SUMMARY:Ilya Kreines\, "In Between City": Film Screening and Director Talk
DESCRIPTION:Ilya Kreines\, “In Between City”: Film Screening and Director Talk\n\n\n\n \nJewish collective memory has allowed Jews to maintain a deep sense of community throughout the ages. Join us for screening of the short film\, In Between City\, and a conversation with its director and creator\, Ilya Kreines. \n  \nIn Between City (00:08:50) imitates a poetic wandering through a fictional Central European city and its memory\, blurring reality and fiction.  It is constructed from a collection of fragments\, stories\, images\, and impressions\, including of the vanished Jewish worlds it once contained.  Kreines will also discuss his ground-breaking print animation technique\, using stamps carved from erasers.  (In Between City is included in the shorts competition of the 2025 Ann Arbor Film Festival and will be screened there Friday night\, March 28.) \n \nAbout the director: Ilya Kreines is a multimedia artist based between Jerusalem and Prague. He was born in Moscow and moved to Israel in 1999. In 2023 he received an MFA degree in illustration and graphics from UMPRUM (Czech Republic) after receiving a bachelor’s degree in visual communication from Bezalel Academy (Israel). \nPlease note: Some scenes have a strobing effect that may affect photosensitive viewers. \n  \nREGISTER HERE\nJHSM Annual Donor: $10\nGeneral Admission: $18\nThank you to our program sponsors: Chuck Newman\, Dr. Richard Stoler\, 
URL:https://www.jewishannarbor.org/event/ilya-kreines-in-between-city-film-screening-and-director-talk/
LOCATION:Temple Beth Emeth\, 2309 Packard St\, Ann Arbor\, MI\, 48104\, United States
CATEGORIES:Temple Beth Emeth
ORGANIZER;CN="Temple Beth Emeth":MAILTO:tbe@templebethemeth.org
END:VEVENT
END:VCALENDAR