BEGIN:VCALENDAR
VERSION:2.0
PRODID:-//Jewish Federation of Greater Ann Arbor - ECPv6.15.17.1//NONSGML v1.0//EN
CALSCALE:GREGORIAN
METHOD:PUBLISH
X-ORIGINAL-URL:https://www.jewishannarbor.org
X-WR-CALDESC:Events for Jewish Federation of Greater Ann Arbor
REFRESH-INTERVAL;VALUE=DURATION:PT1H
X-Robots-Tag:noindex
X-PUBLISHED-TTL:PT1H
BEGIN:VTIMEZONE
TZID:America/Detroit
BEGIN:DAYLIGHT
TZOFFSETFROM:-0500
TZOFFSETTO:-0400
TZNAME:EDT
DTSTART:20250309T070000
END:DAYLIGHT
BEGIN:STANDARD
TZOFFSETFROM:-0400
TZOFFSETTO:-0500
TZNAME:EST
DTSTART:20251102T060000
END:STANDARD
BEGIN:DAYLIGHT
TZOFFSETFROM:-0500
TZOFFSETTO:-0400
TZNAME:EDT
DTSTART:20260308T070000
END:DAYLIGHT
BEGIN:STANDARD
TZOFFSETFROM:-0400
TZOFFSETTO:-0500
TZNAME:EST
DTSTART:20261101T060000
END:STANDARD
BEGIN:DAYLIGHT
TZOFFSETFROM:-0500
TZOFFSETTO:-0400
TZNAME:EDT
DTSTART:20270314T070000
END:DAYLIGHT
BEGIN:STANDARD
TZOFFSETFROM:-0400
TZOFFSETTO:-0500
TZNAME:EST
DTSTART:20271107T060000
END:STANDARD
END:VTIMEZONE
BEGIN:VEVENT
DTSTART;TZID=America/Detroit:20260210T170000
DTEND;TZID=America/Detroit:20260210T183000
DTSTAMP:20260423T054500
CREATED:20260204T163607Z
LAST-MODIFIED:20260204T172710Z
UID:10006082-1770742800-1770748200@www.jewishannarbor.org
SUMMARY:When Hebrew Met the Machine
DESCRIPTION:What happens when an ancient language meets modern technology? This lecture\nwill discuss the role played by media technologies—such as the phonograph\,\ntypewriters\, the telegraph\, and computers—in the revitalization and\nmodernization of Hebrew since the end of the nineteenth century. After lying\ndormant for two millennia as a mainly written language\, Hebrew awoke from its\nliterary slumber and became a living modern vernacular. The revitalization of\nHebrew is unique and unprecedented in world history\, and it has been studied\nin various fields; but the role of modern media technologies in mediating this\nrevival has not yet been considered. This lecture will delve into questions\nsuch as: what was the role of sound recording technologies in shaping the\nreemerging modern Hebrew speech? And how did the Hebraized typewrite pushed\nfor the modernization of writing in Hebrew?. It will show how these media\,\nwhose emergence ran in historical parallel to the revitalization of Hebrew\,\nwere an active force in shaping the language as a modern communicative medium.\nHebrew was a historical media lab: written from right to left and in unique\nscript\, it posed technical as well as conceptual challenges to media which\nwere originally designed for Latin script and Western writing systems. The\nadaptation of these technologies to Hebrew required various adaptations that\nshaped lingual mechanisms\, which had social and political ramifications on the\nemerging Hebrew culture. \nOrganized by: U-M Frankel Center for Judaic Studies \nView event on Jlive: https://jlive.app/events/13596
URL:https://www.jewishannarbor.org/event/when-hebrew-met-the-machine/
LOCATION:South Thayer Building 202 S Thayer St\, Ann Arbor
CATEGORIES:Adults,College Students,Educational,History,Jewish Learning,Older Adults,Science & Technology,Special Guest,Young Adults
ATTACH;FMTTYPE=image/jpeg:https://www.jewishannarbor.org/wp-content/uploads/2026/02/picture2-YosTil.jpg
ORGANIZER;CN="U-M Frankel Center for Judaic Studies":MAILTO:js-event-coord@umich.edu
END:VEVENT
END:VCALENDAR