BEGIN:VCALENDAR
VERSION:2.0
PRODID:-//Jewish Federation of Greater Ann Arbor - ECPv6.15.17.1//NONSGML v1.0//EN
CALSCALE:GREGORIAN
METHOD:PUBLISH
X-ORIGINAL-URL:https://www.jewishannarbor.org
X-WR-CALDESC:Events for Jewish Federation of Greater Ann Arbor
REFRESH-INTERVAL;VALUE=DURATION:PT1H
X-Robots-Tag:noindex
X-PUBLISHED-TTL:PT1H
BEGIN:VTIMEZONE
TZID:America/Detroit
BEGIN:DAYLIGHT
TZOFFSETFROM:-0500
TZOFFSETTO:-0400
TZNAME:EDT
DTSTART:20250309T070000
END:DAYLIGHT
BEGIN:STANDARD
TZOFFSETFROM:-0400
TZOFFSETTO:-0500
TZNAME:EST
DTSTART:20251102T060000
END:STANDARD
BEGIN:DAYLIGHT
TZOFFSETFROM:-0500
TZOFFSETTO:-0400
TZNAME:EDT
DTSTART:20260308T070000
END:DAYLIGHT
BEGIN:STANDARD
TZOFFSETFROM:-0400
TZOFFSETTO:-0500
TZNAME:EST
DTSTART:20261101T060000
END:STANDARD
BEGIN:DAYLIGHT
TZOFFSETFROM:-0500
TZOFFSETTO:-0400
TZNAME:EDT
DTSTART:20270314T070000
END:DAYLIGHT
BEGIN:STANDARD
TZOFFSETFROM:-0400
TZOFFSETTO:-0500
TZNAME:EST
DTSTART:20271107T060000
END:STANDARD
END:VTIMEZONE
BEGIN:VEVENT
DTSTART;TZID=America/Detroit:20260309T190000
DTEND;TZID=America/Detroit:20260309T210000
DTSTAMP:20260422T161432
CREATED:20260204T164604Z
LAST-MODIFIED:20260302T061605Z
UID:10006097-1773082800-1773090000@www.jewishannarbor.org
SUMMARY:EMU Center for Jewish Studies -  Mike Rothschild: “Space Lasers and Conspiracies” (Rescheduled)
DESCRIPTION:Rescheduled: March 9th\, 2026 \nMike Rothschild talks about his book _Jewish Space Lasers: The Rothschilds and\n200 years of Conspiracy Theories_. \nYou can find the link here: (https://www.amazon.com/Jewish-Space-Lasers-Rothschilds-\nConspiracy/dp/1685890644/ref=sr_1_2?crid=EKS4FNH9TC02&dib=eyJ2IjoiMSJ9.XuFwrzaO1PzS34gFI4Hf_X22VIHANv64OmsvdFNoV1V438fPuSpIHUZoi0oRMlAqvsdmf1dhKTShe-\nVXfiEn6OqOHq-8wMu0-06Gs3Dpjfyw5wYi66zAtuo37x4q0az1S-DaZDrJaFI3d6DPRBDCTKOKABlrPrWo0Qo6ddsBe5r04730Q1kLSpHhm0mSBg-6hEunlThf_CxzB8Ql1K8NGkNjb2lXOuh9VMlsGV_SV7E.BrVymZnmDnQeXLG_icUSbkppoQQXfup4RxVNDchbLBQ&dib_tag=se&keywords=Mike+Rothschild&qid=1755185711&s=books&sprefix=mike+rothschild%2Cstripbooks%2C76&sr=1-2) \nOrganized by: EMU Center for Jewish Studies \nView event on Jlive: https://jlive.app/events/14524
URL:https://www.jewishannarbor.org/event/emu-center-for-jewish-studies-mike-rothschild-space-lasers-and-conspiracies-rescheduled/
LOCATION:Eastern Michigan University 900 Oakwood St\, Ypsilanti
CATEGORIES:Educational,English Speaking,Finger Food,Parking (free),Special Guest,Vegetarian Friendly,Wheelchair Accessible
ATTACH;FMTTYPE=image/jpeg:https://www.jewishannarbor.org/wp-content/uploads/2026/02/Jewish_Studies_Logo_960x600-3s8PZd.jpg
ORGANIZER;CN="EMU Center for Jewish Studies":MAILTO:jewish.studies@emich.edu
END:VEVENT
BEGIN:VEVENT
DTSTART;TZID=America/Detroit:20260312T180000
DTEND;TZID=America/Detroit:20260312T203000
DTSTAMP:20260422T161432
CREATED:20260204T164607Z
LAST-MODIFIED:20260318T011608Z
UID:10006099-1773338400-1773347400@www.jewishannarbor.org
SUMMARY:A Night of Comedy and FUNdraising: Benefiting PJ Library - SPONSORSHIP OPPORTUNITIES
DESCRIPTION:Become a sponsor for the **4th Annual Night of Comedy and FUNdraising**! This\nyear\, proceeds will go to **PJ Library** \, a program that provides free\,\naward-winning Jewish books to the children in our community. Jewish comedian\nShaun Eli will be performing! \nDate: **Thursday\, March 12** \nLocation: Ann Arbor Comedy Showcase\, 212 S 4th Avenue in Ann Arbor \nTime: Doors open at **6 PM** \, and the show will begin at **7:15 PM**. \n**_Sponsorship Entitlements_** \n  * **PLEASE DO NOT PURCHASE TICKETS SEPARATELY! Your sponsorship includes tickets which we will secure for you.** \n**HEADLINER Sponsorship – $5\,000**\nAs a HEADLINER Sponsor\, you will receive 10 tickets to the show\, 20 drink\ntickets\, and prime seating. In addition to being included in the marketing and\nsponsorship materials\, you will have the opportunity to host a branded table\nat the event to share information or swag. \n**STAND UP Sponsorship – $1\,000**\nAs a STAND UP Sponsor\, you will receive 8 tickets to the show\, 16 drink\ntickets\, and prime seating. You will also be included in marketing and\nsponsorship materials. \n**COMEDY LOVER Sponsorship – $500**\nAs a COMEDY LOVER Sponsor\, you will receive 4 tickets to the show\, 8 drink\ntickets\, and prime seating. You will also be included in marketing and\nsponsorship materials. \n**EMCEE Sponsorship – $200**\nAs an EMCEE Sponsor\, you will receive 2 tickets to the show\, 4 drink tickets\,\nand prime seating. You will also be included in marketing and sponsorship\nmaterials. \nCan’t join us for the event but still want to support PJ Library? (https://operations.daxko.com/online/4088/OnlineGiving/Donation.mvc?campaign_id=9044) \nOrganized by: JCC of Greater Ann Arbor \nView event on Jlive: https://jlive.app/events/14250
URL:https://www.jewishannarbor.org/event/a-night-of-comedy-and-fundraising-benefiting-pj-library-sponsorship-opportunities/
LOCATION:Ann Arbor Comedy Showcase 212 S 4th Ave\, Ann Arbor
CATEGORIES:Adults,Alc. Drinks For Purchase,Arrival / Check In,Cocktails and Drinks,College Students,Finger Food,Food Available ($),Food Provided,Kosher,Non Alc. Drinks For Purchase,Older Adults,Parents,Special Guest,Young Adults
ATTACH;FMTTYPE=image/jpeg:https://www.jewishannarbor.org/wp-content/uploads/2026/02/JLive_Banners_22-elYYps.jpg
ORGANIZER;CN="JCC of Greater Ann Arbor":MAILTO:jcc@jccannarbor.org
END:VEVENT
BEGIN:VEVENT
DTSTART;TZID=America/Detroit:20260312T180000
DTEND;TZID=America/Detroit:20260312T203000
DTSTAMP:20260422T161432
CREATED:20260204T164613Z
LAST-MODIFIED:20260318T011606Z
UID:10006100-1773338400-1773347400@www.jewishannarbor.org
SUMMARY:A Night of Comedy and FUNdraising: Benefiting PJ Library - GENERAL ADMISSION TICKETS
DESCRIPTION:(https://jlive.app/events/14250) \nJoin us for the **4th Annual Night of Comedy and FUNdraising**! This year\,\nproceeds will go to **PJ Library** \, a program that provides free\, award-\nwinning Jewish books to the children in our community. Jewish comedian Shaun\nEli will be performing! \nDate: **Thursday\, March 12** \nLocation: Ann Arbor Comedy Showcase\, 212 S 4th Avenue in Ann Arbor \nTime: Doors open at **6 PM** \, and the show will begin at **7:15 PM**. \nSingle Tickets: **$48 -** includes **2 drink tickets** (ages 21 and up)\,\n**unlimited popcorn** \, and a **kosher snack** of your choice \nPJ Library provides free\, award-winning books that celebrate Jewish values and\nculture with children from birth through 12 years old every month. Our program\nhas grown to 5\,300 free books each year\, and we need your support to continue\nthis wonderful initiative. \nOrganized by: JCC of Greater Ann Arbor \nView event on Jlive: https://jlive.app/events/14011
URL:https://www.jewishannarbor.org/event/a-night-of-comedy-and-fundraising-benefiting-pj-library-general-admission-tickets/
LOCATION:Ann Arbor Comedy Showcase 212 S 4th Ave\, Ann Arbor
CATEGORIES:Adults,Alc. Drinks For Purchase,Arrival / Check In,Cocktails and Drinks,College Students,Finger Food,Food Available ($),Food Provided,Kosher,Non Alc. Drinks For Purchase,Older Adults,Parents,Special Guest,Young Adults
ATTACH;FMTTYPE=image/jpeg:https://www.jewishannarbor.org/wp-content/uploads/2026/02/JLive_Banners_21-9xn8iL.jpg
ORGANIZER;CN="JCC of Greater Ann Arbor":MAILTO:jcc@jccannarbor.org
END:VEVENT
BEGIN:VEVENT
DTSTART;TZID=America/Detroit:20260317T170000
DTEND;TZID=America/Detroit:20260317T183000
DTSTAMP:20260422T161432
CREATED:20260204T164634Z
LAST-MODIFIED:20260318T015520Z
UID:10006108-1773766800-1773772200@www.jewishannarbor.org
SUMMARY:Hasidic Women in the Media
DESCRIPTION:In a compelling lecture performance\, author Jessica Roda presents themes from\nher groundbreaking book _For Women and Girls Only_ \, joined by actress\,\nwriter\, and producer Malky Goldman—the book’s remarkable protagonist. The\nevent offers a nuanced exploration of the representation of Hasidic female\nidentity in media\, on screen\, and on stage. Goldman\, who was raised in the\nultra-Orthodox neighborhood of Mea Shearim in Jerusalem\, shares her deeply\npersonal journey navigating the arts from within and beyond the boundaries of\nher Hasidic upbringing. Through dialogue\, multimedia\, and live performance\,\nthe evening exposes the tensions between tradition and self-expression\,\nvisibility and erasure\, community expectations and artistic freedom. Roda\ncontextualizes Goldman’s story within broader questions of gender\, religion\,\nand representation\, challenging reductive portrayals of Hasidic women in\nmainstream media. Goldman’s voice—grounded\, creative\, and courageous—offers a\npowerful counter-narrative\, reclaiming agency and complexity for Hasidic\nfemale identities on public stages. The performance invites audiences to\nreconsider assumptions and listen to stories often silenced or misunderstood. \nOrganized by: U-M Frankel Center for Judaic Studies \nView event on Jlive: https://jlive.app/events/13938
URL:https://www.jewishannarbor.org/event/hasidic-women-in-the-media/
LOCATION:202 S Thayer St 202 S Thayer St\, Ann Arbor
CATEGORIES:Adults,Arts & Culture,College Students,History,Jewish Learning,Older Adults,Special Guest,Wheelchair Accessible,Women,Young Adults
ATTACH;FMTTYPE=image/jpeg:https://www.jewishannarbor.org/wp-content/uploads/2026/02/maxresdefault-Za56St.jpg
ORGANIZER;CN="U-M Frankel Center for Judaic Studies":MAILTO:js-event-coord@umich.edu
END:VEVENT
BEGIN:VEVENT
DTSTART;TZID=America/Detroit:20260318T183000
DTEND;TZID=America/Detroit:20260318T201500
DTSTAMP:20260422T161432
CREATED:20260224T001616Z
LAST-MODIFIED:20260318T015524Z
UID:10006169-1773858600-1773864900@www.jewishannarbor.org
SUMMARY:Raising Resilient Kids: An Evening with Lenore Skenazy
DESCRIPTION:Join us for an inspiring talk with Lenore Skenazy\, renowned author\, speaker\,\nand founder of the Let Grow movement.\nLenore is best known for her groundbreaking book “Free-Range Kids” and her\ndecades of work challenging the culture of overprotection in parenting.\nThe evening will include a live presentation by Lenore\, followed by a Q&A led\nby Dr. Beth Pearson\, director of the Ann Arbor location of Arbor Psychology\nGroup\, Hebrew Day School consulting psychologist. \n**> > Wednesday\, March 18th**\n**> > 6:30-8:15 PM**\n**> > At the Jewish Community Center\, Ann Arbor**\n**> > Free of charge**\n**> > Kosher dinner provided**\n**> > Bring the kids! KidZone staff will be on-site with youth programming\n(ages 5+)**\n**> > RSVP here:\n**(https://www.jlive.app/events/14688) \nWe hope to see you there! \nOrganized by: Hebrew Day School of Ann Arbor\, \nView event on Jlive: https://jlive.app/events/14688
URL:https://www.jewishannarbor.org/event/raising-resilient-kids-an-evening-with-lenore-skenazy/
LOCATION:Jewish Community Center of Greater Ann Arbor 2935 Birch Hollow Dr\, Ann Arbor
CATEGORIES:Adults,Beverages (non alcoholic),Childcare,Coffee,English Speaking,Families,Grandparents,Kids Area,Kosher,Kosher Food,Older Adults,Parents,Parking (free),Special Guest,Vegetarian Friendly,Wheelchair Accessible,WiFi
ATTACH;FMTTYPE=image/jpeg:https://www.jewishannarbor.org/wp-content/uploads/2026/02/Let_Grow_0318_1-iuAv6E.jpg
ORGANIZER;CN="Hebrew Day School of Ann Arbor":MAILTO:office@hdsaa.org
END:VEVENT
BEGIN:VEVENT
DTSTART;TZID=America/Detroit:20260324T170000
DTEND;TZID=America/Detroit:20260324T183000
DTSTAMP:20260422T161432
CREATED:20260204T164640Z
LAST-MODIFIED:20260321T085019Z
UID:10006111-1774371600-1774377000@www.jewishannarbor.org
SUMMARY:How Ford Transformed Religion in America
DESCRIPTION:What does a motor company and its founder have to do with religion in America?\nA lot\, it turns out. Henry Ford did not just mass produce cars. As a member of\nthe Episcopal Church\, reader of New Thought texts\, believer in the “gospel of\nreincarnation\,” mass marketer of antisemitic material\, and employer who\ninstitutionalized a social gospel\, Henry Ford’s contributions to American\nmodels of business were informed by and produced for an America he understood\nto be broadly Christian. Though Ford’s efforts at the head of the Ford Motor\nCompany have commonly been understood as secular\, the Motor King was explicit\nthat his work in engineering and auto production was prophetic and meant to\nremake the world. This talk offers a religious history of Henry Ford and the\nFord Motor Company\, repositioning them within critical studies of religion and\nexamining how Ford transformed American religion in the twentieth century. \nOrganized by: U-M Frankel Center for Judaic Studies \nView event on Jlive: https://jlive.app/events/13937
URL:https://www.jewishannarbor.org/event/how-ford-transformed-religion-in-america/
LOCATION:202 S Thayer St 202 S Thayer St\, Ann Arbor
CATEGORIES:Adults,College Students,History,Interfaith,Jewish Learning,Older Adults,Special Guest,Young Adults
ATTACH;FMTTYPE=image/jpeg:https://www.jewishannarbor.org/wp-content/uploads/2026/02/Henry_Ford_portrait_1915_original_cropped-ZShWpy.jpg
ORGANIZER;CN="U-M Frankel Center for Judaic Studies":MAILTO:js-event-coord@umich.edu
END:VEVENT
BEGIN:VEVENT
DTSTART;TZID=America/Detroit:20260324T190000
DTEND;TZID=America/Detroit:20260324T203000
DTSTAMP:20260422T161432
CREATED:20260224T005511Z
LAST-MODIFIED:20260319T162725Z
UID:10006173-1774378800-1774384200@www.jewishannarbor.org
SUMMARY:Israeli Nifgashim
DESCRIPTION:ישראלים נפגשים\nהרצאה קצרה\, שיחה וחברים\n3 gatherings for Israelis in Hebrew.\nOn February 24th Aviv Touitou Certified aromatherapist and social worker\nspeaks about Aromatherapy – The Power of Essential Oils to Support & Heal the\nBody & Mind.\nOn March 24th Ariel Levi\, DDS\, Orthodontist speaks about the Basics of\nOrthodontics.\nOn May 19th Tomer Stern\, PhD\, MSc\, Assistant Professor at the University of\nMichigan School of Dentistry speaks about Advancing Skeletal Pathology\nResearch Through Computational Biology. \nOrganized by: Jewish Federation of Greater Ann Arbor \nView event on Jlive: https://jlive.app/events/14763
URL:https://www.jewishannarbor.org/event/israeli-nifgashim-2/
LOCATION:Ann Arbor \, Ann Arbor
CATEGORIES:Adults,Beverages (non alcoholic),Educational,Families,Hebrew and Yiddish,Hebrew Speaking,Israel,Jewish Federation of Greater Ann Arbor,Jewish Federation of Greater Ann Arbor - General,Special Guest
ATTACH;FMTTYPE=image/jpeg:https://www.jewishannarbor.org/wp-content/uploads/2026/02/Israelim_Nifgashim_Series_Flyer_960_x_600_px_date_2_2-mQa9GU.jpg
ORGANIZER;CN="Jewish Federation of Greater Ann Arbor":MAILTO:info@jewishannarbor.org
END:VEVENT
BEGIN:VEVENT
DTSTART;TZID=America/Detroit:20260324T190000
DTEND;TZID=America/Detroit:20260324T203000
DTSTAMP:20260422T161432
CREATED:20260320T045518Z
LAST-MODIFIED:20260321T085022Z
UID:10006198-1774378800-1774384200@www.jewishannarbor.org
SUMMARY:Israeli Nifgashim
DESCRIPTION:ישראלים נפגשים\nהרצאה קצרה\, שיחה וחברים\n3 gatherings for Israelis in Hebrew.\nOn February 24th Aviv Touitou Certified aromatherapist and social worker\nspeaks about Aromatherapy – The Power of Essential Oils to Support & Heal the\nBody & Mind.\nOn March 24th Ariel Levi\, DDS\, Orthodontist speaks about the Basics of\nOrthodontics.\nOn May 19th Tomer Stern\, PhD\, MSc\, Assistant Professor at the University of\nMichigan School of Dentistry speaks about Advancing Skeletal Pathology\nResearch Through Computational Biology. \nOrganized by: Jewish Federation of Greater Ann Arbor \nView event on Jlive: https://jlive.app/events/15189
URL:https://www.jewishannarbor.org/event/israeli-nifgashim-3/
LOCATION:Ann Arbor \, Ann Arbor
CATEGORIES:Adults,Beverages (non alcoholic),Educational,Families,General,Hebrew Speaking,Older Adults,Parents,Special Guest,Young Adults
ATTACH;FMTTYPE=image/jpeg:https://www.jewishannarbor.org/wp-content/uploads/2026/02/Israelim_Nifgashim_Series_Flyer_960_x_600_px_date_2_2-mQa9GU.jpg
ORGANIZER;CN="Jewish Federation of Greater Ann Arbor":MAILTO:info@jewishannarbor.org
END:VEVENT
BEGIN:VEVENT
DTSTART;TZID=America/Detroit:20260326T120000
DTEND;TZID=America/Detroit:20260326T133000
DTSTAMP:20260422T161432
CREATED:20260204T164644Z
LAST-MODIFIED:20260321T085030Z
UID:10006112-1774526400-1774531800@www.jewishannarbor.org
SUMMARY:Jewish Book Series: Lunch & Learn with Ayelet Tsabari
DESCRIPTION:Please join us at the JCC on **Thursday\, March 26** from **12:00-1:30 PM** for\nan in-person Lunch & Learn and a virtual visit from Ayelet Tsabari\, the author\nof _Songs for the Brokenhearted: A Novel._ Enjoy a delicious Yemeni lunch\nwhile listening to Ayelet speak about her book over Zoom. **Lunch starts at\nnoon\, author talk begins promptly at 12:30 PM.** \nThis event is part of the JCC’s ongoing **Book Series** \, where visiting\nJewish authors give talks on their work to bring new ideas and literature to\nthe community. **The cost of this program is $12.50/person.** This program is\nsponsored by ORT. Zoom available upon request. \n_JCC community events and programs are open to all regardless of faith or\nbackground. All are welcome._ \n**_Book Blurb_** \n1950. Thousands of Yemeni Jews have immigrated to the newly founded Israel in\nsearch of a better life. In an overcrowded immigrant camp in Rosh Ha’ayin\,\nYaqub\, a shy young man\, happens upon Saida\, a beautiful girl singing by the\nriver. In the midst of chaos and uncertainty\, they fall in love. But they\nweren’t supposed to; Saida is married and has a child\, and a married woman has\nno place befriending another man. \n1995. Thirty-something Zohara\, Saida’s daughter\, has been living in New York\nCity—a city that feels much less complicated than Israel\, where she grew up\nwishing that her skin was lighter\, that her illiterate mother’s Yemeni music\nwas quieter\, and that the father who always favored her was alive. She hasn’t\nlooked back since leaving home\, rarely in touch with her mother or sister\,\nLizzie\, and missing out on her nephew Yoni’s childhood. But when Lizzie calls\nto tell her their mother has died\, she gets on a plane to Israel with no\nreturn ticket. \nSoon Zohara finds herself on an unexpected path that leads to shocking truths\nabout her family—including dangers that lurk for impressionable young men and\nsecrets that force her to question everything she thought she knew about her\nparents\, her heritage\, and her own future. \nOrganized by: JCC of Greater Ann Arbor \nView event on Jlive: https://jlive.app/events/14346
URL:https://www.jewishannarbor.org/event/jewish-book-series-lunch-learn-with-ayelet-tsabari/
LOCATION:Jewish Community Center of Greater Ann Arbor 2935 Birch Hollow Dr\, Ann Arbor
CATEGORIES:Adults,Arrival / Check In,College Students,Educational,Food Available ($),Older Adults,Parking (free),Special Guest,Young Adults
ATTACH;FMTTYPE=image/jpeg:https://www.jewishannarbor.org/wp-content/uploads/2026/02/Songs_of_the_Broken_Hearted_JLive-Cru8aJ.jpg
ORGANIZER;CN="JCC of Greater Ann Arbor":MAILTO:jcc@jccannarbor.org
END:VEVENT
BEGIN:VEVENT
DTSTART;TZID=America/Detroit:20260326T173000
DTEND;TZID=America/Detroit:20260326T200000
DTSTAMP:20260422T161432
CREATED:20260204T164703Z
LAST-MODIFIED:20260321T085506Z
UID:10006113-1774546200-1774555200@www.jewishannarbor.org
SUMMARY:36th Annual David W. Belin Lecture
DESCRIPTION:The 36th Annual David W. Belin Lecture will be delivered by Dr. Ayala Fader on\nThursday\, March 26\, 2026. Food will be served at the pre-lecture reception\,\nand Fader will sign books after the lecture. This free\, public lecture will\ntake place in the Pendleton Room of the Michigan Union on Thursday\, March 26\,\n2026. Please RSVP at (https://myumi.ch/15PN8) to let\nus know if you plan to attend. \nOver the past decade\, frum (Orthodox) Jewish women wellness influencers on\nsocial media have become a significant presence. Despite attempts by some\nrabbis to silence them\, frum influencers in the United States and Israel\ncontinue to share intimate details of their everyday lives online\, earning a\nliving through the promotion of products linked to their platforms. Professor\nFader’s talk examines the seemingly contradictory worlds these influencers\nnavigate: while claiming new forms of gendered authority\, they simultaneously\nreinforce traditional Jewish family structures and gender roles.\nDrawing inspiration from conservative Christian wellness influencers\, frum\ninfluencers create content that asserts Jewish exceptionalism while fostering\nunexpected exchanges with conservative Christian women. The lecture will\nconsider whether frum social media influencers are subtly promoting illiberal\npolitics through the gendered language of wellness. \n**Ayala Fader  **is professor of anthropology at Fordham University. She is\nthe author of the award-winning books\, _Mitzvah Girls: Bringing Up the Next\nGeneration of Hasidic Jews in Brooklyn_  (Princeton University Press\, 2009)\nand _Hidden Heretics: Jewish Doubt in the Digital Age_  (Princeton University\nPress\, 2020). Her research has been supported by the National Science\nFoundation and the National Endowment for the Humanities. Fader’s current book\nproject examines the trend of American Orthodox Jews aligning themselves with\na new form of religion on the Christian Right—a public\, political\, racialized\,\nand biblical philosophy\, redefining postwar Judeo-Christianity in the\ncontemporary political landscape. As the founding director of Fordham’s Center\nfor Public Anthropology\, Fader is currently collaborating on the Demystifying\nLanguage Project\, which makes linguistic anthropology a social justice\nresource for public high schools. Fader received her Ph.D. from New York\nUniversity \n** _About the Belin Lecture_**\nSince 1991\, the Frankel Center has hosted an accomplished speaker to present\nthe David W. Belin lecture in American Jewish Affairs. Following the annual\nlecture\, each speaker provides a text version of their talk. This essay is\nthen published in print format and is made available\n(https://www.fulcrum.org/belin?locale=en)**.**  To request a\nspecific year’s lecture book\, please email JudaicStudies@umich.edu. \nOrganized by: U-M Frankel Center for Judaic Studies \nView event on Jlive: https://jlive.app/events/13395
URL:https://www.jewishannarbor.org/event/36th-annual-david-w-belin-lecture/
LOCATION:Michigan Union 530 S State St\, Ann Arbor
CATEGORIES:All Ages,Closed Captions,Coffee,Educational,English Speaking,Finger Food,Food,History,Items for sale,Jewish Learning,Presentation,Special Guest,Vegetarian Friendly,Wheelchair Accessible
ATTACH;FMTTYPE=image/jpeg:https://www.jewishannarbor.org/wp-content/uploads/2026/02/FaderProfile_DSC_1536-1024x503-yZc1E8.jpg
ORGANIZER;CN="U-M Frankel Center for Judaic Studies":MAILTO:js-event-coord@umich.edu
END:VEVENT
END:VCALENDAR