BEGIN:VCALENDAR
VERSION:2.0
PRODID:-//Jewish Federation of Greater Ann Arbor - ECPv6.15.17.1//NONSGML v1.0//EN
CALSCALE:GREGORIAN
METHOD:PUBLISH
X-WR-CALNAME:Jewish Federation of Greater Ann Arbor
X-ORIGINAL-URL:https://www.jewishannarbor.org
X-WR-CALDESC:Events for Jewish Federation of Greater Ann Arbor
REFRESH-INTERVAL;VALUE=DURATION:PT1H
X-Robots-Tag:noindex
X-PUBLISHED-TTL:PT1H
BEGIN:VTIMEZONE
TZID:America/Detroit
BEGIN:DAYLIGHT
TZOFFSETFROM:-0500
TZOFFSETTO:-0400
TZNAME:EDT
DTSTART:20240310T070000
END:DAYLIGHT
BEGIN:STANDARD
TZOFFSETFROM:-0400
TZOFFSETTO:-0500
TZNAME:EST
DTSTART:20241103T060000
END:STANDARD
BEGIN:DAYLIGHT
TZOFFSETFROM:-0500
TZOFFSETTO:-0400
TZNAME:EDT
DTSTART:20250309T070000
END:DAYLIGHT
BEGIN:STANDARD
TZOFFSETFROM:-0400
TZOFFSETTO:-0500
TZNAME:EST
DTSTART:20251102T060000
END:STANDARD
BEGIN:DAYLIGHT
TZOFFSETFROM:-0500
TZOFFSETTO:-0400
TZNAME:EDT
DTSTART:20260308T070000
END:DAYLIGHT
BEGIN:STANDARD
TZOFFSETFROM:-0400
TZOFFSETTO:-0500
TZNAME:EST
DTSTART:20261101T060000
END:STANDARD
END:VTIMEZONE
BEGIN:VEVENT
DTSTART;TZID=America/Detroit:20251107T173000
DTEND;TZID=America/Detroit:20251107T190000
DTSTAMP:20260424T074634
CREATED:20251013T192453Z
LAST-MODIFIED:20251013T192556Z
UID:10006013-1762536600-1762542000@www.jewishannarbor.org
SUMMARY:A2J Climate Circle Shabbat Potluck
DESCRIPTION:Come join with others in the Jewish climate action community for our A2J Climate Circle Shabbat potluck! \nTo keep our greenhouse gases to a minimum\, we request that you bring only plant-based foods and try to avoid disposable containers. (Provide an ingredient list if the ingredients are not obvious or if the dish includes nuts). \nWe will provide all the coffee\, tea\, and water you can drink — but if you want a different beverage\, please bring your own. \nPlease RSVP here \nAND — TBE welcomes you to stay for the Climate Action Shabbat service\, which starts at 6:30 p.m. \nAny questions can be directed to info@A2JClimateCircle.com \nDate: 11/7/2025 (Fri.)\nTime: 5:30 – 7:00 pm\nLocation: BIC annex at 2010 Washtenaw
URL:https://www.jewishannarbor.org/event/a2j-climate-circle-shabbat-potluck-2/
LOCATION:Beth Israel Congregation\, 2000 Washtenaw Avenue\, Ann Arbor\, MI\, USA\, Ann Arbor\, MI\, 48108\, United States
CATEGORIES:General,Social Justice
END:VEVENT
END:VCALENDAR