BEGIN:VCALENDAR
VERSION:2.0
PRODID:-//Jewish Federation of Greater Ann Arbor - ECPv6.15.17.1//NONSGML v1.0//EN
CALSCALE:GREGORIAN
METHOD:PUBLISH
X-WR-CALNAME:Jewish Federation of Greater Ann Arbor
X-ORIGINAL-URL:https://www.jewishannarbor.org
X-WR-CALDESC:Events for Jewish Federation of Greater Ann Arbor
REFRESH-INTERVAL;VALUE=DURATION:PT1H
X-Robots-Tag:noindex
X-PUBLISHED-TTL:PT1H
BEGIN:VTIMEZONE
TZID:America/Detroit
BEGIN:DAYLIGHT
TZOFFSETFROM:-0500
TZOFFSETTO:-0400
TZNAME:EDT
DTSTART:20250309T070000
END:DAYLIGHT
BEGIN:STANDARD
TZOFFSETFROM:-0400
TZOFFSETTO:-0500
TZNAME:EST
DTSTART:20251102T060000
END:STANDARD
BEGIN:DAYLIGHT
TZOFFSETFROM:-0500
TZOFFSETTO:-0400
TZNAME:EDT
DTSTART:20260308T070000
END:DAYLIGHT
BEGIN:STANDARD
TZOFFSETFROM:-0400
TZOFFSETTO:-0500
TZNAME:EST
DTSTART:20261101T060000
END:STANDARD
BEGIN:DAYLIGHT
TZOFFSETFROM:-0500
TZOFFSETTO:-0400
TZNAME:EDT
DTSTART:20270314T070000
END:DAYLIGHT
BEGIN:STANDARD
TZOFFSETFROM:-0400
TZOFFSETTO:-0500
TZNAME:EST
DTSTART:20271107T060000
END:STANDARD
END:VTIMEZONE
BEGIN:VEVENT
DTSTART;TZID=America/Detroit:20260419T220000
DTEND;TZID=America/Detroit:20260420T110000
DTSTAMP:20260420T161048
CREATED:20260224T005519Z
LAST-MODIFIED:20260326T145018Z
UID:10006174-1776636000-1776682800@www.jewishannarbor.org
SUMMARY:Bi-Annual Rosenberg Scholar-in-Residence Weekend with Dr. Benjamin Sommer
DESCRIPTION:**Friday\, April 17th- Sunday\, April 19th Rosenberg Scholar-In-Residence\nWeekend with Dr. Benjamin D. Sommer**\nBeth Israel Congregation is proud to welcome Dr. Benjamin Sommer as this\nyear’s Rosenberg Scholar-in-Residence. Dr. Sommer is a preeminent biblical\nscholar and Jewish theologian serving as a Professor of Bible and Ancient\nSemitic Languages at The Jewish Theological Seminary. A prolific author and\nlecturer\, Dr. Sommer’s research explores the intersections of Israelite\nreligion\, biblical theology\, and modern Jewish thought. He is widely\nrecognized for his award-winning books\, including _The Bodies of God and the\nWorld of Ancient Israel_ and _Revelation and Authority: Sinai in Jewish\nScripture and Tradition_ \, a finalist for the National Jewish Book Award.\nDescribed by Ha’aretz as both a “traditionalist and yet an iconoclast\,” Dr.\nSommer has held prestigious fellowships at the National Humanities Center and\nthe Shalom Hartman Institute\, bringing a synthesis of intellectual acuity and\ndeep textual knowledge to his work. See the calendar at (http://bethisrael-aa.org) for event details and to register for\nShabbat dinner on April 17th. \nOrganized by: Beth Israel Congregation \nView event on Jlive: https://jlive.app/events/13950
URL:https://www.jewishannarbor.org/event/bi-annual-scholar-in-residence-weekend-with-dr-benjamin-sommers-4/
LOCATION:Beth Israel Congregation 2000 Washtenaw Ave\, Ann Arbor
CATEGORIES:Adults,Jewish Learning,Parking (free),Special Guest
ATTACH;FMTTYPE=image/png:https://www.jewishannarbor.org/wp-content/uploads/2026/03/JL-Rosenberg_Scholar-in-Residence_2026_1-5ax15C.png
ORGANIZER;CN="Beth Israel Congregation":MAILTO:office@bethisrael-aa.org
END:VEVENT
BEGIN:VEVENT
DTSTART;TZID=America/Detroit:20260420T161500
DTEND;TZID=America/Detroit:20260420T174500
DTSTAMP:20260420T161048
CREATED:20260204T170700Z
LAST-MODIFIED:20260204T170700Z
UID:10006149-1776701700-1776707100@www.jewishannarbor.org
SUMMARY:Girls on the Run
DESCRIPTION:Meeting **twice weekly for 90 minutes over 8 weeks** \, our trained and caring\ncoaches\nlead **3rd – 6th graders** through our BRAND-NEW _Hello\, Bold Heart_\ncurriculum that\nexpands our evidence-based lessons and activities to equip girls to build\ntheir _Heart_\n _Power_ —the confidence to boldly share their thoughts\, ideas\, and feelings.\nThis\nseason\, they’ll **learn to use their voices** (even when they are nervous)\,\nand develop\n**life skills** like **resolving conflicts** with others\,**building healthy\nhabits** \, and **deepening**\n**their confidence**. The season ends with a community wide\, non-competitive\n**Girls on**\n**the Run 5K event** where our participants are guaranteed to shine! \n**_Learn more & register at\n_**(https://www.girlsontherunsemi.org) \nOrganized by: JCC of Greater Ann Arbor \nView event on Jlive: https://jlive.app/events/13856
URL:https://www.jewishannarbor.org/event/girls-on-the-run-8/
LOCATION:Jewish Community Center of Greater Ann Arbor 2935 Birch Hollow Dr\, Ann Arbor
CATEGORIES:Arrival / Check In,Children,Health & Wellness,Kids Area,Mental Health,Outdoors,Parking (free),Sports & Fitness,Tweens
ATTACH;FMTTYPE=image/png:https://www.jewishannarbor.org/wp-content/uploads/2026/02/GOTR_JLive_Banner-KhCNqc.png
ORGANIZER;CN="JCC of Greater Ann Arbor":MAILTO:jcc@jccannarbor.org
END:VEVENT
END:VCALENDAR