BEGIN:VCALENDAR
VERSION:2.0
PRODID:-//Jewish Federation of Greater Ann Arbor - ECPv6.15.17.1//NONSGML v1.0//EN
CALSCALE:GREGORIAN
METHOD:PUBLISH
X-ORIGINAL-URL:https://www.jewishannarbor.org
X-WR-CALDESC:Events for Jewish Federation of Greater Ann Arbor
REFRESH-INTERVAL;VALUE=DURATION:PT1H
X-Robots-Tag:noindex
X-PUBLISHED-TTL:PT1H
BEGIN:VTIMEZONE
TZID:America/Detroit
BEGIN:DAYLIGHT
TZOFFSETFROM:-0500
TZOFFSETTO:-0400
TZNAME:EDT
DTSTART:20240310T070000
END:DAYLIGHT
BEGIN:STANDARD
TZOFFSETFROM:-0400
TZOFFSETTO:-0500
TZNAME:EST
DTSTART:20241103T060000
END:STANDARD
BEGIN:DAYLIGHT
TZOFFSETFROM:-0500
TZOFFSETTO:-0400
TZNAME:EDT
DTSTART:20250309T070000
END:DAYLIGHT
BEGIN:STANDARD
TZOFFSETFROM:-0400
TZOFFSETTO:-0500
TZNAME:EST
DTSTART:20251102T060000
END:STANDARD
BEGIN:DAYLIGHT
TZOFFSETFROM:-0500
TZOFFSETTO:-0400
TZNAME:EDT
DTSTART:20260308T070000
END:DAYLIGHT
BEGIN:STANDARD
TZOFFSETFROM:-0400
TZOFFSETTO:-0500
TZNAME:EST
DTSTART:20261101T060000
END:STANDARD
BEGIN:DAYLIGHT
TZOFFSETFROM:-0500
TZOFFSETTO:-0400
TZNAME:EDT
DTSTART:20270314T070000
END:DAYLIGHT
BEGIN:STANDARD
TZOFFSETFROM:-0400
TZOFFSETTO:-0500
TZNAME:EST
DTSTART:20271107T060000
END:STANDARD
END:VTIMEZONE
BEGIN:VEVENT
DTSTART;TZID=America/Detroit:20260211T163000
DTEND;TZID=America/Detroit:20260211T180000
DTSTAMP:20260424T034927
CREATED:20260204T163657Z
LAST-MODIFIED:20260204T172713Z
UID:10006084-1770827400-1770832800@www.jewishannarbor.org
SUMMARY:Chavurat Nashim\, Fellowship of Women\, Hamantashen Baking & Mishloach Manot Making
DESCRIPTION:Amanda Fisher will lead us in baking mini hamantashen and then we will\nassemble mishloach manot bags to give to new members and older members. Join\nus in fulfilling this mitzvah of giving portions to community members! We need\ndonations(for the bags) and drivers (to deliver the bags). Please register\nthrough the calendar and follow the Sign Up Genius link below to register to\nbring items and deliver bags.\n   https://www.signupgenius.com/go/10C0545A9AA29AAFCC43-61602556-mishloach \nOrganized by: Beth Israel Congregation \nView event on Jlive: https://jlive.app/events/14198
URL:https://www.jewishannarbor.org/event/chavurat-nashim-fellowship-of-women-hamantashen-baking-mishloach-manot-making/
LOCATION:Beth Israel Congregation 2000 Washtenaw Ave\, Ann Arbor
CATEGORIES:Adults,Jewish Holiday,Parking (free),Purim
ATTACH;FMTTYPE=image/jpeg:https://www.jewishannarbor.org/wp-content/uploads/2026/02/JL-CN_Mishloach_Manot-pyIaDe.jpg
ORGANIZER;CN="Beth Israel Congregation":MAILTO:office@bethisrael-aa.org
END:VEVENT
BEGIN:VEVENT
DTSTART;TZID=America/Detroit:20260207T110000
DTEND;TZID=America/Detroit:20260207T140000
DTSTAMP:20260424T034927
CREATED:20260204T163605Z
LAST-MODIFIED:20260204T172709Z
UID:10006081-1770462000-1770472800@www.jewishannarbor.org
SUMMARY:Tot Shabbat
DESCRIPTION:Join us for a playful morning of Jewish songs and stories. Challah and grape\njuice kiddush included. For kids age 1 through 1st grade and parents\, but all\nare welcome to join. \nOrganized by: Beth Israel Congregation \nView event on Jlive: https://jlive.app/events/14165
URL:https://www.jewishannarbor.org/event/tot-shabbat-2/
LOCATION:Beth Israel Congregation 2000 Washtenaw Ave\, Ann Arbor
CATEGORIES:Families,Grandparents,Jewish Holiday,Parents,Parking (free),Shabbat,Young Children
ATTACH;FMTTYPE=image/png:https://www.jewishannarbor.org/wp-content/uploads/2026/02/February_Tot_Shabbat_JL_-YgD98D.png
ORGANIZER;CN="Beth Israel Congregation":MAILTO:office@bethisrael-aa.org
END:VEVENT
BEGIN:VEVENT
DTSTART;TZID=America/Detroit:20260207T110000
DTEND;TZID=America/Detroit:20260207T120000
DTSTAMP:20260424T034927
CREATED:20260204T163558Z
LAST-MODIFIED:20260204T172708Z
UID:10006080-1770462000-1770465600@www.jewishannarbor.org
SUMMARY:Tot Shabbat
DESCRIPTION:Join us for a playful morning of Jewish songs and stories. Challah and grape\njuice kiddush included. For kids age 1 through 1st grade and parents\, but all\nare welcome to join. \nOrganized by: Beth Israel Congregation \nView event on Jlive: https://jlive.app/events/14165
URL:https://www.jewishannarbor.org/event/tot-shabbat/
LOCATION:Beth Israel Congregation 2000 Washtenaw Ave\, Ann Arbor
CATEGORIES:Families,Grandparents,Jewish Holiday,Parents,Parking (free),Shabbat,Young Children
ATTACH;FMTTYPE=image/png:https://www.jewishannarbor.org/wp-content/uploads/2026/02/February_Tot_Shabbat_JL_-YgD98D.png
ORGANIZER;CN="Beth Israel Congregation":MAILTO:office@bethisrael-aa.org
END:VEVENT
BEGIN:VEVENT
DTSTART;TZID=America/Detroit:20260201T100000
DTEND;TZID=America/Detroit:20260201T120000
DTSTAMP:20260424T034927
CREATED:20251219T201554Z
LAST-MODIFIED:20251219T201554Z
UID:10006066-1769940000-1769947200@www.jewishannarbor.org
SUMMARY:JCC: Community Tu B'Shevat Celebration
DESCRIPTION:
URL:https://www.jewishannarbor.org/event/jcc-community-tu-bshevat-celebration/
LOCATION:Jewish Community Center of Ann Arbor\, 2935 Birch Hollow Drive\, Ann Arbor\, MI\, 48108\, United States
CATEGORIES:Arrival / Check In,Children,Community,Families,Jewish Community Center of Greater Ann Arbor,Jewish Holiday,Jewish Holidays,Parents,Parking (free),Wheelchair Accessible
END:VEVENT
BEGIN:VEVENT
DTSTART;TZID=America/Detroit:20251214T110000
DTEND;TZID=America/Detroit:20251214T120000
DTSTAMP:20260424T034927
CREATED:20251205T191607Z
LAST-MODIFIED:20251213T201603Z
UID:10006043-1765710000-1765713600@www.jewishannarbor.org
SUMMARY:מסיבת חנוכה ישראלית לילדים (Israeli Hanukkah Kids' Party)
DESCRIPTION:הצטרפו אלינו למסיבת חנוכה ישראלית לגילאי 2-7 בהנחיית השינשינים של הפדרציה\nהיהודית\nבתכנית: מוזיקת חג\, סופגניות ופעילות יצירה חגיגית \nהאירוע בחינם אבל נדרש להירשם מראש- אנא בחרו את מספר הכרטיסים כמספר המגיעים\n**יום ראשון\, 12.14**\n**11:00-12:00**\nנתראה! \nView event on Jlive: https://jlive.app/events/13886
URL:https://www.jewishannarbor.org/event/%d7%9e%d7%a1%d7%99%d7%91%d7%aa-%d7%97%d7%a0%d7%95%d7%9b%d7%94-%d7%99%d7%a9%d7%a8%d7%90%d7%9c%d7%99%d7%aa-%d7%9c%d7%99%d7%9c%d7%93%d7%99%d7%9d-israeli-hanukkah-kids-party/
LOCATION:2935 Birch Hollow Dr 2935 Birch Hollow Dr\, Ann Arbor
CATEGORIES:Children,Families,Grandparents,Hannukah,Hebrew and Yiddish,Hebrew Speaking,Jewish Holiday,Parents,Parking (free),Wheelchair Accessible,Young Children
ORGANIZER;CN="Jewish Federation of Greater Ann Arbor":MAILTO:info@jewishannarbor.org
END:VEVENT
BEGIN:VEVENT
DTSTART;TZID=America/Detroit:20251013T123000
DTEND;TZID=America/Detroit:20251013T140000
DTSTAMP:20260424T034927
CREATED:20251001T184512Z
LAST-MODIFIED:20251013T151604Z
UID:10005999-1760358600-1760364000@www.jewishannarbor.org
SUMMARY:Soup in the Sukkah: A Lions & Poms Appreciation Event
DESCRIPTION:Join us for lunch and an opportunity to create your own Fall bouquet as we at\nFederation say “Thank You” at this year’s Lions and Pomegranates donor\nappreciation Event. We are grateful for your leadership and generosity. \nWe will spend time together in the Sukkah\, enjoying a light lunch while we\ndiscuss what Sukkot means to us and create our own beautiful representations\nof the season. We hope to see you there! \nView event on Jlive: https://jlive.app/events/13149
URL:https://www.jewishannarbor.org/event/soup-in-the-sukkah-a-lions-poms-appreciation-event/
LOCATION:Jewish Community Center of Greater Ann Arbor 2935 Birch Hollow Dr\, Ann Arbor
CATEGORIES:Adults,Coffee,Food Provided,General,Jewish Holiday,Kosher Food,Older Adults,Philanthropy,Sukkot,Vegetarian Friendly,Women,Young Adults
ATTACH;FMTTYPE=image/jpeg:https://www.jewishannarbor.org/wp-content/uploads/2025/10/Soup_in_the_Sukkah_A_lions_and_Poms_Appreciation_Event_Monday_Oct_e5nXYXA-AsMKzX.jpg
ORGANIZER;CN="Jewish Federation of Greater Ann Arbor":MAILTO:info@jewishannarbor.org
END:VEVENT
BEGIN:VEVENT
DTSTART;TZID=America/Detroit:20251012T110000
DTEND;TZID=America/Detroit:20251012T123000
DTSTAMP:20260424T034927
CREATED:20251003T231610Z
LAST-MODIFIED:20251012T131607Z
UID:10006006-1760266800-1760272200@www.jewishannarbor.org
SUMMARY:מסיבת סוכות ישראלית לילדים (Israeli Sukkot Kids’ Party)
DESCRIPTION:מסיבת סוכות ישראלית לגילאי 4-7 \nהצטרפו אלינו בשעה 11:00-12:30 לאווירה ישראלית כיפית שבה נחגוג ביחד את חג\nהסוכות עם פעילות יצירה\, מסיבת ריקודים עם שירי חג בעברית ונשנושים. \nView event on Jlive: https://jlive.app/events/13221
URL:https://www.jewishannarbor.org/event/%d7%9e%d7%a1%d7%99%d7%91%d7%aa-%d7%a1%d7%95%d7%9b%d7%95%d7%aa-%d7%99%d7%a9%d7%a8%d7%90%d7%9c%d7%99%d7%aa-%d7%9c%d7%99%d7%9c%d7%93%d7%99%d7%9d-israeli-sukkot-kids-party/
LOCATION:Jewish Community Center of Greater Ann Arbor 2935 Birch Hollow Dr\, Ann Arbor
CATEGORIES:Children,Families,Hebrew Speaking,Israel,Jewish Holiday,Music,Parking (free),Sukkot,Vegetarian Friendly,Wheelchair Accessible,Young Children
ATTACH;FMTTYPE=image/jpeg:https://www.jewishannarbor.org/wp-content/uploads/2025/10/Your_paragraph_text_960_x_600_px_1-sGwrta.jpg
ORGANIZER;CN="Jewish Federation of Greater Ann Arbor":MAILTO:info@jewishannarbor.org
END:VEVENT
END:VCALENDAR