BEGIN:VCALENDAR
VERSION:2.0
PRODID:-//Jewish Federation of Greater Ann Arbor - ECPv6.15.17.1//NONSGML v1.0//EN
CALSCALE:GREGORIAN
METHOD:PUBLISH
X-ORIGINAL-URL:https://www.jewishannarbor.org
X-WR-CALDESC:Events for Jewish Federation of Greater Ann Arbor
REFRESH-INTERVAL;VALUE=DURATION:PT1H
X-Robots-Tag:noindex
X-PUBLISHED-TTL:PT1H
BEGIN:VTIMEZONE
TZID:America/Detroit
BEGIN:DAYLIGHT
TZOFFSETFROM:-0500
TZOFFSETTO:-0400
TZNAME:EDT
DTSTART:20250309T070000
END:DAYLIGHT
BEGIN:STANDARD
TZOFFSETFROM:-0400
TZOFFSETTO:-0500
TZNAME:EST
DTSTART:20251102T060000
END:STANDARD
BEGIN:DAYLIGHT
TZOFFSETFROM:-0500
TZOFFSETTO:-0400
TZNAME:EDT
DTSTART:20260308T070000
END:DAYLIGHT
BEGIN:STANDARD
TZOFFSETFROM:-0400
TZOFFSETTO:-0500
TZNAME:EST
DTSTART:20261101T060000
END:STANDARD
BEGIN:DAYLIGHT
TZOFFSETFROM:-0500
TZOFFSETTO:-0400
TZNAME:EDT
DTSTART:20270314T070000
END:DAYLIGHT
BEGIN:STANDARD
TZOFFSETFROM:-0400
TZOFFSETTO:-0500
TZNAME:EST
DTSTART:20271107T060000
END:STANDARD
END:VTIMEZONE
BEGIN:VEVENT
DTSTART;TZID=America/Detroit:20260329T160000
DTEND;TZID=America/Detroit:20260329T190000
DTSTAMP:20260419T120344
CREATED:20260202T191611Z
LAST-MODIFIED:20260321T091608Z
UID:10006077-1774800000-1774810800@www.jewishannarbor.org
SUMMARY:4th Annual Recovery Seder
DESCRIPTION:Join us for the 4th Annual Recovery Seder. A way to celebrate Passover and\nrecovery. All are welcome and the event is free to anyone who registers. \n**This is a free event but any donations at registration will go towards\nensuring this and other recovery events are free** \nOrganized by: Jewish Federation of Greater Ann Arbor \nView event on Jlive: https://jlive.app/events/14505
URL:https://www.jewishannarbor.org/event/4th-annual-recovery-seder-2/
CATEGORIES:Adults,All Ages,Beverages (non alcoholic),Coffee,College Students,Desserts provided,Food Provided,Grandparents,Jewish Holiday,Kosher,Older Adults,Passover,Spirituality,Vegetarian Friendly,Wheelchair Accessible,Young Adults
ATTACH;FMTTYPE=image/jpeg:https://www.jewishannarbor.org/wp-content/uploads/2026/03/Recovery_Seder_Hero_Image-HCo06n.jpg
ORGANIZER;CN="Jewish Federation of Greater Ann Arbor":MAILTO:info@jewishannarbor.org
END:VEVENT
END:VCALENDAR