BEGIN:VCALENDAR
VERSION:2.0
PRODID:-//Jewish Federation of Greater Ann Arbor - ECPv6.15.17.1//NONSGML v1.0//EN
CALSCALE:GREGORIAN
METHOD:PUBLISH
X-ORIGINAL-URL:https://www.jewishannarbor.org
X-WR-CALDESC:Events for Jewish Federation of Greater Ann Arbor
REFRESH-INTERVAL;VALUE=DURATION:PT1H
X-Robots-Tag:noindex
X-PUBLISHED-TTL:PT1H
BEGIN:VTIMEZONE
TZID:America/Detroit
BEGIN:DAYLIGHT
TZOFFSETFROM:-0500
TZOFFSETTO:-0400
TZNAME:EDT
DTSTART:20190310T070000
END:DAYLIGHT
BEGIN:STANDARD
TZOFFSETFROM:-0400
TZOFFSETTO:-0500
TZNAME:EST
DTSTART:20191103T060000
END:STANDARD
BEGIN:DAYLIGHT
TZOFFSETFROM:-0500
TZOFFSETTO:-0400
TZNAME:EDT
DTSTART:20200308T070000
END:DAYLIGHT
BEGIN:STANDARD
TZOFFSETFROM:-0400
TZOFFSETTO:-0500
TZNAME:EST
DTSTART:20201101T060000
END:STANDARD
BEGIN:DAYLIGHT
TZOFFSETFROM:-0500
TZOFFSETTO:-0400
TZNAME:EDT
DTSTART:20210314T070000
END:DAYLIGHT
BEGIN:STANDARD
TZOFFSETFROM:-0400
TZOFFSETTO:-0500
TZNAME:EST
DTSTART:20211107T060000
END:STANDARD
BEGIN:DAYLIGHT
TZOFFSETFROM:-0500
TZOFFSETTO:-0400
TZNAME:EDT
DTSTART:20220313T070000
END:DAYLIGHT
BEGIN:STANDARD
TZOFFSETFROM:-0400
TZOFFSETTO:-0500
TZNAME:EST
DTSTART:20221106T060000
END:STANDARD
BEGIN:DAYLIGHT
TZOFFSETFROM:-0500
TZOFFSETTO:-0400
TZNAME:EDT
DTSTART:20230312T070000
END:DAYLIGHT
BEGIN:STANDARD
TZOFFSETFROM:-0400
TZOFFSETTO:-0500
TZNAME:EST
DTSTART:20231105T060000
END:STANDARD
BEGIN:DAYLIGHT
TZOFFSETFROM:-0500
TZOFFSETTO:-0400
TZNAME:EDT
DTSTART:20240310T070000
END:DAYLIGHT
BEGIN:STANDARD
TZOFFSETFROM:-0400
TZOFFSETTO:-0500
TZNAME:EST
DTSTART:20241103T060000
END:STANDARD
BEGIN:DAYLIGHT
TZOFFSETFROM:-0500
TZOFFSETTO:-0400
TZNAME:EDT
DTSTART:20250309T070000
END:DAYLIGHT
BEGIN:STANDARD
TZOFFSETFROM:-0400
TZOFFSETTO:-0500
TZNAME:EST
DTSTART:20251102T060000
END:STANDARD
BEGIN:DAYLIGHT
TZOFFSETFROM:-0500
TZOFFSETTO:-0400
TZNAME:EDT
DTSTART:20260308T070000
END:DAYLIGHT
BEGIN:STANDARD
TZOFFSETFROM:-0400
TZOFFSETTO:-0500
TZNAME:EST
DTSTART:20261101T060000
END:STANDARD
END:VTIMEZONE
BEGIN:VEVENT
DTSTART;TZID=America/Detroit:20250112T173000
DTEND;TZID=America/Detroit:20250112T190000
DTSTAMP:20260420T123849
CREATED:20241126T203448Z
LAST-MODIFIED:20250110T192416Z
UID:10005559-1736703000-1736708400@www.jewishannarbor.org
SUMMARY:Community Trip to Israel Info Session
DESCRIPTION:Register Here
URL:https://www.jewishannarbor.org/event/community-trip-to-israel-info-session-2/
LOCATION:Hebrew Day School of AA\, 2937 Birch Hollow Drive\, Ann Arbor\, MI\, 48108\, United States
CATEGORIES:Beth Israel Congregation,Hebrew Day School,Jewish Community Center of Greater Ann Arbor,Jewish Family Services,Jewish Federation of Greater Ann Arbor,Jewish Federation of Greater Ann Arbor - General,Temple Beth Emeth
ATTACH;FMTTYPE=image/jpeg:https://www.jewishannarbor.org/wp-content/uploads/2024/11/Israel-trip-email-flyer1.jpg
ORGANIZER;CN="Beth Israel Congregation":MAILTO:office@bethisrael-aa.org
END:VEVENT
BEGIN:VEVENT
DTSTART;TZID=America/Detroit:20240605T170000
DTEND;TZID=America/Detroit:20240605T190000
DTSTAMP:20260420T123849
CREATED:20230614T161352Z
LAST-MODIFIED:20230614T161352Z
UID:10004928-1717606800-1717614000@www.jewishannarbor.org
SUMMARY:JFS Board of Directors Meeting
DESCRIPTION:
URL:https://www.jewishannarbor.org/event/jfs-board-of-directors-meeting-10/
LOCATION:MI
CATEGORIES:Jewish Family Services
ORGANIZER;CN="Jewish Family Services":MAILTO:info@jfsannarbor.org
END:VEVENT
BEGIN:VEVENT
DTSTART;TZID=America/Detroit:20240513T190000
DTEND;TZID=America/Detroit:20240513T210000
DTSTAMP:20260420T123849
CREATED:20240502T203520Z
LAST-MODIFIED:20240503T170813Z
UID:10005288-1715626800-1715634000@www.jewishannarbor.org
SUMMARY:Yom HaZikaron Film Screening - SUPERNOVA
DESCRIPTION:SUPERNOVA: The Music Festival Massacre (2023)\nVenue: JCC of Greater Ann Arbor\nDate: Monday\, May 13th\, 2024\nTime: Starting – 7:00PM EST \nREGISTER TO ATTEND \nMarking Israel’s Memorial Day\, Iyar 4th\, The Jewish Federation will hold a special screening of the documentary film followed by a discussion with Dr. Bradley Axelrod and Dr. Stephen Aronson. \nDr. Axelrod is a clinical psychologist and neuropsychologist. As a member of the recent Jewish Federation of Ann Arbor solidarity mission to Israel\, he visited the Nova massacre site\, and heard first-hand testimonies of Oct. 7th. \nDr. Aronson is a Consultation-Liaison psychiatrist with the University of Michigan Medical School and the VA Ann Arbor HealthCare System. \nThis program is in cooperation with the Ann Arbor Jewish Film Festival and sponsored by JFS of Washtenaw County. \nIMDB: Supernova: The Music Festival Massacre (2023) – IMDb\nTrailer (YouTube): SUPERNOVA: THE MUSIC FESTIVAL MASSACRE
URL:https://www.jewishannarbor.org/event/fed-film-viewing-supernova/
LOCATION:Jewish Community Center of Ann Arbor\, 2935 Birch Hollow Drive\, Ann Arbor\, MI\, 48108\, United States
CATEGORIES:Community,Educational,Israel Programming,Jewish Community Center of Greater Ann Arbor,Jewish Family Services,Jewish Federation of Greater Ann Arbor,Jewish Federation of Greater Ann Arbor - General
ATTACH;FMTTYPE=image/jpeg:https://www.jewishannarbor.org/wp-content/uploads/2024/05/Supernova-Movie-Flyer-3.jpg
ORGANIZER;CN="Jewish Federation of Greater Ann Arbor":MAILTO:info@jewishannarbor.org
END:VEVENT
BEGIN:VEVENT
DTSTART;TZID=America/Detroit:20240501T170000
DTEND;TZID=America/Detroit:20240501T190000
DTSTAMP:20260420T123849
CREATED:20230614T161327Z
LAST-MODIFIED:20230614T161327Z
UID:10004927-1714582800-1714590000@www.jewishannarbor.org
SUMMARY:JFS Board of Directors Meeting
DESCRIPTION:
URL:https://www.jewishannarbor.org/event/jfs-board-of-directors-meeting-9/
LOCATION:MI
CATEGORIES:Jewish Family Services
ORGANIZER;CN="Jewish Family Services":MAILTO:info@jfsannarbor.org
END:VEVENT
BEGIN:VEVENT
DTSTART;TZID=America/Detroit:20240403T170000
DTEND;TZID=America/Detroit:20240403T190000
DTSTAMP:20260420T123849
CREATED:20230614T161202Z
LAST-MODIFIED:20230614T161202Z
UID:10004926-1712163600-1712170800@www.jewishannarbor.org
SUMMARY:JFS Board of Directors Meeting
DESCRIPTION:
URL:https://www.jewishannarbor.org/event/jfs-board-of-directors-meeting-8/
LOCATION:MI
CATEGORIES:Jewish Family Services
ORGANIZER;CN="Jewish Family Services":MAILTO:info@jfsannarbor.org
END:VEVENT
BEGIN:VEVENT
DTSTART;TZID=America/Detroit:20240306T170000
DTEND;TZID=America/Detroit:20240306T190000
DTSTAMP:20260420T123849
CREATED:20230614T161138Z
LAST-MODIFIED:20230614T161138Z
UID:10004925-1709744400-1709751600@www.jewishannarbor.org
SUMMARY:JFS Board of Directors Meeting
DESCRIPTION:
URL:https://www.jewishannarbor.org/event/jfs-board-of-directors-meeting-7/
LOCATION:MI
CATEGORIES:Jewish Family Services
ORGANIZER;CN="Jewish Family Services":MAILTO:info@jfsannarbor.org
END:VEVENT
BEGIN:VEVENT
DTSTART;TZID=America/Detroit:20240207T170000
DTEND;TZID=America/Detroit:20240207T190000
DTSTAMP:20260420T123849
CREATED:20230614T161108Z
LAST-MODIFIED:20230614T161108Z
UID:10004924-1707325200-1707332400@www.jewishannarbor.org
SUMMARY:JFS Board of Directors Meeting
DESCRIPTION:
URL:https://www.jewishannarbor.org/event/jfs-board-of-directors-meeting-6/
LOCATION:MI
CATEGORIES:Jewish Family Services
ORGANIZER;CN="Jewish Family Services":MAILTO:info@jfsannarbor.org
END:VEVENT
BEGIN:VEVENT
DTSTART;TZID=America/Detroit:20240103T170000
DTEND;TZID=America/Detroit:20240103T190000
DTSTAMP:20260420T123849
CREATED:20230614T161035Z
LAST-MODIFIED:20230614T161035Z
UID:10004923-1704301200-1704308400@www.jewishannarbor.org
SUMMARY:JFS Board of Directors Meeting
DESCRIPTION:
URL:https://www.jewishannarbor.org/event/jfs-board-of-directors-meeting-5/
LOCATION:MI
CATEGORIES:Jewish Family Services
ORGANIZER;CN="Jewish Family Services":MAILTO:info@jfsannarbor.org
END:VEVENT
BEGIN:VEVENT
DTSTART;TZID=America/Detroit:20231206T170000
DTEND;TZID=America/Detroit:20231206T190000
DTSTAMP:20260420T123849
CREATED:20230614T160929Z
LAST-MODIFIED:20230614T160929Z
UID:10004922-1701882000-1701889200@www.jewishannarbor.org
SUMMARY:JFS Board of Directors Meeting
DESCRIPTION:
URL:https://www.jewishannarbor.org/event/jfs-board-of-directors-meeting-4/
LOCATION:MI
CATEGORIES:Jewish Family Services
ORGANIZER;CN="Jewish Family Services":MAILTO:info@jfsannarbor.org
END:VEVENT
BEGIN:VEVENT
DTSTART;TZID=America/Detroit:20231130T193000
DTEND;TZID=America/Detroit:20231130T203000
DTSTAMP:20260420T123849
CREATED:20231114T172552Z
LAST-MODIFIED:20231114T172552Z
UID:10005142-1701372600-1701376200@www.jewishannarbor.org
SUMMARY:Parenting During Crisis by Thrive at JFS
DESCRIPTION:
URL:https://www.jewishannarbor.org/event/parenting-during-crisis-by-thrive-at-jfs/
LOCATION:Zoom
CATEGORIES:Jewish Family Services
ORGANIZER;CN="Jewish Family Services":MAILTO:info@jfsannarbor.org
END:VEVENT
BEGIN:VEVENT
DTSTART;TZID=America/Detroit:20231112T140000
DTEND;TZID=America/Detroit:20231112T170000
DTSTAMP:20260420T123849
CREATED:20230202T153053Z
LAST-MODIFIED:20231017T145703Z
UID:10004787-1699797600-1699808400@www.jewishannarbor.org
SUMMARY:JFS 30th Anniversary Mosaic Gala
DESCRIPTION:
URL:https://www.jewishannarbor.org/event/2023jfsmosaic/
LOCATION:MI
CATEGORIES:Jewish Family Services
ORGANIZER;CN="Jewish Family Services":MAILTO:info@jfsannarbor.org
END:VEVENT
BEGIN:VEVENT
DTSTART;TZID=America/Detroit:20231101T170000
DTEND;TZID=America/Detroit:20231101T190000
DTSTAMP:20260420T123849
CREATED:20230614T160829Z
LAST-MODIFIED:20230614T160829Z
UID:10004921-1698858000-1698865200@www.jewishannarbor.org
SUMMARY:JFS Board of Directors Meeting
DESCRIPTION:
URL:https://www.jewishannarbor.org/event/jfs-board-of-directors-meeting-3/
LOCATION:MI
CATEGORIES:Jewish Family Services
ORGANIZER;CN="Jewish Family Services":MAILTO:info@jfsannarbor.org
END:VEVENT
BEGIN:VEVENT
DTSTART;TZID=America/Detroit:20231022T150000
DTEND;TZID=America/Detroit:20231022T170000
DTSTAMP:20260420T123849
CREATED:20230516T134057Z
LAST-MODIFIED:20230516T134057Z
UID:10004898-1697986800-1697994000@www.jewishannarbor.org
SUMMARY:JCOR: Traditional Folk and Klezmer
DESCRIPTION:
URL:https://www.jewishannarbor.org/event/jcor-traditional-folk-and-klezmer/
LOCATION:Jewish Community Center of Ann Arbor\, 2935 Birch Hollow Drive\, Ann Arbor\, MI\, 48108\, United States
CATEGORIES:Community,Fundraiser,Jewish Congregations Organized for Resettlement,Jewish Family Services
ORGANIZER;CN="JCOR":MAILTO:jcorannarbor@gmail.com
END:VEVENT
BEGIN:VEVENT
DTSTART;TZID=America/Detroit:20231004T170000
DTEND;TZID=America/Detroit:20231004T190000
DTSTAMP:20260420T123849
CREATED:20230614T160755Z
LAST-MODIFIED:20230614T160755Z
UID:10004920-1696438800-1696446000@www.jewishannarbor.org
SUMMARY:JFS Board of Directors Meeting
DESCRIPTION:
URL:https://www.jewishannarbor.org/event/jfs-board-of-directors-meeting-2/
LOCATION:MI
CATEGORIES:Jewish Family Services
ORGANIZER;CN="Jewish Family Services":MAILTO:info@jfsannarbor.org
END:VEVENT
BEGIN:VEVENT
DTSTART;TZID=America/Detroit:20230906T163000
DTEND;TZID=America/Detroit:20230906T193000
DTSTAMP:20260420T123849
CREATED:20230614T160542Z
LAST-MODIFIED:20230614T160655Z
UID:10004919-1694017800-1694028600@www.jewishannarbor.org
SUMMARY:JFS Board of Directors Meeting
DESCRIPTION:
URL:https://www.jewishannarbor.org/event/jfs-board-of-directors-meeting/
LOCATION:MI
CATEGORIES:Jewish Family Services
ORGANIZER;CN="Jewish Family Services":MAILTO:info@jfsannarbor.org
END:VEVENT
BEGIN:VEVENT
DTSTART;TZID=America/Detroit:20230521T140000
DTEND;TZID=America/Detroit:20230521T160000
DTSTAMP:20260420T123849
CREATED:20230425T170738Z
LAST-MODIFIED:20230425T170738Z
UID:10004863-1684677600-1684684800@www.jewishannarbor.org
SUMMARY:JFS Food Pantry and Commercial Kitchen Grand Opening
DESCRIPTION:
URL:https://www.jewishannarbor.org/event/jfs-food-pantry-and-commercial-kitchen-grand-opening/
LOCATION:Jewish Family Services of Washtenaw County\, 2245 S. State Street\, Ann Arbor\, MI\, 48104\, United States
CATEGORIES:Jewish Family Services
END:VEVENT
BEGIN:VEVENT
DTSTART;TZID=America/Detroit:20230408T160000
DTEND;TZID=America/Detroit:20230408T200000
DTSTAMP:20260420T123849
CREATED:20230222T210550Z
LAST-MODIFIED:20230222T210550Z
UID:10004829-1680969600-1680984000@www.jewishannarbor.org
SUMMARY:Community-Wide Recovery Seder
DESCRIPTION:Register Here and Sign Up to Bring a Dish: \nCommunity-Wide Recovery Seder \nSaturday April 8\, 2023 from 4 – 8 pm \nChapel Hill Condominiums Clubhouse \n3350 Green Road \nAnn Arbor\, MI 48105 \nThis unique Passover celebration will utilize a Haggadah with resonances of 12 Step programs that was specially created for this event. It is geared toward anyone who is in recovery for addiction\, family members\, supporters and even those who may be interested or curious about how the celebration of our festival of freedom is marked in this special way. \nRitual foods and Mains will be provided. Appetizers\, sides and desserts will be pot-luck style. Kosher for Passover-style. Accommodations for those who observe strict Kosher dietary restrictions upon request. \nA Lior Project Event \nCo-sponsored by:\nTemple Beth Emeth \nBeth Israel Congregation \nJewish Family Services of Washtenaw County
URL:https://www.jewishannarbor.org/event/community-wide-recovery-seder/
LOCATION:Chapel Hill Clubhouse\, 3350 Green Rd\, Ann Arbor\, MI\, 48105\, United States
CATEGORIES:Beth Israel Congregation,Community,Jewish Family Services,Temple Beth Emeth
ATTACH;FMTTYPE=image/jpeg:https://www.jewishannarbor.org/wp-content/uploads/2023/02/20230408-Recovery-Seder.jpg
ORGANIZER;CN="Temple Beth Emeth":MAILTO:tbe@templebethemeth.org
END:VEVENT
BEGIN:VEVENT
DTSTART;TZID=America/Detroit:20220930T193000
DTEND;TZID=America/Detroit:20220930T213000
DTSTAMP:20260420T123849
CREATED:20220914T185704Z
LAST-MODIFIED:20220914T185704Z
UID:10004239-1664566200-1664573400@www.jewishannarbor.org
SUMMARY:TBE: Serenity Shabbat
DESCRIPTION:Please come support our members who will give the d’var Torah for this special Shabbat. Hosted by various congregations\, Serenity Shabbat focuses on addiction awareness and the wisdom of Jewish traditions as it relates to the spiritual practice of recovery.
URL:https://www.jewishannarbor.org/event/tbe-serenity-shabbat-3/
LOCATION:Temple Beth Emeth\, 2309 Packard St\, Ann Arbor\, MI\, 48104\, United States
CATEGORIES:Community,Jewish Family Services,Religious,Temple Beth Emeth
ATTACH;FMTTYPE=image/jpeg:https://www.jewishannarbor.org/wp-content/uploads/2022/09/Fall-2022-Shabbat-Services-Flyer_page-0001.jpg
ORGANIZER;CN="Temple Beth Emeth":MAILTO:tbe@templebethemeth.org
END:VEVENT
BEGIN:VEVENT
DTSTART;TZID=America/Detroit:20220616T140000
DTEND;TZID=America/Detroit:20220616T150000
DTSTAMP:20260420T123849
CREATED:20220610T134607Z
LAST-MODIFIED:20220610T134607Z
UID:10004103-1655388000-1655391600@www.jewishannarbor.org
SUMMARY:A2 Parks Summer Strolls - Ann Arbor Ramble Trail at Gallup Park
DESCRIPTION:Meet at the Centennial Playground Parking Lot \nJoin Congregation-Based Social Worker Rebecca Nieubuurt on a stroll through some of Ann Arbor’s beautiful nature areas. This program is specifically aimed at seniors\, but anyone who wants to get outside and socialize is welcome! \nQuestions: rebeccan@jfsannarbor.org
URL:https://www.jewishannarbor.org/event/a2-parks-summer-strolls-ann-arbor-ramble-trail-at-gallup-park/
LOCATION:MI
CATEGORIES:Community,Jewish Family Services,Temple Beth Emeth
ATTACH;FMTTYPE=image/jpeg:https://www.jewishannarbor.org/wp-content/uploads/2022/06/20220616-A2-Parks-Summer-Strolls.jpg
ORGANIZER;CN="Temple Beth Emeth":MAILTO:tbe@templebethemeth.org
END:VEVENT
BEGIN:VEVENT
DTSTART;VALUE=DATE:20220612
DTEND;VALUE=DATE:20220613
DTSTAMP:20260420T123849
CREATED:20201222T182438Z
LAST-MODIFIED:20210625T203329Z
UID:10003518-1654992000-1655078399@www.jewishannarbor.org
SUMMARY:JFS Mosaic Gala
DESCRIPTION:
URL:https://www.jewishannarbor.org/event/jfs-fundraising-event/
LOCATION:MI
CATEGORIES:Fundraiser,Jewish Family Services
ORGANIZER;CN="Jewish Family Services":MAILTO:info@jfsannarbor.org
END:VEVENT
BEGIN:VEVENT
DTSTART;TZID=America/Detroit:20211021T080000
DTEND;TZID=America/Detroit:20211021T190000
DTSTAMP:20260420T123849
CREATED:20200409T205722Z
LAST-MODIFIED:20200409T205722Z
UID:10002434-1634803200-1634842800@www.jewishannarbor.org
SUMMARY:JFS Annual All-Day Symposium
DESCRIPTION:All day symposium
URL:https://www.jewishannarbor.org/event/jfs-annual-all-day-symposium/
LOCATION:MI
CATEGORIES:Jewish Family Services
END:VEVENT
BEGIN:VEVENT
DTSTART;TZID=America/Detroit:20211003T080000
DTEND;TZID=America/Detroit:20211003T140000
DTSTAMP:20260420T123849
CREATED:20200706T172837Z
LAST-MODIFIED:20210625T203234Z
UID:10003307-1633248000-1633269600@www.jewishannarbor.org
SUMMARY:JFS Walk Event Fundraiser:  "Walk a Mile in My Shoes"
DESCRIPTION:JFS Walk Event Fundraiser:  “Walk a Mile in My Shoes”
URL:https://www.jewishannarbor.org/event/jfs-event-3/
LOCATION:Jewish Family Services of Washtenaw County\, 2245 S. State Street\, Ann Arbor\, MI\, 48104\, United States
CATEGORIES:Fundraiser,Jewish Family Services
ORGANIZER;CN="Jewish Family Services":MAILTO:info@jfsannarbor.org
END:VEVENT
BEGIN:VEVENT
DTSTART;TZID=America/Detroit:20210118T090000
DTEND;TZID=America/Detroit:20210118T120000
DTSTAMP:20260420T123849
CREATED:20200409T205736Z
LAST-MODIFIED:20200409T205736Z
UID:10002516-1610960400-1610971200@www.jewishannarbor.org
SUMMARY:JFS Diversity Day
DESCRIPTION:Celebrate MLK day with your family
URL:https://www.jewishannarbor.org/event/jfs-diversity-day/
LOCATION:MI
CATEGORIES:Jewish Family Services
END:VEVENT
BEGIN:VEVENT
DTSTART;TZID=America/Detroit:20201206T184500
DTEND;TZID=America/Detroit:20201206T210000
DTSTAMP:20260420T123849
CREATED:20200706T172337Z
LAST-MODIFIED:20201026T171143Z
UID:10003306-1607280300-1607288400@www.jewishannarbor.org
SUMMARY:Broadway on a Mission:  A Virtual Benefit for JFS COVID Relief
DESCRIPTION:
URL:https://www.jewishannarbor.org/event/jfs-event/
LOCATION:Online
CATEGORIES:Jewish Family Services
ORGANIZER;CN="Jewish Family Services":MAILTO:info@jfsannarbor.org
END:VEVENT
BEGIN:VEVENT
DTSTART;TZID=America/Detroit:20201118T170000
DTEND;TZID=America/Detroit:20201118T190000
DTSTAMP:20260420T123849
CREATED:20201105T193327Z
LAST-MODIFIED:20201105T193517Z
UID:10003402-1605718800-1605726000@www.jewishannarbor.org
SUMMARY:"Grandparenting" in 2020: A Panel Discussion
DESCRIPTION:Online HereJoin Congregational Social Worker\, Rebecca Nieubuurt and our esteemed panelist for a lively presentation on challenges\, joys\, and make it work moments as we try to navigate enjoying grandchildren\, protecting our health\, maintaining connections to community\, and setting healthy boundaries with adult children.Featuring Sunie Levin; Dr. Paul Turke; Roberta Hirshon\, LMSW; and Barb Laret\, LMSW.More details Here.
URL:https://www.jewishannarbor.org/event/grandparenting-in-2020-a-panel-discussion/
LOCATION:MI
CATEGORIES:Beth Israel Congregation,Jewish Family Services,Temple Beth Emeth
ATTACH;FMTTYPE=image/jpeg:https://www.jewishannarbor.org/wp-content/uploads/2020/11/Grandparenting-in-2020-1.jpg
END:VEVENT
BEGIN:VEVENT
DTSTART;TZID=America/Detroit:20201023T090000
DTEND;TZID=America/Detroit:20201023T200000
DTSTAMP:20260420T123849
CREATED:20200409T205741Z
LAST-MODIFIED:20200409T205741Z
UID:10002546-1603443600-1603483200@www.jewishannarbor.org
SUMMARY:JFS Networking Event with Network of Jewish Human Service Agencies
DESCRIPTION:Networking event with NJHSA. More details to come
URL:https://www.jewishannarbor.org/event/jfs-networking-event-with-network-of-jewish-human-service-agencies/
LOCATION:MI
CATEGORIES:Jewish Family Services
END:VEVENT
BEGIN:VEVENT
DTSTART;TZID=America/Detroit:20201022T080000
DTEND;TZID=America/Detroit:20201022T200000
DTSTAMP:20260420T123849
CREATED:20200409T205742Z
LAST-MODIFIED:20200409T205742Z
UID:10002547-1603353600-1603396800@www.jewishannarbor.org
SUMMARY:JFS Annual All-Day Symposium
DESCRIPTION:JFS will host its annual sympoisum. More details to come
URL:https://www.jewishannarbor.org/event/jfs-annual-all-day-symposium-2/
LOCATION:MI
CATEGORIES:Jewish Family Services
END:VEVENT
BEGIN:VEVENT
DTSTART;TZID=America/Detroit:20201021T090000
DTEND;TZID=America/Detroit:20201021T200000
DTSTAMP:20260420T123849
CREATED:20200409T205742Z
LAST-MODIFIED:20200409T205742Z
UID:10002548-1603270800-1603310400@www.jewishannarbor.org
SUMMARY:JFS Networking Event with Network of Jewish Human Service Agencies
DESCRIPTION:Networking event with NJHSA. More Details to come
URL:https://www.jewishannarbor.org/event/jfs-networking-event-with-network-of-jewish-human-service-agencies-2/
LOCATION:MI
CATEGORIES:Jewish Family Services
END:VEVENT
BEGIN:VEVENT
DTSTART;TZID=America/Detroit:20200515T100000
DTEND;TZID=America/Detroit:20200517T220000
DTSTAMP:20260420T123849
CREATED:20200409T205802Z
LAST-MODIFIED:20200409T205802Z
UID:10002668-1589536800-1589752800@www.jewishannarbor.org
SUMMARY:JFS Presents Dining with the Family
DESCRIPTION:Enjoy a meal with your community
URL:https://www.jewishannarbor.org/event/jfs-presents-dining-with-the-family/
LOCATION:MI
CATEGORIES:Jewish Family Services
END:VEVENT
BEGIN:VEVENT
DTSTART;TZID=America/Detroit:20200417T110000
DTEND;TZID=America/Detroit:20200417T123000
DTSTAMP:20260420T123849
CREATED:20200409T205812Z
LAST-MODIFIED:20200409T205812Z
UID:10002715-1587121200-1587126600@www.jewishannarbor.org
SUMMARY:JFS Volunteer Brunch
DESCRIPTION:JFS will be hosting a brunch to thank our amazing volunteers. Thanks
URL:https://www.jewishannarbor.org/event/jfs-volunteer-brunch/
LOCATION:MI
CATEGORIES:Jewish Family Services
END:VEVENT
END:VCALENDAR