BEGIN:VCALENDAR
VERSION:2.0
PRODID:-//Jewish Federation of Greater Ann Arbor - ECPv6.15.17.1//NONSGML v1.0//EN
CALSCALE:GREGORIAN
METHOD:PUBLISH
X-ORIGINAL-URL:https://www.jewishannarbor.org
X-WR-CALDESC:Events for Jewish Federation of Greater Ann Arbor
REFRESH-INTERVAL;VALUE=DURATION:PT1H
X-Robots-Tag:noindex
X-PUBLISHED-TTL:PT1H
BEGIN:VTIMEZONE
TZID:America/Detroit
BEGIN:DAYLIGHT
TZOFFSETFROM:-0500
TZOFFSETTO:-0400
TZNAME:EDT
DTSTART:20240310T070000
END:DAYLIGHT
BEGIN:STANDARD
TZOFFSETFROM:-0400
TZOFFSETTO:-0500
TZNAME:EST
DTSTART:20241103T060000
END:STANDARD
BEGIN:DAYLIGHT
TZOFFSETFROM:-0500
TZOFFSETTO:-0400
TZNAME:EDT
DTSTART:20250309T070000
END:DAYLIGHT
BEGIN:STANDARD
TZOFFSETFROM:-0400
TZOFFSETTO:-0500
TZNAME:EST
DTSTART:20251102T060000
END:STANDARD
BEGIN:DAYLIGHT
TZOFFSETFROM:-0500
TZOFFSETTO:-0400
TZNAME:EDT
DTSTART:20260308T070000
END:DAYLIGHT
BEGIN:STANDARD
TZOFFSETFROM:-0400
TZOFFSETTO:-0500
TZNAME:EST
DTSTART:20261101T060000
END:STANDARD
END:VTIMEZONE
BEGIN:VEVENT
DTSTART;TZID=America/Detroit:20250918T180000
DTEND;TZID=America/Detroit:20250918T193000
DTSTAMP:20260423T145548
CREATED:20241213T160556Z
LAST-MODIFIED:20250821T162244Z
UID:10005575-1758218400-1758223800@www.jewishannarbor.org
SUMMARY:JCC: Amster Gallery Group Show
DESCRIPTION:
URL:https://www.jewishannarbor.org/event/amster-gallery-group-show/
LOCATION:Jewish Community Center of Ann Arbor\, 2935 Birch Hollow Drive\, Ann Arbor\, MI\, 48108\, United States
CATEGORIES:Jewish Community Center of Greater Ann Arbor
END:VEVENT
BEGIN:VEVENT
DTSTART;TZID=America/Detroit:20250914T140000
DTEND;TZID=America/Detroit:20250914T170000
DTSTAMP:20260423T145548
CREATED:20221003T160108Z
LAST-MODIFIED:20250821T162002Z
UID:10004250-1757858400-1757869200@www.jewishannarbor.org
SUMMARY:JCC: Apples & Honey
DESCRIPTION:
URL:https://www.jewishannarbor.org/event/apples-honey/
LOCATION:Jewish Community Center of Ann Arbor\, 2935 Birch Hollow Drive\, Ann Arbor\, MI\, 48108\, United States
CATEGORIES:Jewish Community Center of Greater Ann Arbor
END:VEVENT
BEGIN:VEVENT
DTSTART;TZID=America/Detroit:20250910T190000
DTEND;TZID=America/Detroit:20250910T203000
DTSTAMP:20260423T145548
CREATED:20250821T180314Z
LAST-MODIFIED:20250821T180314Z
UID:10005934-1757530800-1757536200@www.jewishannarbor.org
SUMMARY:JCC: Film Discussion Group with Russ Collins
DESCRIPTION:
URL:https://www.jewishannarbor.org/event/jcc-film-discussion-group-with-russ-collins/2025-09-10/
LOCATION:MI
CATEGORIES:Jewish Community Center of Greater Ann Arbor
END:VEVENT
BEGIN:VEVENT
DTSTART;TZID=America/Detroit:20250828T120000
DTEND;TZID=America/Detroit:20250828T180000
DTSTAMP:20260423T145548
CREATED:20250325T161222Z
LAST-MODIFIED:20250821T161835Z
UID:10005726-1756382400-1756404000@www.jewishannarbor.org
SUMMARY:JCC: Blood Drive
DESCRIPTION:
URL:https://www.jewishannarbor.org/event/jcc-blood-drive-2/
LOCATION:Jewish Community Center of Ann Arbor\, 2935 Birch Hollow Drive\, Ann Arbor\, MI\, 48108\, United States
CATEGORIES:Jewish Community Center of Greater Ann Arbor
END:VEVENT
BEGIN:VEVENT
DTSTART;TZID=America/Detroit:20250824T140000
DTEND;TZID=America/Detroit:20250824T160000
DTSTAMP:20260423T145548
CREATED:20250513T181916Z
LAST-MODIFIED:20250513T181916Z
UID:10005759-1756044000-1756051200@www.jewishannarbor.org
SUMMARY:Multicultural Community Carnivale: JCC Music Series
DESCRIPTION:
URL:https://www.jewishannarbor.org/event/multicultural-community-carnivale-jcc-music-series/
LOCATION:Jewish Community Center of Ann Arbor\, 2935 Birch Hollow Drive\, Ann Arbor\, MI\, 48108\, United States
CATEGORIES:Jewish Community Center of Greater Ann Arbor
END:VEVENT
BEGIN:VEVENT
DTSTART;VALUE=DATE:20250811
DTEND;VALUE=DATE:20250812
DTSTAMP:20260423T145548
CREATED:20241030T190243Z
LAST-MODIFIED:20250530T184107Z
UID:10005547-1754870400-1754956799@www.jewishannarbor.org
SUMMARY:JCC 10th Annual Golf Outing
DESCRIPTION:
URL:https://www.jewishannarbor.org/event/jcc-10th-annual-golf-outing/
LOCATION:The Polo Fields\, 5200 Polo Fields Drive\, Ann Arbor\, MI\, 48103
CATEGORIES:Jewish Community Center of Greater Ann Arbor
END:VEVENT
BEGIN:VEVENT
DTSTART;VALUE=DATE:20250803
DTEND;VALUE=DATE:20250809
DTSTAMP:20260423T145548
CREATED:20241106T205531Z
LAST-MODIFIED:20241106T205531Z
UID:10005552-1754179200-1754697599@www.jewishannarbor.org
SUMMARY:2025 JCC Maccabi Campus Games
DESCRIPTION:
URL:https://www.jewishannarbor.org/event/2025-jcc-maccabi-campus-games/
LOCATION:MI
CATEGORIES:Jewish Community Center of Greater Ann Arbor
END:VEVENT
BEGIN:VEVENT
DTSTART;TZID=America/Detroit:20250720T140000
DTEND;TZID=America/Detroit:20250720T160000
DTSTAMP:20260423T145548
CREATED:20250513T181619Z
LAST-MODIFIED:20250513T181619Z
UID:10005758-1753020000-1753027200@www.jewishannarbor.org
SUMMARY:Cantor Concert: JCC Music Series
DESCRIPTION:
URL:https://www.jewishannarbor.org/event/cantor-concert-jcc-music-series/
LOCATION:Jewish Community Center of Ann Arbor\, 2935 Birch Hollow Drive\, Ann Arbor\, MI\, 48108\, United States
CATEGORIES:Jewish Community Center of Greater Ann Arbor
END:VEVENT
BEGIN:VEVENT
DTSTART;TZID=America/Detroit:20250710T180000
DTEND;TZID=America/Detroit:20250710T193000
DTSTAMP:20260423T145548
CREATED:20240910T130643Z
LAST-MODIFIED:20250530T143430Z
UID:10005449-1752170400-1752175800@www.jewishannarbor.org
SUMMARY:Playing with Fabric 2: A Collection of Works by Carol Finerman (z"l) with Anita Liberman-Lampear
DESCRIPTION:
URL:https://www.jewishannarbor.org/event/a-collection-of-works-by-carol-finerman-zl-with-anita-liberman-lampear/
LOCATION:Jewish Community Center of Ann Arbor\, 2935 Birch Hollow Drive\, Ann Arbor\, MI\, 48108\, United States
CATEGORIES:Jewish Community Center of Greater Ann Arbor
END:VEVENT
BEGIN:VEVENT
DTSTART;VALUE=DATE:20250625
DTEND;VALUE=DATE:20250626
DTSTAMP:20260423T145548
CREATED:20250325T161120Z
LAST-MODIFIED:20250530T143238Z
UID:10005725-1750809600-1750895999@www.jewishannarbor.org
SUMMARY:Tzofim Friendship Caravan
DESCRIPTION:
URL:https://www.jewishannarbor.org/event/tzofim-friendship-caravan/
LOCATION:Jewish Community Center of Ann Arbor\, 2935 Birch Hollow Drive\, Ann Arbor\, MI\, 48108\, United States
CATEGORIES:Jewish Community Center of Greater Ann Arbor
END:VEVENT
BEGIN:VEVENT
DTSTART;TZID=America/Detroit:20250611T190000
DTEND;TZID=America/Detroit:20250611T203000
DTSTAMP:20260423T145548
CREATED:20250116T192041Z
LAST-MODIFIED:20250116T192041Z
UID:10005641-1749668400-1749673800@www.jewishannarbor.org
SUMMARY:JCC Film Discussion Group
DESCRIPTION:
URL:https://www.jewishannarbor.org/event/jcc-film-discussion-group/2025-06-11/
LOCATION:Jewish Community Center of Ann Arbor\, 2935 Birch Hollow Drive\, Ann Arbor\, MI\, 48108\, United States
CATEGORIES:Jewish Community Center of Greater Ann Arbor
END:VEVENT
BEGIN:VEVENT
DTSTART;TZID=America/Detroit:20250610T190000
DTEND;TZID=America/Detroit:20250610T200000
DTSTAMP:20260423T145548
CREATED:20250403T133336Z
LAST-MODIFIED:20250403T133336Z
UID:10005734-1749582000-1749585600@www.jewishannarbor.org
SUMMARY:JCC Annual Meeting
DESCRIPTION:
URL:https://www.jewishannarbor.org/event/jcc-annual-meeting-3/
LOCATION:Jewish Community Center of Ann Arbor\, 2935 Birch Hollow Drive\, Ann Arbor\, MI\, 48108\, United States
CATEGORIES:Jewish Community Center of Greater Ann Arbor
END:VEVENT
BEGIN:VEVENT
DTSTART;TZID=America/Detroit:20250518T180000
DTEND;TZID=America/Detroit:20250518T203000
DTSTAMP:20260423T145548
CREATED:20250402T183134Z
LAST-MODIFIED:20250508T203620Z
UID:10005729-1747591200-1747600200@www.jewishannarbor.org
SUMMARY:Community Lag B'Omer Celebration: Sparks of Community
DESCRIPTION:Join Federation\, JCC and the Early Childhood Center\, Temple Beth Emeth\, Beth Israel Congregation\, Chabad of Ann Arbor\, Ann Arbor Orthodox Minyan\, and Hebrew Day School for a true Israeli Lag B’Omer celebration! There will be bonfires\, nature walks\, and so much more. \nOrganized by our Ann Arbor area ShinShinim Danielle and Lahav. Read about other activities Danielle and Lahav have put on for our community here. \nLocation: Dori’s Farm 6363 W. Waters Rd \nWant to make this event happen? Become a sponsor here or sign up to volunteer here.\nRegister Here by May 11! \nIMPORTANT DETAILS TO NOTE:\n–Dress code\nOutdoorsy (Long pants and Closed shoes) \n–What to bring?\nFloor level seating will be provided\, you can bring foldable chairs or outdoor matts (the site is on grass) – just remember\, you will be walking around\n\n–Parking\nParking is provided on site on a grass lot\, as parking is limited\, please make an effort to arrive in one car per family\, no earlier than 5:30PM (Event starts at 6:00PM). \n 
URL:https://www.jewishannarbor.org/event/community-lag-bomer-celebration/
LOCATION:MI
CATEGORIES:Ann Arbor Orthodox Minyan,Beth Israel Congregation,Chabad House,Hebrew Day School,Israel Programming,Jewish Community Center of Greater Ann Arbor,Jewish Federation of Greater Ann Arbor,Jewish Federation of Greater Ann Arbor - General,Jewish Holidays,Temple Beth Emeth
ATTACH;FMTTYPE=image/jpeg:https://www.jewishannarbor.org/wp-content/uploads/2025/05/Final-Flyer-Sparks-of-Community-13.jpg
ORGANIZER;CN="Beth Israel Congregation":MAILTO:office@bethisrael-aa.org
END:VEVENT
BEGIN:VEVENT
DTSTART;TZID=America/Detroit:20250514T190000
DTEND;TZID=America/Detroit:20250514T203000
DTSTAMP:20260423T145548
CREATED:20250116T192041Z
LAST-MODIFIED:20250116T192041Z
UID:10005640-1747249200-1747254600@www.jewishannarbor.org
SUMMARY:JCC Film Discussion Group
DESCRIPTION:
URL:https://www.jewishannarbor.org/event/jcc-film-discussion-group/2025-05-14/
LOCATION:Jewish Community Center of Ann Arbor\, 2935 Birch Hollow Drive\, Ann Arbor\, MI\, 48108\, United States
CATEGORIES:Jewish Community Center of Greater Ann Arbor
END:VEVENT
BEGIN:VEVENT
DTSTART;VALUE=DATE:20250506
DTEND;VALUE=DATE:20250507
DTSTAMP:20260423T145548
CREATED:20250113T215720Z
LAST-MODIFIED:20250113T215720Z
UID:10005620-1746489600-1746575999@www.jewishannarbor.org
SUMMARY:LIVE EVENT: 2025 Ann Arbor Jewish Film Festival
DESCRIPTION:
URL:https://www.jewishannarbor.org/event/live-event-2025-ann-arbor-jewish-film-festival-8/
LOCATION:The State Theatre\, 233 S State Street\, Ann Arbor\, 48104\, United States
CATEGORIES:Jewish Community Center of Greater Ann Arbor
END:VEVENT
BEGIN:VEVENT
DTSTART;VALUE=DATE:20250505
DTEND;VALUE=DATE:20250506
DTSTAMP:20260423T145548
CREATED:20241213T160355Z
LAST-MODIFIED:20250113T215548Z
UID:10005574-1746403200-1746489599@www.jewishannarbor.org
SUMMARY:LIVE EVENT: 2025 Ann Arbor Jewish Film Festival
DESCRIPTION:
URL:https://www.jewishannarbor.org/event/live-event-2025-ann-arbor-jewish-film-festival-6/
LOCATION:The State Theatre\, 233 S State Street\, Ann Arbor\, 48104\, United States
CATEGORIES:Jewish Community Center of Greater Ann Arbor
END:VEVENT
BEGIN:VEVENT
DTSTART;TZID=America/Detroit:20250429T183000
DTEND;TZID=America/Detroit:20250429T200000
DTSTAMP:20260423T145548
CREATED:20241213T182902Z
LAST-MODIFIED:20250404T161817Z
UID:10005576-1745951400-1745956800@www.jewishannarbor.org
SUMMARY:Community Yom HaZikaron Ceremony
DESCRIPTION:Join the Ann Arbor area Jewish community for a ceremony to commemorate Israel’s fallen soldiers and victims of terrorism on Israel’s Memorial Day\, Yom HaZikaron. \nTuesday\, April 29 at 6:30pm \nLocation: Beth Israel Congregation \nRegister to attend \nWe invite you to help make this commemoration meaningful by sharing memories of your loved ones who have fallen in service to Israel or in terror attacks. If you have a family member or friend who fell in military service or was a victim of terrorism that you would like to honor during the ceremony\, please complete the brief survey linked below. \nYour contributions will help us create a personal and respectful memorial that truly honors those we’ve lost. Photos\, stories\, and artistic works are welcome. \nSubmission deadline: Tuesday\, April 22 \nFor questions\, please contact Amichay Findling (Federation’s Israel & Overseas Program Manager) at amichay@jewishannarbor.org. \nThank you for helping us preserve the memory of our fallen. \nSubmit information about a loved one (Google account users)\nIf you don’t have a google account\, please send information about your lost loved one (including a photo if you want) to amichay@jewishannarbor.org.
URL:https://www.jewishannarbor.org/event/yom-hazikaron-ceremony/
LOCATION:MI
CATEGORIES:Ann Arbor Orthodox Minyan,Ann Arbor Reconstructionist Congregation,Beth Israel Congregation,Chabad House,Hebrew Day School,Israel Programming,Jewish Community Center of Greater Ann Arbor,Jewish Cultural Society,Jewish Federation of Greater Ann Arbor,Jewish Federation of Greater Ann Arbor - General,Pardes Hannah,Temple Beth Emeth
ATTACH;FMTTYPE=image/jpeg:https://www.jewishannarbor.org/wp-content/uploads/2024/12/יום-הזיכרון-Israel-memorial-day.jpg
END:VEVENT
BEGIN:VEVENT
DTSTART;TZID=America/Detroit:20250428T190000
DTEND;TZID=America/Detroit:20250428T220000
DTSTAMP:20260423T145548
CREATED:20241213T160227Z
LAST-MODIFIED:20241213T160227Z
UID:10005573-1745866800-1745877600@www.jewishannarbor.org
SUMMARY:LIVE EVENT: 2025 Ann Arbor Jewish Film Festival
DESCRIPTION:
URL:https://www.jewishannarbor.org/event/live-event-2025-ann-arbor-jewish-film-festival-5/
LOCATION:The State Theatre\, 233 S State Street\, Ann Arbor\, 48104\, United States
CATEGORIES:Jewish Community Center of Greater Ann Arbor
END:VEVENT
BEGIN:VEVENT
DTSTART;VALUE=DATE:20250427
DTEND;VALUE=DATE:20250428
DTSTAMP:20260423T145548
CREATED:20241213T155926Z
LAST-MODIFIED:20241213T155950Z
UID:10005572-1745712000-1745798399@www.jewishannarbor.org
SUMMARY:LIVE EVENT: 2025 Ann Arbor Jewish Film Festival
DESCRIPTION:
URL:https://www.jewishannarbor.org/event/live-event-2025-ann-arbor-jewish-film-festival-4/
LOCATION:The State Theatre\, 233 S State Street\, Ann Arbor\, 48104\, United States
CATEGORIES:Jewish Community Center of Greater Ann Arbor
END:VEVENT
BEGIN:VEVENT
DTSTART;TZID=America/Detroit:20250424T173000
DTEND;TZID=America/Detroit:20250424T210000
DTSTAMP:20260423T145548
CREATED:20241213T152814Z
LAST-MODIFIED:20250113T195259Z
UID:10005570-1745515800-1745528400@www.jewishannarbor.org
SUMMARY:Sponsor Night: 2025 Ann Arbor Jewish Film Festival
DESCRIPTION:
URL:https://www.jewishannarbor.org/event/live-event-2025-ann-arbor-jewish-film-festival-2/
LOCATION:The State Theatre\, 233 S State Street\, Ann Arbor\, 48104\, United States
CATEGORIES:Jewish Community Center of Greater Ann Arbor
END:VEVENT
BEGIN:VEVENT
DTSTART;TZID=America/Detroit:20250422T190000
DTEND;TZID=America/Detroit:20250422T220000
DTSTAMP:20260423T145548
CREATED:20250113T215414Z
LAST-MODIFIED:20250113T215414Z
UID:10005619-1745348400-1745359200@www.jewishannarbor.org
SUMMARY:LIVE EVENT: 2025 Ann Arbor Jewish Film Festival
DESCRIPTION:
URL:https://www.jewishannarbor.org/event/live-event-2025-ann-arbor-jewish-film-festival-7/
LOCATION:The State Theatre\, 233 S State Street\, Ann Arbor\, 48104\, United States
CATEGORIES:Jewish Community Center of Greater Ann Arbor
END:VEVENT
BEGIN:VEVENT
DTSTART;TZID=America/Detroit:20250421T190000
DTEND;TZID=America/Detroit:20250421T220000
DTSTAMP:20260423T145548
CREATED:20241213T152621Z
LAST-MODIFIED:20241213T152621Z
UID:10005569-1745262000-1745272800@www.jewishannarbor.org
SUMMARY:LIVE EVENT: 2025 Ann Arbor Jewish Film Festival
DESCRIPTION:
URL:https://www.jewishannarbor.org/event/live-event-2025-ann-arbor-jewish-film-festival/
LOCATION:The State Theatre\, 233 S State Street\, Ann Arbor\, 48104\, United States
CATEGORIES:Jewish Community Center of Greater Ann Arbor
END:VEVENT
BEGIN:VEVENT
DTSTART;VALUE=DATE:20250421
DTEND;VALUE=DATE:20250510
DTSTAMP:20260423T145548
CREATED:20241204T001047Z
LAST-MODIFIED:20250324T172720Z
UID:10005565-1745193600-1746835199@www.jewishannarbor.org
SUMMARY:2025 Ann Arbor Jewish Film Festival
DESCRIPTION:
URL:https://www.jewishannarbor.org/event/2025-ann-arbor-jewish-film-festival/
LOCATION:MI
CATEGORIES:Jewish Community Center of Greater Ann Arbor
END:VEVENT
BEGIN:VEVENT
DTSTART;TZID=America/Detroit:20250409T190000
DTEND;TZID=America/Detroit:20250409T203000
DTSTAMP:20260423T145548
CREATED:20250116T192041Z
LAST-MODIFIED:20250116T192041Z
UID:10005639-1744225200-1744230600@www.jewishannarbor.org
SUMMARY:JCC Film Discussion Group
DESCRIPTION:
URL:https://www.jewishannarbor.org/event/jcc-film-discussion-group/2025-04-09/
LOCATION:Jewish Community Center of Ann Arbor\, 2935 Birch Hollow Drive\, Ann Arbor\, MI\, 48108\, United States
CATEGORIES:Jewish Community Center of Greater Ann Arbor
END:VEVENT
BEGIN:VEVENT
DTSTART;TZID=America/Detroit:20250408T180000
DTEND;TZID=America/Detroit:20250408T193000
DTSTAMP:20260423T145548
CREATED:20240717T142450Z
LAST-MODIFIED:20250113T214926Z
UID:10005374-1744135200-1744140600@www.jewishannarbor.org
SUMMARY:Amster Gallery Exhibition with Joan Cohen Jones and Michael Fried
DESCRIPTION:
URL:https://www.jewishannarbor.org/event/amster-gallery-exhibition-with-joan-cohen-jones/
LOCATION:Jewish Community Center of Ann Arbor\, 2935 Birch Hollow Drive\, Ann Arbor\, MI\, 48108\, United States
CATEGORIES:Jewish Community Center of Greater Ann Arbor
END:VEVENT
BEGIN:VEVENT
DTSTART;TZID=America/Detroit:20250406T150000
DTEND;TZID=America/Detroit:20250406T170000
DTSTAMP:20260423T145548
CREATED:20250324T174732Z
LAST-MODIFIED:20250324T174732Z
UID:10005723-1743951600-1743958800@www.jewishannarbor.org
SUMMARY:Matzah Factory
DESCRIPTION:
URL:https://www.jewishannarbor.org/event/matzah-factory/
LOCATION:Jewish Community Center of Ann Arbor\, 2935 Birch Hollow Drive\, Ann Arbor\, MI\, 48108\, United States
CATEGORIES:Jewish Community Center of Greater Ann Arbor
END:VEVENT
BEGIN:VEVENT
DTSTART;TZID=America/Detroit:20250320T181500
DTEND;TZID=America/Detroit:20250320T203000
DTSTAMP:20260423T145548
CREATED:20250108T155541Z
LAST-MODIFIED:20250214T162046Z
UID:10005601-1742494500-1742502600@www.jewishannarbor.org
SUMMARY:JCC's 3rd Annual A Night of Comedy and FUNdraising
DESCRIPTION:A Night of Comedy and Fundraising\n\nJoin us for the 3rd Annual Night of Comedy and Fundraising\, Benefiting PJ Library®!\nJoin the Jewish Community Center of Greater Ann Arbor for our 3rd Annual Night of Comedy and FUNdraising\, benefiting PJ Library\, at the Ann Arbor Comedy Showcase on Thursday March 20\, 2025. This year’s headliner is Detroit-born comedian Robert Mac\, the 2001 Grand Prize Winner of Comedy Central’s “Laugh Riots\,” a national stand-up competition. Robert has also made appearances on NBC’s “Last Comic Standing” and has two specials on Dry Bar Comedy. In addition\, he has performed alongside several well-known comedians\, including Robin Williams and Adam Sandler. \n\nAll proceeds from this year’s event will help support PJ Library Ann Arbor. PJ Library sends free award-winning books that celebrate Jewish values and culture to families with children from birth through 12 years old. With your support\, the JCC will be able to continue providing 5\,300 free books a year to the greater Ann Arbor area. \nTo purchase tickets or become a sponsor\, please visit https://jccannarbor.org/a-night-of-comedy-and-fundraising/
URL:https://www.jewishannarbor.org/event/jccs-3rd-annual-a-night-of-comedy-and-fundraising/
LOCATION:Ann Arbor Comedy Showcase
CATEGORIES:Jewish Community Center of Greater Ann Arbor
ATTACH;FMTTYPE=image/jpeg:https://www.jewishannarbor.org/wp-content/uploads/2025/01/PJ-Library-Comedy-4.jpg
END:VEVENT
BEGIN:VEVENT
DTSTART;TZID=America/Detroit:20250312T190000
DTEND;TZID=America/Detroit:20250312T203000
DTSTAMP:20260423T145548
CREATED:20250116T192041Z
LAST-MODIFIED:20250116T192041Z
UID:10005638-1741806000-1741811400@www.jewishannarbor.org
SUMMARY:JCC Film Discussion Group
DESCRIPTION:
URL:https://www.jewishannarbor.org/event/jcc-film-discussion-group/2025-03-12/
LOCATION:Jewish Community Center of Ann Arbor\, 2935 Birch Hollow Drive\, Ann Arbor\, MI\, 48108\, United States
CATEGORIES:Jewish Community Center of Greater Ann Arbor
END:VEVENT
BEGIN:VEVENT
DTSTART;TZID=America/Detroit:20250309T183000
DTEND;TZID=America/Detroit:20250309T200000
DTSTAMP:20260423T145548
CREATED:20250227T201852Z
LAST-MODIFIED:20250228T164103Z
UID:10005701-1741545000-1741550400@www.jewishannarbor.org
SUMMARY:Community Trip to Israel Info Session
DESCRIPTION:Register for the info session here \nClick here to learn all about the trip and express interest for your own personalized trip sign-up link.
URL:https://www.jewishannarbor.org/event/community-trip-to-israel-info-session-3/
LOCATION:Beth Israel Congregation\, 2000 Washtenaw Avenue\, Ann Arbor\, MI\, USA\, Ann Arbor\, MI\, 48108\, United States
CATEGORIES:Beth Israel Congregation,Hebrew Day School,Jewish Community Center of Greater Ann Arbor,Jewish Federation of Greater Ann Arbor,Jewish Federation of Greater Ann Arbor - General,Temple Beth Emeth
ATTACH;FMTTYPE=image/jpeg:https://www.jewishannarbor.org/wp-content/uploads/2025/02/Israel-Trip-Info-Session-flyer-March-2025.jpg
END:VEVENT
BEGIN:VEVENT
DTSTART;TZID=America/Detroit:20250306T180000
DTEND;TZID=America/Detroit:20250306T193000
DTSTAMP:20260423T145548
CREATED:20240717T141336Z
LAST-MODIFIED:20240717T141336Z
UID:10005373-1741284000-1741289400@www.jewishannarbor.org
SUMMARY:Amster Gallery Exhibition with Yevgeniya Gazman
DESCRIPTION:
URL:https://www.jewishannarbor.org/event/amster-gallery-exhibition-with-yevgeniya-gazman/
LOCATION:Jewish Community Center of Ann Arbor\, 2935 Birch Hollow Drive\, Ann Arbor\, MI\, 48108\, United States
CATEGORIES:Jewish Community Center of Greater Ann Arbor
END:VEVENT
END:VCALENDAR