BEGIN:VCALENDAR
VERSION:2.0
PRODID:-//Jewish Federation of Greater Ann Arbor - ECPv6.15.17.1//NONSGML v1.0//EN
CALSCALE:GREGORIAN
METHOD:PUBLISH
X-ORIGINAL-URL:https://www.jewishannarbor.org
X-WR-CALDESC:Events for Jewish Federation of Greater Ann Arbor
REFRESH-INTERVAL;VALUE=DURATION:PT1H
X-Robots-Tag:noindex
X-PUBLISHED-TTL:PT1H
BEGIN:VTIMEZONE
TZID:America/Detroit
BEGIN:DAYLIGHT
TZOFFSETFROM:-0500
TZOFFSETTO:-0400
TZNAME:EDT
DTSTART:20240310T070000
END:DAYLIGHT
BEGIN:STANDARD
TZOFFSETFROM:-0400
TZOFFSETTO:-0500
TZNAME:EST
DTSTART:20241103T060000
END:STANDARD
BEGIN:DAYLIGHT
TZOFFSETFROM:-0500
TZOFFSETTO:-0400
TZNAME:EDT
DTSTART:20250309T070000
END:DAYLIGHT
BEGIN:STANDARD
TZOFFSETFROM:-0400
TZOFFSETTO:-0500
TZNAME:EST
DTSTART:20251102T060000
END:STANDARD
BEGIN:DAYLIGHT
TZOFFSETFROM:-0500
TZOFFSETTO:-0400
TZNAME:EDT
DTSTART:20260308T070000
END:DAYLIGHT
BEGIN:STANDARD
TZOFFSETFROM:-0400
TZOFFSETTO:-0500
TZNAME:EST
DTSTART:20261101T060000
END:STANDARD
END:VTIMEZONE
BEGIN:VEVENT
DTSTART;TZID=America/Detroit:20251201T183000
DTEND;TZID=America/Detroit:20251201T193000
DTSTAMP:20260420T002149
CREATED:20250814T152802Z
LAST-MODIFIED:20251030T181753Z
UID:10005898-1764613800-1764617400@www.jewishannarbor.org
SUMMARY:JCC: Book Series - In Conversation with Corey Rosen and Jeff Pickell
DESCRIPTION:Register Here\nPlease join us at the JCC on Monday\, December 1 from 6:30-7:30 PM for a in-person visit from Corey Rosen\, author of A Story for Everything: Mastering Diverse Storytelling for Any Occasion. Jeff Pickell moderates. \nBook Blurb \nPeople forget facts and figures\, but people never forget a good story. In this standalone companion to Your Story\, Well Told\, author and The Moth StorySlams host Corey Rosen provides a practical\, go-to guide on crafting and delivering impactful narratives for professional\, academic\, and personal success. Combining humor\, heart\, and advice\, Rosen demystifies storytelling\, making it accessible for beginners while enriching experienced storytellers. \nOrganized into three parts — business\, school\, and family — the book addresses diverse storytelling needs\, from job interviews and persuasive pitches to college essays\, eulogies\, and wedding toasts. Each chapter features vivid examples and easy-to-follow exercises\, helping readers tap into their life experiences and transform them into compelling stories. Through personal anecdotes and structured exercises\, readers learn to reflect on their experiences\, structure their stories effectively\, and share them with authenticity. \nWhether you’re a doctor\, teacher\, salesman\, parent\, or a friend\, A Story for Everything empowers you to elevate your communication and enrich your relationships. If you want to make an unforgettable impression\, this book was made for you.
URL:https://www.jewishannarbor.org/event/ann-arbor-jewish-book-series-in-person-events-4/
LOCATION:Jewish Community Center of Ann Arbor\, 2935 Birch Hollow Drive\, Ann Arbor\, MI\, 48108\, United States
CATEGORIES:Jewish Community Center of Greater Ann Arbor
ATTACH;FMTTYPE=image/jpeg:https://www.jewishannarbor.org/wp-content/uploads/2025/08/Corey-Rosen-1.jpg
END:VEVENT
BEGIN:VEVENT
DTSTART;TZID=America/Detroit:20251204T173000
DTEND;TZID=America/Detroit:20251204T203000
DTSTAMP:20260420T002149
CREATED:20250519T171059Z
LAST-MODIFIED:20250821T163052Z
UID:10005761-1764869400-1764880200@www.jewishannarbor.org
SUMMARY:JCC: One Light for Tzedakah
DESCRIPTION:
URL:https://www.jewishannarbor.org/event/one-light-for-tzedakah/
LOCATION:Jewish Community Center of Ann Arbor\, 2935 Birch Hollow Drive\, Ann Arbor\, MI\, 48108\, United States
CATEGORIES:Jewish Community Center of Greater Ann Arbor
END:VEVENT
BEGIN:VEVENT
DTSTART;TZID=America/Detroit:20251208T173000
DTEND;TZID=America/Detroit:20251208T193000
DTSTAMP:20260420T002149
CREATED:20250821T181126Z
LAST-MODIFIED:20250821T181126Z
UID:10005943-1765215000-1765222200@www.jewishannarbor.org
SUMMARY:JCC: Jason Belongs - Book and Musical Event with ECC and HDS
DESCRIPTION:
URL:https://www.jewishannarbor.org/event/jcc-jason-belongs-book-and-musical-event-with-ecc-and-hds/
LOCATION:Hebrew Day School of AA\, 2937 Birch Hollow Drive\, Ann Arbor\, MI\, 48108\, United States
CATEGORIES:Hebrew Day School,Jewish Community Center of Greater Ann Arbor
END:VEVENT
BEGIN:VEVENT
DTSTART;TZID=America/Detroit:20251208T173000
DTEND;TZID=America/Detroit:20251208T193000
DTSTAMP:20260420T002149
CREATED:20251110T162455Z
LAST-MODIFIED:20251110T164301Z
UID:10006041-1765215000-1765222200@www.jewishannarbor.org
SUMMARY:JCC: Children's book "Jason Belongs" with HDS and ECC
DESCRIPTION:HDS and ECC @ The Jewish Book Series present: \nAn evening with Jason Schachter McKinney\, author of “Jason Belongs” \nJoin us on 12/8 at the HDS Anna Schwalb Memorial Library A Story of Identity\, Music\, and Finding Your Place \n\n5:30 – 6:15 PM\, Gathering & Read Aloud: Jason shares his inspiring true story\n6:15 – 6:45 PM\, Pizza Dinner: Please register\n6:45 PM – End\, Sing Along: Join us for a fun all-ages music\n\nABOUT THE BOOK\nJason Belongs tells the true story of navigating identity as an African-heritage Jew from a day school in Wisconsin to concert halls around the world. A powerful story about finding where you belong and using your gifts to bridge communities. \nRSVP for free: https://jlive.app/events/13577
URL:https://www.jewishannarbor.org/event/jason-belongs/
LOCATION:Hebrew Day School of AA\, 2937 Birch Hollow Drive\, Ann Arbor\, MI\, 48108\, United States
CATEGORIES:Children,Community,Educational,English Speaking,Families,Food Provided,Hebrew Day School,Jewish Community Center of Greater Ann Arbor,Jewish Federation of Greater Ann Arbor,Kosher Food,Music,Parents,Special Guest
ATTACH;FMTTYPE=image/jpeg:https://www.jewishannarbor.org/wp-content/uploads/2025/11/Jason-Belongs.jpg
ORGANIZER;CN="Hebrew Day School of Ann Arbor":MAILTO:office@hdsaa.org
END:VEVENT
BEGIN:VEVENT
DTSTART;TZID=America/Detroit:20251210T190000
DTEND;TZID=America/Detroit:20251210T203000
DTSTAMP:20260420T002149
CREATED:20250821T180314Z
LAST-MODIFIED:20250821T180314Z
UID:10005937-1765393200-1765398600@www.jewishannarbor.org
SUMMARY:JCC: Film Discussion Group with Russ Collins
DESCRIPTION:
URL:https://www.jewishannarbor.org/event/jcc-film-discussion-group-with-russ-collins/2025-12-10/
CATEGORIES:Jewish Community Center of Greater Ann Arbor
END:VEVENT
BEGIN:VEVENT
DTSTART;TZID=America/Detroit:20251211T180000
DTEND;TZID=America/Detroit:20251211T193000
DTSTAMP:20260420T002149
CREATED:20241218T182341Z
LAST-MODIFIED:20251030T182137Z
UID:10005579-1765476000-1765481400@www.jewishannarbor.org
SUMMARY:JCC: Amster Gallery Exhibition with Jen Lewis + Sara Young
DESCRIPTION:Please join us at the Amster Gallery on Thursday\, December 11 from 6-7:30 PM to view the amazing work of two talented artists! Jennifer Lewis brings her Stars of David Project all the way from Chattanooga\, Tennessee to show in our gallery space. The Stars of David Project offers a tribute to the six million Jewish victims of the Holocaust. Each hand-drawn\, carefully placed star represents a life cut short by the Nazi regime. Sara Young of Southeast Michigan\, who showed a small sampling of her work in the Amster Gallery Group Show\, will be featuring a large collection of spectacular 3D Wood Etchings and Engravings in the Newman Lounge. \nJennifer will be joining us over Zoom\, and Sara will be here at the JCC to talk and answer questions. \nCome schmooze and have a nosh while exploring beautiful and meaningful artwork. Pieces will be up and available for viewing until January 7\, 2026. \nJennifer Lewis’s Stars of David Project is a traveling exhibit\, but prints and greeting card sets will be sold. Sara Young’s pieces will be available for purchase. \nWe hope to see you here at the JCC on Thursday\, December 11!
URL:https://www.jewishannarbor.org/event/amster-gallery-exhibition/
LOCATION:Jewish Community Center of Ann Arbor\, 2935 Birch Hollow Drive\, Ann Arbor\, MI\, 48108\, United States
CATEGORIES:Jewish Community Center of Greater Ann Arbor
ATTACH;FMTTYPE=image/jpeg:https://www.jewishannarbor.org/wp-content/uploads/2024/12/Amster-Gallery-Exhibition-1.jpg
END:VEVENT
END:VCALENDAR