BEGIN:VCALENDAR
VERSION:2.0
PRODID:-//Jewish Federation of Greater Ann Arbor - ECPv6.15.17.1//NONSGML v1.0//EN
CALSCALE:GREGORIAN
METHOD:PUBLISH
X-ORIGINAL-URL:https://www.jewishannarbor.org
X-WR-CALDESC:Events for Jewish Federation of Greater Ann Arbor
REFRESH-INTERVAL;VALUE=DURATION:PT1H
X-Robots-Tag:noindex
X-PUBLISHED-TTL:PT1H
BEGIN:VTIMEZONE
TZID:America/Detroit
BEGIN:DAYLIGHT
TZOFFSETFROM:-0500
TZOFFSETTO:-0400
TZNAME:EDT
DTSTART:20240310T070000
END:DAYLIGHT
BEGIN:STANDARD
TZOFFSETFROM:-0400
TZOFFSETTO:-0500
TZNAME:EST
DTSTART:20241103T060000
END:STANDARD
BEGIN:DAYLIGHT
TZOFFSETFROM:-0500
TZOFFSETTO:-0400
TZNAME:EDT
DTSTART:20250309T070000
END:DAYLIGHT
BEGIN:STANDARD
TZOFFSETFROM:-0400
TZOFFSETTO:-0500
TZNAME:EST
DTSTART:20251102T060000
END:STANDARD
BEGIN:DAYLIGHT
TZOFFSETFROM:-0500
TZOFFSETTO:-0400
TZNAME:EDT
DTSTART:20260308T070000
END:DAYLIGHT
BEGIN:STANDARD
TZOFFSETFROM:-0400
TZOFFSETTO:-0500
TZNAME:EST
DTSTART:20261101T060000
END:STANDARD
END:VTIMEZONE
BEGIN:VEVENT
DTSTART;TZID=America/Detroit:20251111T140000
DTEND;TZID=America/Detroit:20251111T160000
DTSTAMP:20260420T002136
CREATED:20250814T151804Z
LAST-MODIFIED:20250905T184300Z
UID:10005916-1762869600-1762876800@www.jewishannarbor.org
SUMMARY:JCC: Veterans Day Animal Therapy
DESCRIPTION:
URL:https://www.jewishannarbor.org/event/veterans-day-animal-therapy/
LOCATION:Jewish Community Center of Ann Arbor\, 2935 Birch Hollow Drive\, Ann Arbor\, MI\, 48108\, United States
CATEGORIES:Jewish Community Center of Greater Ann Arbor
END:VEVENT
BEGIN:VEVENT
DTSTART;TZID=America/Detroit:20251112T190000
DTEND;TZID=America/Detroit:20251112T203000
DTSTAMP:20260420T002136
CREATED:20250821T180314Z
LAST-MODIFIED:20250821T180314Z
UID:10005936-1762974000-1762979400@www.jewishannarbor.org
SUMMARY:JCC: Film Discussion Group with Russ Collins
DESCRIPTION:
URL:https://www.jewishannarbor.org/event/jcc-film-discussion-group-with-russ-collins/2025-11-12/
CATEGORIES:Jewish Community Center of Greater Ann Arbor
END:VEVENT
BEGIN:VEVENT
DTSTART;TZID=America/Detroit:20251113T183000
DTEND;TZID=America/Detroit:20251113T193000
DTSTAMP:20260420T002136
CREATED:20250814T152216Z
LAST-MODIFIED:20251030T181026Z
UID:10005896-1763058600-1763062200@www.jewishannarbor.org
SUMMARY:JCC: Book Series - Fagin the Thief by Allison Epstein
DESCRIPTION:Fagin the Thief by Allison Epstein\nRegister Here!\nLong before Oliver Twist stumbled onto the scene\, Jacob Fagin was scratching out a life for himself in the dark alleys of nineteenth-century London. Born in the Jewish enclave of Stepney shortly after his father was executed as a thief\, Jacob and his open-minded mother\, Leah\, are each other’s whole world. But Jacob’s prospects are forever altered when a light-fingered pickpocket takes Jacob under his wing and teaches him a trade that pays far better than the neighborhood boys could possibly dream.\n\nStriking out on his own\, Jacob familiarizes himself with London’s highest value neighborhoods while forging his own path in the shadows. But everything changes when he adopts an aspiring teenage thief named Bill Sikes\, whose mercurial temper poses a danger to himself and anyone foolish enough to cross him. Along the way\, Jacob’s found family expands to include his closest friend\, Nancy\, and his greatest protege\, the Artful Dodger. But as Bill’s ambition soars and a major robbery goes awry\, Jacob is forced to decide what he really stands for—and what a life is worth.\n\nAllison Epstein earned her MFA in fiction from Northwestern University and a BA in creative writing from the University of Michigan. A Michigan native\, she now lives in Chicago\, where she enjoys good theater\, bad puns\, and fancy jackets. She is the author of historical novels including A Tip for the Hangman\, Let the Dead Bury the Dead\, and Fagin the Thief.
URL:https://www.jewishannarbor.org/event/ann-arbor-jewish-book-series-in-person-events-2/
LOCATION:Jewish Community Center of Ann Arbor\, 2935 Birch Hollow Drive\, Ann Arbor\, MI\, 48108\, United States
CATEGORIES:Jewish Community Center of Greater Ann Arbor
ATTACH;FMTTYPE=image/jpeg:https://www.jewishannarbor.org/wp-content/uploads/2025/07/Fagin-the-Thief_Cover-Art.jpg
END:VEVENT
BEGIN:VEVENT
DTSTART;TZID=America/Detroit:20251120T173000
DTEND;TZID=America/Detroit:20251120T193000
DTSTAMP:20260420T002136
CREATED:20250814T152452Z
LAST-MODIFIED:20251030T181400Z
UID:10005897-1763659800-1763667000@www.jewishannarbor.org
SUMMARY:JCC: Local Authors\, Art and Music!
DESCRIPTION:Join us to celebrate Local Authors\, Art\, and Music at the JCC!\nRegister Here!\nPlease join us at the JCC on Thursday\, November 20 from 5:30-7:30 PM to celebrate Local Authors & Artists! We can’t wait to welcome the following authors to our community to share about their books: \n\nClare Kinberg – By the Waters of Paradise\nHenry Hank Greenspan – Remnants and What Remains\nJack Zaientz – Jewish Monster and Magic Trading Cards\, Wayward Children Podcasts\, and More!\nBarbara Stark Nemon – Isabela’s Way\nCary Gitter – Cammy Sitting Shiva
URL:https://www.jewishannarbor.org/event/ann-arbor-jewish-book-series-in-person-events-3/
LOCATION:Jewish Community Center of Ann Arbor\, 2935 Birch Hollow Drive\, Ann Arbor\, MI\, 48108\, United States
CATEGORIES:Jewish Community Center of Greater Ann Arbor
ATTACH;FMTTYPE=image/jpeg:https://www.jewishannarbor.org/wp-content/uploads/2025/08/JLive-Banners-16.jpg
END:VEVENT
END:VCALENDAR