BEGIN:VCALENDAR
VERSION:2.0
PRODID:-//Jewish Federation of Greater Ann Arbor - ECPv6.15.17.1//NONSGML v1.0//EN
CALSCALE:GREGORIAN
METHOD:PUBLISH
X-WR-CALNAME:Jewish Federation of Greater Ann Arbor
X-ORIGINAL-URL:https://www.jewishannarbor.org
X-WR-CALDESC:Events for Jewish Federation of Greater Ann Arbor
REFRESH-INTERVAL;VALUE=DURATION:PT1H
X-Robots-Tag:noindex
X-PUBLISHED-TTL:PT1H
BEGIN:VTIMEZONE
TZID:America/Detroit
BEGIN:DAYLIGHT
TZOFFSETFROM:-0500
TZOFFSETTO:-0400
TZNAME:EDT
DTSTART:20240310T070000
END:DAYLIGHT
BEGIN:STANDARD
TZOFFSETFROM:-0400
TZOFFSETTO:-0500
TZNAME:EST
DTSTART:20241103T060000
END:STANDARD
BEGIN:DAYLIGHT
TZOFFSETFROM:-0500
TZOFFSETTO:-0400
TZNAME:EDT
DTSTART:20250309T070000
END:DAYLIGHT
BEGIN:STANDARD
TZOFFSETFROM:-0400
TZOFFSETTO:-0500
TZNAME:EST
DTSTART:20251102T060000
END:STANDARD
BEGIN:DAYLIGHT
TZOFFSETFROM:-0500
TZOFFSETTO:-0400
TZNAME:EDT
DTSTART:20260308T070000
END:DAYLIGHT
BEGIN:STANDARD
TZOFFSETFROM:-0400
TZOFFSETTO:-0500
TZNAME:EST
DTSTART:20261101T060000
END:STANDARD
END:VTIMEZONE
BEGIN:VEVENT
DTSTART;TZID=America/Detroit:20251214T110000
DTEND;TZID=America/Detroit:20251214T120000
DTSTAMP:20260420T010214
CREATED:20251205T191607Z
LAST-MODIFIED:20251213T201603Z
UID:10006043-1765710000-1765713600@www.jewishannarbor.org
SUMMARY:מסיבת חנוכה ישראלית לילדים (Israeli Hanukkah Kids' Party)
DESCRIPTION:הצטרפו אלינו למסיבת חנוכה ישראלית לגילאי 2-7 בהנחיית השינשינים של הפדרציה\nהיהודית\nבתכנית: מוזיקת חג\, סופגניות ופעילות יצירה חגיגית \nהאירוע בחינם אבל נדרש להירשם מראש- אנא בחרו את מספר הכרטיסים כמספר המגיעים\n**יום ראשון\, 12.14**\n**11:00-12:00**\nנתראה! \nView event on Jlive: https://jlive.app/events/13886
URL:https://www.jewishannarbor.org/event/%d7%9e%d7%a1%d7%99%d7%91%d7%aa-%d7%97%d7%a0%d7%95%d7%9b%d7%94-%d7%99%d7%a9%d7%a8%d7%90%d7%9c%d7%99%d7%aa-%d7%9c%d7%99%d7%9c%d7%93%d7%99%d7%9d-israeli-hanukkah-kids-party/
LOCATION:2935 Birch Hollow Dr 2935 Birch Hollow Dr\, Ann Arbor
CATEGORIES:Children,Families,Grandparents,Hannukah,Hebrew and Yiddish,Hebrew Speaking,Jewish Holiday,Parents,Parking (free),Wheelchair Accessible,Young Children
ORGANIZER;CN="Jewish Federation of Greater Ann Arbor":MAILTO:info@jewishannarbor.org
END:VEVENT
BEGIN:VEVENT
DTSTART;TZID=America/Detroit:20251207T103000
DTEND;TZID=America/Detroit:20251207T123000
DTSTAMP:20260420T010214
CREATED:20251001T184536Z
LAST-MODIFIED:20251206T211603Z
UID:10006004-1765103400-1765110600@www.jewishannarbor.org
SUMMARY:Jewish Storytime at the AADL
DESCRIPTION:**Join Carmel & Ori for Jewish Story Time**\nThere will be both English and Hebrew sessions but we invite families to join\nfor both!\n  * **10:30-11:30:** Jewish story time & Activity\n  * **11:30-12:30:** Hebrew Jewish story time & Activity (Hebrew immersion) \nView event on Jlive: https://jlive.app/events/13208
URL:https://www.jewishannarbor.org/event/jewish-storytime-at-the-aadl-3/
LOCATION:Ann Arbor District Library: Pittsfield Branch 2359 Oak Valley Dr\, Ann Arbor
CATEGORIES:Children,Educational,English Speaking,Families,Grandparents,Hebrew and Yiddish,Hebrew Speaking,Jewish Learning,Parents,Parking (free),Wheelchair Accessible,Young Children
ATTACH;FMTTYPE=image/jpeg:https://www.jewishannarbor.org/wp-content/uploads/2025/10/Hero_image_jewish_story_time-SrHaic.jpg
ORGANIZER;CN="Jewish Federation of Greater Ann Arbor":MAILTO:info@jewishannarbor.org
END:VEVENT
BEGIN:VEVENT
DTSTART;TZID=America/Detroit:20251123T103000
DTEND;TZID=America/Detroit:20251123T123000
DTSTAMP:20260420T010214
CREATED:20251001T184535Z
LAST-MODIFIED:20251123T121604Z
UID:10006003-1763893800-1763901000@www.jewishannarbor.org
SUMMARY:Jewish Storytime at the AADL
DESCRIPTION:**Join the Carmel & Ori for Jewish Story Time**\nThere will be both English and Hebrew sessions but we invite families to join\nfor both!\n  * **10:30-11:30:** Jewish story time & Activity\n  * **11:30-12:30:** Hebrew Jewish story time & Activity (Hebrew immersion) \nView event on Jlive: https://jlive.app/events/13207
URL:https://www.jewishannarbor.org/event/jewish-storytime-at-the-aadl-2/
LOCATION:Ann Arbor District Library: Pittsfield Branch 2359 Oak Valley Dr\, Ann Arbor
CATEGORIES:Children,Educational,English Speaking,Families,Grandparents,Hebrew and Yiddish,Hebrew Speaking,Jewish Learning,Parking (free),Wheelchair Accessible,Young Children
ATTACH;FMTTYPE=image/jpeg:https://www.jewishannarbor.org/wp-content/uploads/2025/10/Hero_image_jewish_story_time-SrHaic.jpg
ORGANIZER;CN="Jewish Federation of Greater Ann Arbor":MAILTO:info@jewishannarbor.org
END:VEVENT
BEGIN:VEVENT
DTSTART;TZID=America/Detroit:20251116T163000
DTEND;TZID=America/Detroit:20251116T190000
DTSTAMP:20260420T010214
CREATED:20251003T231614Z
LAST-MODIFIED:20251010T111612Z
UID:10006007-1763310600-1763319600@www.jewishannarbor.org
SUMMARY:Community Yonina Concert
DESCRIPTION:**Join us for a night with Yonina!**\n***Doors open at 4:15*** \nYoni and Nina Tokayer\, also known as Yonina\, are an Israeli musical duo\nacclaimed for their weekly home videos\, which have reached millions of viewers\nworldwide.\nThey have released two original albums and have been performing for the past\nnine years throughout Israel and abroad. \nYoni and Nina have been singing together since they met\, have been married for\nten years\, and have four sweet children who occasionally make guest\nappearances in their videos. Known for their uplifting music and soft\nharmonies\, Yonina blends Jewish\, Israeli\, and international music. \nSince October 7th\, Yoni has served over 300 days in the reserves as a\ncommander in a counterterror unit in the Shomron. During his months of\nservice\, Nina has been home with their children\, writing songs inspired by\nthese challenging times. Together\, their music has become a source of hope\,\nunity\, strength\, and connection. \nView event on Jlive: https://jlive.app/events/13224
URL:https://www.jewishannarbor.org/event/community-yonina-concert/
CATEGORIES:Adults,Arts & Culture,Children,College Students,Families,Grandparents,Israel,Music,Older Adults,Parents,Parking (free),Special Guest,Teens,Tweens,Wheelchair Accessible,Young Adults,Young Children
ATTACH;FMTTYPE=image/jpeg:https://www.jewishannarbor.org/wp-content/uploads/2025/10/Untitled_design_1-k3Fu38.jpg
ORGANIZER;CN="Jewish Federation of Greater Ann Arbor":MAILTO:info@jewishannarbor.org
END:VEVENT
BEGIN:VEVENT
DTSTART;TZID=America/Detroit:20251116T163000
DTEND;TZID=America/Detroit:20251116T180000
DTSTAMP:20260420T010214
CREATED:20251011T111613Z
LAST-MODIFIED:20251116T165007Z
UID:10006012-1763310600-1763316000@www.jewishannarbor.org
SUMMARY:Community Yonina Concert
DESCRIPTION:**Join us for a night with Yonina!**\n***Doors open at 4:15*** \nYoni and Nina Tokayer\, also known as Yonina\, are an Israeli musical duo\nacclaimed for their weekly home videos\, which have reached millions of viewers\nworldwide.\nThey have released two original albums and have been performing for the past\nnine years throughout Israel and abroad. \nYoni and Nina have been singing together since they met\, have been married for\nten years\, and have four sweet children who occasionally make guest\nappearances in their videos. Known for their uplifting music and soft\nharmonies\, Yonina blends Jewish\, Israeli\, and international music. \nSince October 7th\, Yoni has served over 300 days in the reserves as a\ncommander in a counterterror unit in the Shomron. During his months of\nservice\, Nina has been home with their children\, writing songs inspired by\nthese challenging times. Together\, their music has become a source of hope\,\nunity\, strength\, and connection. \nView event on Jlive: https://jlive.app/events/13224
URL:https://www.jewishannarbor.org/event/community-yonina-concert-2/
CATEGORIES:Adults,Arts & Culture,Children,College Students,Families,Grandparents,Israel,Music,Older Adults,Parents,Parking (free),Special Guest,Teens,Tweens,Wheelchair Accessible,Young Adults,Young Children
ATTACH;FMTTYPE=image/jpeg:https://www.jewishannarbor.org/wp-content/uploads/2025/10/Untitled_design_1-k3Fu38.jpg
ORGANIZER;CN="Jewish Federation of Greater Ann Arbor":MAILTO:info@jewishannarbor.org
END:VEVENT
BEGIN:VEVENT
DTSTART;TZID=America/Detroit:20251026T103000
DTEND;TZID=America/Detroit:20251026T123000
DTSTAMP:20260420T010214
CREATED:20251001T184521Z
LAST-MODIFIED:20251026T121604Z
UID:10006001-1761474600-1761481800@www.jewishannarbor.org
SUMMARY:Jewish Storytime at the AADL
DESCRIPTION:**Join the Carmel & Ori for Jewish Story Time**\nThere will be both English and Hebrew sessions but we invite families to join\nfor both!\n  * **10:30-11:30:** Jewish story time & Activity\n  * **11:30-12:30:** Hebrew Jewish story time & Activity (Hebrew immersion) \nView event on Jlive: https://jlive.app/events/13205
URL:https://www.jewishannarbor.org/event/jewish-storytime-at-the-aadl/
LOCATION:Ann Arbor District Library: Pittsfield Branch 2359 Oak Valley Dr\, Ann Arbor
CATEGORIES:Children,Educational,English Speaking,Families,Grandparents,Hebrew and Yiddish,Hebrew Speaking,Israel,Jewish Learning,Parking (free),Wheelchair Accessible,Young Children
ATTACH;FMTTYPE=image/jpeg:https://www.jewishannarbor.org/wp-content/uploads/2025/10/Hero_image_jewish_story_time-SrHaic.jpg
ORGANIZER;CN="Jewish Federation of Greater Ann Arbor":MAILTO:info@jewishannarbor.org
END:VEVENT
BEGIN:VEVENT
DTSTART;TZID=America/Detroit:20251018T200000
DTEND;TZID=America/Detroit:20251018T220000
DTSTAMP:20260420T010214
CREATED:20251014T151617Z
LAST-MODIFIED:20251018T231604Z
UID:10006014-1760817600-1760824800@www.jewishannarbor.org
SUMMARY:שיחה פתוחה עם מאיה איזוצ׳ייב\nשביעי באוקטובר והמאבק עד היום
DESCRIPTION:על מאיה:\nמאיה (30)\, עבדה כסלקטורית במסיבת הנובה ושרדה את ה-7 באוקטובר הנורא.\nביום הנורא היא איבדה חברים ומאז נאבקה למען שחרורו של חברה הטוב גיא גלבוע- דלאל\nופועלת להנצחת הנרצחים במסיבת הנובה.\nכחלק ממאבקה מאיה פוגשת קהילות בארה״ב ומדריכה סיורים באתר הנובה בהם משתפת את\nסיפורה.\n**המפגש יתקיים בעברית** \nView event on Jlive: https://jlive.app/events/13293
URL:https://www.jewishannarbor.org/event/%d7%a9%d7%99%d7%97%d7%94-%d7%a4%d7%aa%d7%95%d7%97%d7%94-%d7%a2%d7%9d-%d7%9e%d7%90%d7%99%d7%94-%d7%90%d7%99%d7%96%d7%95%d7%a6%d7%b3%d7%99%d7%99%d7%91%d7%a9%d7%91%d7%99%d7%a2%d7%99-%d7%91%d7%90%d7%95/
CATEGORIES:Adults,After October 7,College Students,Grandparents,Hebrew and Yiddish,Israel,Older Adults,Parents,Young Adults
ORGANIZER;CN="Jewish Federation of Greater Ann Arbor":MAILTO:info@jewishannarbor.org
END:VEVENT
BEGIN:VEVENT
DTSTART;TZID=America/Detroit:20251003T183000
DTEND;TZID=America/Detroit:20251003T203000
DTSTAMP:20260420T010214
CREATED:20251003T131726Z
LAST-MODIFIED:20251003T131726Z
UID:10006005-1759516200-1759523400@www.jewishannarbor.org
SUMMARY:HDS Legacy L'chayim
DESCRIPTION:A celebration and reunion of our alumni families\, welcoming our 5th grade parents and honoring an HDS alumni family. \nDrinks and refreshments. \n  \n \n  \nContact Tamar Jacobson for more information: TJacobson@hdsaa.org or 734-971-4633 x103
URL:https://www.jewishannarbor.org/event/hds-legacy-lchayim/
CATEGORIES:Adults,Community,Grandparents,Hebrew Day School
ORGANIZER;CN="Hebrew Day School of Ann Arbor":MAILTO:office@hdsaa.org
END:VEVENT
END:VCALENDAR