BEGIN:VCALENDAR
VERSION:2.0
PRODID:-//Jewish Federation of Greater Ann Arbor - ECPv6.15.17.1//NONSGML v1.0//EN
CALSCALE:GREGORIAN
METHOD:PUBLISH
X-WR-CALNAME:Jewish Federation of Greater Ann Arbor
X-ORIGINAL-URL:https://www.jewishannarbor.org
X-WR-CALDESC:Events for Jewish Federation of Greater Ann Arbor
REFRESH-INTERVAL;VALUE=DURATION:PT1H
X-Robots-Tag:noindex
X-PUBLISHED-TTL:PT1H
BEGIN:VTIMEZONE
TZID:America/Detroit
BEGIN:DAYLIGHT
TZOFFSETFROM:-0500
TZOFFSETTO:-0400
TZNAME:EDT
DTSTART:20240310T070000
END:DAYLIGHT
BEGIN:STANDARD
TZOFFSETFROM:-0400
TZOFFSETTO:-0500
TZNAME:EST
DTSTART:20241103T060000
END:STANDARD
BEGIN:DAYLIGHT
TZOFFSETFROM:-0500
TZOFFSETTO:-0400
TZNAME:EDT
DTSTART:20250309T070000
END:DAYLIGHT
BEGIN:STANDARD
TZOFFSETFROM:-0400
TZOFFSETTO:-0500
TZNAME:EST
DTSTART:20251102T060000
END:STANDARD
BEGIN:DAYLIGHT
TZOFFSETFROM:-0500
TZOFFSETTO:-0400
TZNAME:EDT
DTSTART:20260308T070000
END:DAYLIGHT
BEGIN:STANDARD
TZOFFSETFROM:-0400
TZOFFSETTO:-0500
TZNAME:EST
DTSTART:20261101T060000
END:STANDARD
END:VTIMEZONE
BEGIN:VEVENT
DTSTART;TZID=America/Detroit:20251116T163000
DTEND;TZID=America/Detroit:20251116T180000
DTSTAMP:20260421T051523
CREATED:20251011T111613Z
LAST-MODIFIED:20251116T165007Z
UID:10006012-1763310600-1763316000@www.jewishannarbor.org
SUMMARY:Community Yonina Concert
DESCRIPTION:**Join us for a night with Yonina!**\n***Doors open at 4:15*** \nYoni and Nina Tokayer\, also known as Yonina\, are an Israeli musical duo\nacclaimed for their weekly home videos\, which have reached millions of viewers\nworldwide.\nThey have released two original albums and have been performing for the past\nnine years throughout Israel and abroad. \nYoni and Nina have been singing together since they met\, have been married for\nten years\, and have four sweet children who occasionally make guest\nappearances in their videos. Known for their uplifting music and soft\nharmonies\, Yonina blends Jewish\, Israeli\, and international music. \nSince October 7th\, Yoni has served over 300 days in the reserves as a\ncommander in a counterterror unit in the Shomron. During his months of\nservice\, Nina has been home with their children\, writing songs inspired by\nthese challenging times. Together\, their music has become a source of hope\,\nunity\, strength\, and connection. \nView event on Jlive: https://jlive.app/events/13224
URL:https://www.jewishannarbor.org/event/community-yonina-concert-2/
CATEGORIES:Adults,Arts & Culture,Children,College Students,Families,Grandparents,Israel,Music,Older Adults,Parents,Parking (free),Special Guest,Teens,Tweens,Wheelchair Accessible,Young Adults,Young Children
ATTACH;FMTTYPE=image/jpeg:https://www.jewishannarbor.org/wp-content/uploads/2025/10/Untitled_design_1-k3Fu38.jpg
ORGANIZER;CN="Jewish Federation of Greater Ann Arbor":MAILTO:info@jewishannarbor.org
END:VEVENT
BEGIN:VEVENT
DTSTART;TZID=America/Detroit:20251116T163000
DTEND;TZID=America/Detroit:20251116T190000
DTSTAMP:20260421T051523
CREATED:20251003T231614Z
LAST-MODIFIED:20251010T111612Z
UID:10006007-1763310600-1763319600@www.jewishannarbor.org
SUMMARY:Community Yonina Concert
DESCRIPTION:**Join us for a night with Yonina!**\n***Doors open at 4:15*** \nYoni and Nina Tokayer\, also known as Yonina\, are an Israeli musical duo\nacclaimed for their weekly home videos\, which have reached millions of viewers\nworldwide.\nThey have released two original albums and have been performing for the past\nnine years throughout Israel and abroad. \nYoni and Nina have been singing together since they met\, have been married for\nten years\, and have four sweet children who occasionally make guest\nappearances in their videos. Known for their uplifting music and soft\nharmonies\, Yonina blends Jewish\, Israeli\, and international music. \nSince October 7th\, Yoni has served over 300 days in the reserves as a\ncommander in a counterterror unit in the Shomron. During his months of\nservice\, Nina has been home with their children\, writing songs inspired by\nthese challenging times. Together\, their music has become a source of hope\,\nunity\, strength\, and connection. \nView event on Jlive: https://jlive.app/events/13224
URL:https://www.jewishannarbor.org/event/community-yonina-concert/
CATEGORIES:Adults,Arts & Culture,Children,College Students,Families,Grandparents,Israel,Music,Older Adults,Parents,Parking (free),Special Guest,Teens,Tweens,Wheelchair Accessible,Young Adults,Young Children
ATTACH;FMTTYPE=image/jpeg:https://www.jewishannarbor.org/wp-content/uploads/2025/10/Untitled_design_1-k3Fu38.jpg
ORGANIZER;CN="Jewish Federation of Greater Ann Arbor":MAILTO:info@jewishannarbor.org
END:VEVENT
END:VCALENDAR