BEGIN:VCALENDAR
VERSION:2.0
PRODID:-//Jewish Federation of Greater Ann Arbor - ECPv6.15.17.1//NONSGML v1.0//EN
CALSCALE:GREGORIAN
METHOD:PUBLISH
X-WR-CALNAME:Jewish Federation of Greater Ann Arbor
X-ORIGINAL-URL:https://www.jewishannarbor.org
X-WR-CALDESC:Events for Jewish Federation of Greater Ann Arbor
REFRESH-INTERVAL;VALUE=DURATION:PT1H
X-Robots-Tag:noindex
X-PUBLISHED-TTL:PT1H
BEGIN:VTIMEZONE
TZID:America/Detroit
BEGIN:DAYLIGHT
TZOFFSETFROM:-0500
TZOFFSETTO:-0400
TZNAME:EDT
DTSTART:20250309T070000
END:DAYLIGHT
BEGIN:STANDARD
TZOFFSETFROM:-0400
TZOFFSETTO:-0500
TZNAME:EST
DTSTART:20251102T060000
END:STANDARD
BEGIN:DAYLIGHT
TZOFFSETFROM:-0500
TZOFFSETTO:-0400
TZNAME:EDT
DTSTART:20260308T070000
END:DAYLIGHT
BEGIN:STANDARD
TZOFFSETFROM:-0400
TZOFFSETTO:-0500
TZNAME:EST
DTSTART:20261101T060000
END:STANDARD
BEGIN:DAYLIGHT
TZOFFSETFROM:-0500
TZOFFSETTO:-0400
TZNAME:EDT
DTSTART:20270314T070000
END:DAYLIGHT
BEGIN:STANDARD
TZOFFSETFROM:-0400
TZOFFSETTO:-0500
TZNAME:EST
DTSTART:20271107T060000
END:STANDARD
END:VTIMEZONE
BEGIN:VEVENT
DTSTART;TZID=America/Detroit:20260413T190000
DTEND;TZID=America/Detroit:20260413T210000
DTSTAMP:20260423T022048
CREATED:20260331T145228Z
LAST-MODIFIED:20260331T145228Z
UID:10006240-1776106800-1776114000@www.jewishannarbor.org
SUMMARY:EMU CJS:  An Evening of Comedy and Storytelling about Life\, Love\, and Disability with Pamela Rae Schuller
DESCRIPTION:An Evening of Comedy and Storytelling about Life\, Love\, and Disability with Pamela Rae Schuller\n\nPamela Rae Schuller will be performing in Ballroom B of the Student Center on April 13th at 7:00 pm.\n\nPamela is an internationally known stand up comedian as well as a disability and mental health advocate. She can be seen on Netflix\, Buzzfeed\, Doctor Mike Videos\, and NBC.\n\nFree and open to the public.
URL:https://www.jewishannarbor.org/event/emu-cjs-an-evening-of-comedy-and-storytelling-about-life-love-and-disability-with-pamela-rae-schuller/
LOCATION:Eastern Michigan University Student Center Ballroom\, 900 Oakwood\, Ypsilanti\, MI\, 48197\, United States
CATEGORIES:Adults,Arts & Culture,Center for Jewish Studies - EMU,College Students,Community,Disability & Inclusion,English Speaking,Health & Wellness
ORGANIZER;CN="Eastern Michigan University Center for Jewish Studies":MAILTO:jewish.studies@emich.edu
END:VEVENT
BEGIN:VEVENT
DTSTART;TZID=America/Detroit:20260422T170000
DTEND;TZID=America/Detroit:20260422T200000
DTSTAMP:20260423T022048
CREATED:20260204T165146Z
LAST-MODIFIED:20260326T155512Z
UID:10006125-1776877200-1776888000@www.jewishannarbor.org
SUMMARY:Yom HaAtzmaut Israeli Block Party
DESCRIPTION:Second annual Israeli Block Party! Come celebrate Israel’s Independence Day.\nThe most fun you will have in Israel… in Ann Arbor.\nLIVE MUSIC from Israel with HaShayara!\nFood and Drinks available for purchase!\nLawn Games!\nArt and Experiences Tour through Israel!\nChildren’s Activities! \nThis will be a large event with games\, food\, and fun inside of the JCC! \nOrganized by: Jewish Federation of Greater Ann Arbor\, \nView event on Jlive: https://jlive.app/events/14454
URL:https://www.jewishannarbor.org/event/yom-haatzmaut-israeli-block-party/
LOCATION:Jewish Community Center of Greater Ann Arbor 2935 Birch Hollow Dr\, Ann Arbor
CATEGORIES:Adults,Children,College Students,English Speaking,Families,Food Available ($),Games,Grandparents,Israel,Jewish Federation of Greater Ann Arbor,Jewish Federation of Greater Ann Arbor - General,Kids Area,Kosher,Non Alc. Drinks For Purchase,Older Adults,Parents,Parking (free),Teens,Tweens,Young Adults,Young Children
ATTACH;FMTTYPE=image/jpeg:https://www.jewishannarbor.org/wp-content/uploads/2026/03/Israeli_block_party_April_2026_JLive_960_x_600_px_2-FiYVi2.jpg
ORGANIZER;CN="Jewish Federation of Greater Ann Arbor":MAILTO:info@jewishannarbor.org
END:VEVENT
BEGIN:VEVENT
DTSTART;TZID=America/Detroit:20260428T183000
DTEND;TZID=America/Detroit:20260428T213000
DTSTAMP:20260423T022048
CREATED:20260224T005520Z
LAST-MODIFIED:20260326T181607Z
UID:10006176-1777401000-1777411800@www.jewishannarbor.org
SUMMARY:Borderland The Line Within Documentary
DESCRIPTION:An award-winning documentary that exposes the human cost of immigration as it\nweaves in the compelling stories of immigrants fighting to uphold their human\nrights. Q&A follows with the Director and Producer. All proceeds go to the\nInterfaith Fund for Immigrant Justice (MIRC/IFIJ) to support legal services\nprovided by the Michigan Immigrant Rights Center. Sponsored by Temple Beth\nEmeth. \nOrganized by: Temple Beth Emeth \nView event on Jlive: https://jlive.app/events/14862
URL:https://www.jewishannarbor.org/event/borderland-the-line-within-documentary/
LOCATION:Michigan Theater 603 E Liberty St\, Ann Arbor
CATEGORIES:Adults,College Students,Grandparents,Older Adults,Young Adults
ATTACH;FMTTYPE=image/jpeg:https://www.jewishannarbor.org/wp-content/uploads/2026/02/FINAL_BORDERLAND_FLYER.pdf-aY4CeG.jpg
ORGANIZER;CN="Temple Beth Emeth":MAILTO:tbe@templebethemeth.org
END:VEVENT
BEGIN:VEVENT
DTSTART;TZID=America/Detroit:20260619T000000
DTEND;TZID=America/Detroit:20260621T000000
DTSTAMP:20260423T022048
CREATED:20260327T151620Z
LAST-MODIFIED:20260327T151620Z
UID:10006223-1781827200-1782000000@www.jewishannarbor.org
SUMMARY:TBE Retreat
DESCRIPTION:Miracles surround us every day\, but we often don’t notice them. The theme of\nour weekend retreat is Nisim b’Chol Yom\, or “Everyday Miracles.” Through\nprayer\, text\, song\, and community\, surrounded by the beauty of Northern\nMichigan\, we will explore the daily miracles we encounter within and around\nus. \nOrganized by: Temple Beth Emeth \nView event on Jlive: https://jlive.app/events/15152
URL:https://www.jewishannarbor.org/event/tbe-retreat/
LOCATION:Ralph A. MacMullan Conference Center Conservation Dr\, Roscommon
CATEGORIES:Adults,College Students,Grandparents,Older Adults,Young Adults
ATTACH;FMTTYPE=image/jpeg:https://www.jewishannarbor.org/wp-content/uploads/2026/03/Retreat_Flyer_Click_FINAL-pzPzKA.jpg
ORGANIZER;CN="Temple Beth Emeth":MAILTO:tbe@templebethemeth.org
END:VEVENT
BEGIN:VEVENT
DTSTART;TZID=America/Detroit:20260929T163000
DTEND;TZID=America/Detroit:20260929T181500
DTSTAMP:20260423T022048
CREATED:20260327T175015Z
LAST-MODIFIED:20260327T175015Z
UID:10006239-1790699400-1790705700@www.jewishannarbor.org
SUMMARY:2026 Wallenberg Medal and Lecture
DESCRIPTION:Event details to be announced Spring 2026. \nFree and open to the public. Wheelchair and handicap accessible. ASL\ninterpreted. CART provided. \nCalendar listing available at https://events.umich.edu/event/145865. \nOrganized by: Wallenberg Medal and Lecture \nView event on Jlive: https://jlive.app/events/15070
URL:https://www.jewishannarbor.org/event/2026-wallenberg-medal-and-lecture-2/
CATEGORIES:Adults,College Students,History,Older Adults,Politics & Current Affairs,Teens,Young Adults
ATTACH;FMTTYPE=image/png:https://www.jewishannarbor.org/wp-content/uploads/2026/03/MailChimpLogo_1-CQQilw.png
ORGANIZER;CN="Wallenberg Medal and Lecture":MAILTO:wallenberglecture@umich.edu
END:VEVENT
END:VCALENDAR