BEGIN:VCALENDAR
VERSION:2.0
PRODID:-//Jewish Federation of Greater Ann Arbor - ECPv6.15.17.1//NONSGML v1.0//EN
CALSCALE:GREGORIAN
METHOD:PUBLISH
X-WR-CALNAME:Jewish Federation of Greater Ann Arbor
X-ORIGINAL-URL:https://www.jewishannarbor.org
X-WR-CALDESC:Events for Jewish Federation of Greater Ann Arbor
REFRESH-INTERVAL;VALUE=DURATION:PT1H
X-Robots-Tag:noindex
X-PUBLISHED-TTL:PT1H
BEGIN:VTIMEZONE
TZID:America/Detroit
BEGIN:DAYLIGHT
TZOFFSETFROM:-0500
TZOFFSETTO:-0400
TZNAME:EDT
DTSTART:20250309T070000
END:DAYLIGHT
BEGIN:STANDARD
TZOFFSETFROM:-0400
TZOFFSETTO:-0500
TZNAME:EST
DTSTART:20251102T060000
END:STANDARD
BEGIN:DAYLIGHT
TZOFFSETFROM:-0500
TZOFFSETTO:-0400
TZNAME:EDT
DTSTART:20260308T070000
END:DAYLIGHT
BEGIN:STANDARD
TZOFFSETFROM:-0400
TZOFFSETTO:-0500
TZNAME:EST
DTSTART:20261101T060000
END:STANDARD
BEGIN:DAYLIGHT
TZOFFSETFROM:-0500
TZOFFSETTO:-0400
TZNAME:EDT
DTSTART:20270314T070000
END:DAYLIGHT
BEGIN:STANDARD
TZOFFSETFROM:-0400
TZOFFSETTO:-0500
TZNAME:EST
DTSTART:20271107T060000
END:STANDARD
END:VTIMEZONE
BEGIN:VEVENT
DTSTART;TZID=America/Detroit:20260425T110000
DTEND;TZID=America/Detroit:20260425T120000
DTSTAMP:20260419T220123
CREATED:20260326T175018Z
LAST-MODIFIED:20260326T175018Z
UID:10006211-1777114800-1777118400@www.jewishannarbor.org
SUMMARY:Tot Shabbat
DESCRIPTION:Join us for a playful morning of Jewish songs and stories. Challah and grape\njuice kiddush included. For kids age 1 through 1st grade and parents\, but all\nare welcome to join. Please note that in order to participate in Tot Shabbat\,\nall tots must be accompanied by an adult. Thanks for helping to make this fun\nand safe for everyone \nOrganized by: Beth Israel Congregation \nView event on Jlive: https://jlive.app/events/15259
URL:https://www.jewishannarbor.org/event/tot-shabbat-7/
LOCATION:Beth Israel Congregation 2000 Washtenaw Ave\, Ann Arbor
CATEGORIES:Children,Families,Grandparents,Jewish Holiday,Jewish Learning,Music,Parents,Parking (free),Young Children
ATTACH;FMTTYPE=image/png:https://www.jewishannarbor.org/wp-content/uploads/2026/03/JL-April_Tot_Shabbat_2-Aas4Y1.png
ORGANIZER;CN="Beth Israel Congregation":MAILTO:office@bethisrael-aa.org
END:VEVENT
BEGIN:VEVENT
DTSTART;TZID=America/Detroit:20260427T161500
DTEND;TZID=America/Detroit:20260427T174500
DTSTAMP:20260419T220123
CREATED:20260204T170714Z
LAST-MODIFIED:20260204T170714Z
UID:10006151-1777306500-1777311900@www.jewishannarbor.org
SUMMARY:Girls on the Run
DESCRIPTION:Meeting **twice weekly for 90 minutes over 8 weeks** \, our trained and caring\ncoaches\nlead **3rd – 6th graders** through our BRAND-NEW _Hello\, Bold Heart_\ncurriculum that\nexpands our evidence-based lessons and activities to equip girls to build\ntheir _Heart_\n _Power_ —the confidence to boldly share their thoughts\, ideas\, and feelings.\nThis\nseason\, they’ll **learn to use their voices** (even when they are nervous)\,\nand develop\n**life skills** like **resolving conflicts** with others\,**building healthy\nhabits** \, and **deepening**\n**their confidence**. The season ends with a community wide\, non-competitive\n**Girls on**\n**the Run 5K event** where our participants are guaranteed to shine! \n**_Learn more & register at\n_**(https://www.girlsontherunsemi.org) \nOrganized by: JCC of Greater Ann Arbor \nView event on Jlive: https://jlive.app/events/13856
URL:https://www.jewishannarbor.org/event/girls-on-the-run-10/
LOCATION:Jewish Community Center of Greater Ann Arbor 2935 Birch Hollow Dr\, Ann Arbor
CATEGORIES:Arrival / Check In,Children,Health & Wellness,Kids Area,Mental Health,Outdoors,Parking (free),Sports & Fitness,Tweens
ATTACH;FMTTYPE=image/png:https://www.jewishannarbor.org/wp-content/uploads/2026/02/GOTR_JLive_Banner-KhCNqc.png
ORGANIZER;CN="JCC of Greater Ann Arbor":MAILTO:jcc@jccannarbor.org
END:VEVENT
BEGIN:VEVENT
DTSTART;TZID=America/Detroit:20260429T161500
DTEND;TZID=America/Detroit:20260429T174500
DTSTAMP:20260419T220123
CREATED:20260204T170714Z
LAST-MODIFIED:20260204T170714Z
UID:10006152-1777479300-1777484700@www.jewishannarbor.org
SUMMARY:Girls on the Run
DESCRIPTION:Meeting **twice weekly for 90 minutes over 8 weeks** \, our trained and caring\ncoaches\nlead **3rd – 6th graders** through our BRAND-NEW _Hello\, Bold Heart_\ncurriculum that\nexpands our evidence-based lessons and activities to equip girls to build\ntheir _Heart_\n _Power_ —the confidence to boldly share their thoughts\, ideas\, and feelings.\nThis\nseason\, they’ll **learn to use their voices** (even when they are nervous)\,\nand develop\n**life skills** like **resolving conflicts** with others\,**building healthy\nhabits** \, and **deepening**\n**their confidence**. The season ends with a community wide\, non-competitive\n**Girls on**\n**the Run 5K event** where our participants are guaranteed to shine! \n**_Learn more & register at\n_**(https://www.girlsontherunsemi.org) \nOrganized by: JCC of Greater Ann Arbor \nView event on Jlive: https://jlive.app/events/13856
URL:https://www.jewishannarbor.org/event/girls-on-the-run-11/
LOCATION:Jewish Community Center of Greater Ann Arbor 2935 Birch Hollow Dr\, Ann Arbor
CATEGORIES:Arrival / Check In,Children,Health & Wellness,Kids Area,Mental Health,Outdoors,Parking (free),Sports & Fitness,Tweens
ATTACH;FMTTYPE=image/png:https://www.jewishannarbor.org/wp-content/uploads/2026/02/GOTR_JLive_Banner-KhCNqc.png
ORGANIZER;CN="JCC of Greater Ann Arbor":MAILTO:jcc@jccannarbor.org
END:VEVENT
BEGIN:VEVENT
DTSTART;TZID=America/Detroit:20260504T161500
DTEND;TZID=America/Detroit:20260504T174500
DTSTAMP:20260419T220123
CREATED:20260204T170714Z
LAST-MODIFIED:20260204T170714Z
UID:10006153-1777911300-1777916700@www.jewishannarbor.org
SUMMARY:Girls on the Run
DESCRIPTION:Meeting **twice weekly for 90 minutes over 8 weeks** \, our trained and caring\ncoaches\nlead **3rd – 6th graders** through our BRAND-NEW _Hello\, Bold Heart_\ncurriculum that\nexpands our evidence-based lessons and activities to equip girls to build\ntheir _Heart_\n _Power_ —the confidence to boldly share their thoughts\, ideas\, and feelings.\nThis\nseason\, they’ll **learn to use their voices** (even when they are nervous)\,\nand develop\n**life skills** like **resolving conflicts** with others\,**building healthy\nhabits** \, and **deepening**\n**their confidence**. The season ends with a community wide\, non-competitive\n**Girls on**\n**the Run 5K event** where our participants are guaranteed to shine! \n**_Learn more & register at\n_**(https://www.girlsontherunsemi.org) \nOrganized by: JCC of Greater Ann Arbor \nView event on Jlive: https://jlive.app/events/13856
URL:https://www.jewishannarbor.org/event/girls-on-the-run-12/
LOCATION:Jewish Community Center of Greater Ann Arbor 2935 Birch Hollow Dr\, Ann Arbor
CATEGORIES:Arrival / Check In,Children,Health & Wellness,Kids Area,Mental Health,Outdoors,Parking (free),Sports & Fitness,Tweens
ATTACH;FMTTYPE=image/png:https://www.jewishannarbor.org/wp-content/uploads/2026/02/GOTR_JLive_Banner-KhCNqc.png
ORGANIZER;CN="JCC of Greater Ann Arbor":MAILTO:jcc@jccannarbor.org
END:VEVENT
BEGIN:VEVENT
DTSTART;TZID=America/Detroit:20260506T161500
DTEND;TZID=America/Detroit:20260506T174500
DTSTAMP:20260419T220123
CREATED:20260204T170715Z
LAST-MODIFIED:20260204T170715Z
UID:10006154-1778084100-1778089500@www.jewishannarbor.org
SUMMARY:Girls on the Run
DESCRIPTION:Meeting **twice weekly for 90 minutes over 8 weeks** \, our trained and caring\ncoaches\nlead **3rd – 6th graders** through our BRAND-NEW _Hello\, Bold Heart_\ncurriculum that\nexpands our evidence-based lessons and activities to equip girls to build\ntheir _Heart_\n _Power_ —the confidence to boldly share their thoughts\, ideas\, and feelings.\nThis\nseason\, they’ll **learn to use their voices** (even when they are nervous)\,\nand develop\n**life skills** like **resolving conflicts** with others\,**building healthy\nhabits** \, and **deepening**\n**their confidence**. The season ends with a community wide\, non-competitive\n**Girls on**\n**the Run 5K event** where our participants are guaranteed to shine! \n**_Learn more & register at\n_**(https://www.girlsontherunsemi.org) \nOrganized by: JCC of Greater Ann Arbor \nView event on Jlive: https://jlive.app/events/13856
URL:https://www.jewishannarbor.org/event/girls-on-the-run-13/
LOCATION:Jewish Community Center of Greater Ann Arbor 2935 Birch Hollow Dr\, Ann Arbor
CATEGORIES:Arrival / Check In,Children,Health & Wellness,Kids Area,Mental Health,Outdoors,Parking (free),Sports & Fitness,Tweens
ATTACH;FMTTYPE=image/png:https://www.jewishannarbor.org/wp-content/uploads/2026/02/GOTR_JLive_Banner-KhCNqc.png
ORGANIZER;CN="JCC of Greater Ann Arbor":MAILTO:jcc@jccannarbor.org
END:VEVENT
BEGIN:VEVENT
DTSTART;TZID=America/Detroit:20260511T161500
DTEND;TZID=America/Detroit:20260511T174500
DTSTAMP:20260419T220123
CREATED:20260204T170715Z
LAST-MODIFIED:20260204T170715Z
UID:10006155-1778516100-1778521500@www.jewishannarbor.org
SUMMARY:Girls on the Run
DESCRIPTION:Meeting **twice weekly for 90 minutes over 8 weeks** \, our trained and caring\ncoaches\nlead **3rd – 6th graders** through our BRAND-NEW _Hello\, Bold Heart_\ncurriculum that\nexpands our evidence-based lessons and activities to equip girls to build\ntheir _Heart_\n _Power_ —the confidence to boldly share their thoughts\, ideas\, and feelings.\nThis\nseason\, they’ll **learn to use their voices** (even when they are nervous)\,\nand develop\n**life skills** like **resolving conflicts** with others\,**building healthy\nhabits** \, and **deepening**\n**their confidence**. The season ends with a community wide\, non-competitive\n**Girls on**\n**the Run 5K event** where our participants are guaranteed to shine! \n**_Learn more & register at\n_**(https://www.girlsontherunsemi.org) \nOrganized by: JCC of Greater Ann Arbor \nView event on Jlive: https://jlive.app/events/13856
URL:https://www.jewishannarbor.org/event/girls-on-the-run-14/
LOCATION:Jewish Community Center of Greater Ann Arbor 2935 Birch Hollow Dr\, Ann Arbor
CATEGORIES:Arrival / Check In,Children,Health & Wellness,Kids Area,Mental Health,Outdoors,Parking (free),Sports & Fitness,Tweens
ATTACH;FMTTYPE=image/png:https://www.jewishannarbor.org/wp-content/uploads/2026/02/GOTR_JLive_Banner-KhCNqc.png
ORGANIZER;CN="JCC of Greater Ann Arbor":MAILTO:jcc@jccannarbor.org
END:VEVENT
BEGIN:VEVENT
DTSTART;TZID=America/Detroit:20260513T161500
DTEND;TZID=America/Detroit:20260513T174500
DTSTAMP:20260419T220123
CREATED:20260204T170727Z
LAST-MODIFIED:20260204T170727Z
UID:10006156-1778688900-1778694300@www.jewishannarbor.org
SUMMARY:Girls on the Run
DESCRIPTION:Meeting **twice weekly for 90 minutes over 8 weeks** \, our trained and caring\ncoaches\nlead **3rd – 6th graders** through our BRAND-NEW _Hello\, Bold Heart_\ncurriculum that\nexpands our evidence-based lessons and activities to equip girls to build\ntheir _Heart_\n _Power_ —the confidence to boldly share their thoughts\, ideas\, and feelings.\nThis\nseason\, they’ll **learn to use their voices** (even when they are nervous)\,\nand develop\n**life skills** like **resolving conflicts** with others\,**building healthy\nhabits** \, and **deepening**\n**their confidence**. The season ends with a community wide\, non-competitive\n**Girls on**\n**the Run 5K event** where our participants are guaranteed to shine! \n**_Learn more & register at\n_**(https://www.girlsontherunsemi.org) \nOrganized by: JCC of Greater Ann Arbor \nView event on Jlive: https://jlive.app/events/13856
URL:https://www.jewishannarbor.org/event/girls-on-the-run-15/
LOCATION:Jewish Community Center of Greater Ann Arbor 2935 Birch Hollow Dr\, Ann Arbor
CATEGORIES:Arrival / Check In,Children,Health & Wellness,Kids Area,Mental Health,Outdoors,Parking (free),Sports & Fitness,Tweens
ATTACH;FMTTYPE=image/png:https://www.jewishannarbor.org/wp-content/uploads/2026/02/GOTR_JLive_Banner-KhCNqc.png
ORGANIZER;CN="JCC of Greater Ann Arbor":MAILTO:jcc@jccannarbor.org
END:VEVENT
END:VCALENDAR