BEGIN:VCALENDAR
VERSION:2.0
PRODID:-//Jewish Federation of Greater Ann Arbor - ECPv6.15.17.1//NONSGML v1.0//EN
CALSCALE:GREGORIAN
METHOD:PUBLISH
X-WR-CALNAME:Jewish Federation of Greater Ann Arbor
X-ORIGINAL-URL:https://www.jewishannarbor.org
X-WR-CALDESC:Events for Jewish Federation of Greater Ann Arbor
REFRESH-INTERVAL;VALUE=DURATION:PT1H
X-Robots-Tag:noindex
X-PUBLISHED-TTL:PT1H
BEGIN:VTIMEZONE
TZID:America/Detroit
BEGIN:DAYLIGHT
TZOFFSETFROM:-0500
TZOFFSETTO:-0400
TZNAME:EDT
DTSTART:20210314T070000
END:DAYLIGHT
BEGIN:STANDARD
TZOFFSETFROM:-0400
TZOFFSETTO:-0500
TZNAME:EST
DTSTART:20211107T060000
END:STANDARD
BEGIN:DAYLIGHT
TZOFFSETFROM:-0500
TZOFFSETTO:-0400
TZNAME:EDT
DTSTART:20220313T070000
END:DAYLIGHT
BEGIN:STANDARD
TZOFFSETFROM:-0400
TZOFFSETTO:-0500
TZNAME:EST
DTSTART:20221106T060000
END:STANDARD
BEGIN:DAYLIGHT
TZOFFSETFROM:-0500
TZOFFSETTO:-0400
TZNAME:EDT
DTSTART:20230312T070000
END:DAYLIGHT
BEGIN:STANDARD
TZOFFSETFROM:-0400
TZOFFSETTO:-0500
TZNAME:EST
DTSTART:20231105T060000
END:STANDARD
BEGIN:DAYLIGHT
TZOFFSETFROM:-0500
TZOFFSETTO:-0400
TZNAME:EDT
DTSTART:20240310T070000
END:DAYLIGHT
BEGIN:STANDARD
TZOFFSETFROM:-0400
TZOFFSETTO:-0500
TZNAME:EST
DTSTART:20241103T060000
END:STANDARD
BEGIN:DAYLIGHT
TZOFFSETFROM:-0500
TZOFFSETTO:-0400
TZNAME:EDT
DTSTART:20250309T070000
END:DAYLIGHT
BEGIN:STANDARD
TZOFFSETFROM:-0400
TZOFFSETTO:-0500
TZNAME:EST
DTSTART:20251102T060000
END:STANDARD
BEGIN:DAYLIGHT
TZOFFSETFROM:-0500
TZOFFSETTO:-0400
TZNAME:EDT
DTSTART:20260308T070000
END:DAYLIGHT
BEGIN:STANDARD
TZOFFSETFROM:-0400
TZOFFSETTO:-0500
TZNAME:EST
DTSTART:20261101T060000
END:STANDARD
END:VTIMEZONE
BEGIN:VEVENT
DTSTART;TZID=America/Detroit:20250518T180000
DTEND;TZID=America/Detroit:20250518T203000
DTSTAMP:20260421T151517
CREATED:20250402T183134Z
LAST-MODIFIED:20250508T203620Z
UID:10005729-1747591200-1747600200@www.jewishannarbor.org
SUMMARY:Community Lag B'Omer Celebration: Sparks of Community
DESCRIPTION:Join Federation\, JCC and the Early Childhood Center\, Temple Beth Emeth\, Beth Israel Congregation\, Chabad of Ann Arbor\, Ann Arbor Orthodox Minyan\, and Hebrew Day School for a true Israeli Lag B’Omer celebration! There will be bonfires\, nature walks\, and so much more. \nOrganized by our Ann Arbor area ShinShinim Danielle and Lahav. Read about other activities Danielle and Lahav have put on for our community here. \nLocation: Dori’s Farm 6363 W. Waters Rd \nWant to make this event happen? Become a sponsor here or sign up to volunteer here.\nRegister Here by May 11! \nIMPORTANT DETAILS TO NOTE:\n–Dress code\nOutdoorsy (Long pants and Closed shoes) \n–What to bring?\nFloor level seating will be provided\, you can bring foldable chairs or outdoor matts (the site is on grass) – just remember\, you will be walking around\n\n–Parking\nParking is provided on site on a grass lot\, as parking is limited\, please make an effort to arrive in one car per family\, no earlier than 5:30PM (Event starts at 6:00PM). \n 
URL:https://www.jewishannarbor.org/event/community-lag-bomer-celebration/
CATEGORIES:Ann Arbor Orthodox Minyan,Beth Israel Congregation,Chabad House,Hebrew Day School,Israel Programming,Jewish Community Center of Greater Ann Arbor,Jewish Federation of Greater Ann Arbor,Jewish Federation of Greater Ann Arbor - General,Jewish Holidays,Temple Beth Emeth
ATTACH;FMTTYPE=image/jpeg:https://www.jewishannarbor.org/wp-content/uploads/2025/05/Final-Flyer-Sparks-of-Community-13.jpg
ORGANIZER;CN="Beth Israel Congregation":MAILTO:office@bethisrael-aa.org
END:VEVENT
BEGIN:VEVENT
DTSTART;TZID=America/Detroit:20250429T183000
DTEND;TZID=America/Detroit:20250429T200000
DTSTAMP:20260421T151517
CREATED:20241213T182902Z
LAST-MODIFIED:20250404T161817Z
UID:10005576-1745951400-1745956800@www.jewishannarbor.org
SUMMARY:Community Yom HaZikaron Ceremony
DESCRIPTION:Join the Ann Arbor area Jewish community for a ceremony to commemorate Israel’s fallen soldiers and victims of terrorism on Israel’s Memorial Day\, Yom HaZikaron. \nTuesday\, April 29 at 6:30pm \nLocation: Beth Israel Congregation \nRegister to attend \nWe invite you to help make this commemoration meaningful by sharing memories of your loved ones who have fallen in service to Israel or in terror attacks. If you have a family member or friend who fell in military service or was a victim of terrorism that you would like to honor during the ceremony\, please complete the brief survey linked below. \nYour contributions will help us create a personal and respectful memorial that truly honors those we’ve lost. Photos\, stories\, and artistic works are welcome. \nSubmission deadline: Tuesday\, April 22 \nFor questions\, please contact Amichay Findling (Federation’s Israel & Overseas Program Manager) at amichay@jewishannarbor.org. \nThank you for helping us preserve the memory of our fallen. \nSubmit information about a loved one (Google account users)\nIf you don’t have a google account\, please send information about your lost loved one (including a photo if you want) to amichay@jewishannarbor.org.
URL:https://www.jewishannarbor.org/event/yom-hazikaron-ceremony/
CATEGORIES:Ann Arbor Orthodox Minyan,Ann Arbor Reconstructionist Congregation,Beth Israel Congregation,Chabad House,Hebrew Day School,Israel Programming,Jewish Community Center of Greater Ann Arbor,Jewish Cultural Society,Jewish Federation of Greater Ann Arbor,Jewish Federation of Greater Ann Arbor - General,Pardes Hannah,Temple Beth Emeth
ATTACH;FMTTYPE=image/jpeg:https://www.jewishannarbor.org/wp-content/uploads/2024/12/יום-הזיכרון-Israel-memorial-day.jpg
END:VEVENT
BEGIN:VEVENT
DTSTART;TZID=America/Detroit:20250314T160000
DTEND;TZID=America/Detroit:20250314T190000
DTSTAMP:20260421T151517
CREATED:20250304T192328Z
LAST-MODIFIED:20250307T171426Z
UID:10005706-1741968000-1741978800@www.jewishannarbor.org
SUMMARY:Chabad Ypsilanti Purim Party
DESCRIPTION:Chabad is bringing the party to Ypsilanti! This is the first public Purim Party in our town. Bring your costumes and joy\, let’s celebrate together. See you there! \nBYOB – feel free to bring a bottle of kosher wine to share \n$18/family suggested donation – more if you can\, less if you can’t \nRSVP in advance to director@mycampganisrael.com
URL:https://www.jewishannarbor.org/event/chabad-ypsilanti-purim-party/
LOCATION:Ypsilanti Senior Center\, 1015 Congress St\, Ypsilanti\, MI\, 48197
CATEGORIES:Chabad House
ATTACH;FMTTYPE=image/jpeg:https://www.jewishannarbor.org/wp-content/uploads/2025/03/ypsi-purim.jpg
END:VEVENT
BEGIN:VEVENT
DTSTART;TZID=America/Detroit:20231207T180000
DTEND;TZID=America/Detroit:20231207T200000
DTSTAMP:20260421T151517
CREATED:20231128T154011Z
LAST-MODIFIED:20231128T160157Z
UID:10005154-1701972000-1701979200@www.jewishannarbor.org
SUMMARY:CBD: "Unite to Light" Chanukah Celebration: Let's Stand United!
DESCRIPTION:🌟✨ Join us for Unite to Light at Liberty Plaza! 🌟\nThursday\, December 7 at 6:00pm \nGet ready for an incredible evening of joy and togetherness as we light up the night at our annual event! This year\, let’s unite as Am Yisrael to bring light to the darkness. \n🕯️ Lighting the 8ft tall menorah 🎶 Sing-alongs & tasty treats 🕺 Chanukah Silent Disco Adventure 🤹 LED jugglers & gelt hunt \nBring your friends\, and let’s illuminate Ann Arbor with our collective spirit! Save the date for a celebration that’s fun for all ages. See you there!
URL:https://www.jewishannarbor.org/event/unite-to-light-chanukah-celebration-lets-stand-united/
LOCATION:Liberty Plaza\, 310 S Division Street\, Ann Arbor\, 48104\, United States
CATEGORIES:Chabad House,Community,Jewish Holidays,National Holidays,Religious
ATTACH;FMTTYPE=image/jpeg:https://www.jewishannarbor.org/wp-content/uploads/2023/11/Unite-to-Light.jpeg
END:VEVENT
BEGIN:VEVENT
DTSTART;TZID=America/Detroit:20231115T183000
DTEND;TZID=America/Detroit:20231115T210000
DTSTAMP:20260421T151517
CREATED:20230629T200818Z
LAST-MODIFIED:20230808T195847Z
UID:10004951-1700073000-1700082000@www.jewishannarbor.org
SUMMARY:Chabad House: Mega Challah 3
DESCRIPTION:3rd Mega Challah BakeRSVP Here! \nDate:Wednesday\, Nov. 15th\, 2023 \nLocation:Palmer Commons100 Washtenaw Road\, Ann Arbor\, MI 48109
URL:https://www.jewishannarbor.org/event/chabad-house-mega-challah-3/
LOCATION:Palmer Commons – Forum Hall\, 100 Washtenaw Ave\, Ann Arbor\, MI\, 48109\, United States
CATEGORIES:Chabad House,Community
ATTACH;FMTTYPE=image/jpeg:https://www.jewishannarbor.org/wp-content/uploads/2023/06/3rd-Mega-Challah-Bake-8.5-×-11-in-2.jpg
END:VEVENT
BEGIN:VEVENT
DTSTART;TZID=America/Detroit:20230226T193000
DTEND;TZID=America/Detroit:20230226T210000
DTSTAMP:20260421T151517
CREATED:20230216T150016Z
LAST-MODIFIED:20230216T150016Z
UID:10004820-1677439800-1677445200@www.jewishannarbor.org
SUMMARY:JWC Hamantaschen Bake-off!
DESCRIPTION:JWC Hamantaschen Bake-off! \nSunday\, February 26th\, 2023\nStarting at 7:30pm at Chabad House – 715 Hill Street (enter on Hill Street) \nCreate gourmet hand dipped Hamantaschen and explore the woman’s special role in the story of Purim! \nRSVP: esther@jewmich.com \nVenmo: @umchabad
URL:https://www.jewishannarbor.org/event/jwc-hamantaschen-bake-off/
LOCATION:Chabad House\, 715 Hill Street\, Ann Arbor\, MI\, 48104\, United States
CATEGORIES:Chabad House,Jewish Holidays,Religious
ATTACH;FMTTYPE=image/jpeg:https://www.jewishannarbor.org/wp-content/uploads/2023/02/imagejpeg_0.jpg
ORGANIZER;CN="Jewish Women's Circle":MAILTO:esther@jewmich.com
END:VEVENT
BEGIN:VEVENT
DTSTART;TZID=America/Detroit:20221226T123000
DTEND;TZID=America/Detroit:20221226T143000
DTSTAMP:20260421T151517
CREATED:20221208T172516Z
LAST-MODIFIED:20221208T172516Z
UID:10004747-1672057800-1672065000@www.jewishannarbor.org
SUMMARY:Chabad Chanukah On Ice
DESCRIPTION:After a week of fun and festivities\, we’ll be ending Chanukah off with a bang! On Monday\, Dec 26 at 12:30\, Chanukah On Ice at the Ann Arbor Ice Cube  will be back by popular demand! Enjoy a delicious pizza lunch with salads\, latkes\, and donuts. Take part in the fun-filled Dreidel Competition\, Chanukah Crafts\, and win some amazing prizes. Join us on the ice\, skating to Chanukah music and enjoying the last day of Chanukah together! This event is perfect for children\, teens and adults of all ages\, and we look forward to seeing you all! \nRegister for Chanukah On Ice
URL:https://www.jewishannarbor.org/event/chabad-chanukah-on-ice/
LOCATION:Ann Arbor Ice Cube\, 2121 Oak Valley Drive\, Ann Arbor\, 48103\, United States
CATEGORIES:Chabad House,Community
ATTACH;FMTTYPE=image/jpeg:https://www.jewishannarbor.org/wp-content/uploads/2022/12/Chanukah-on-Ice.jpeg
END:VEVENT
BEGIN:VEVENT
DTSTART;TZID=America/Detroit:20221219T180000
DTEND;TZID=America/Detroit:20221219T200000
DTSTAMP:20260421T151517
CREATED:20221208T163841Z
LAST-MODIFIED:20221208T172002Z
UID:10004746-1671472800-1671480000@www.jewishannarbor.org
SUMMARY:Light Up The Night
DESCRIPTION:On Monday\, Dec 19 at 6 PM\, we’ll be Lighting Up the Night at a grand celebration for the entire community at Liberty Plaza. The Giant Graffiti Menorah will stand tall as a symbol of our Jewish pride and unity\, and the exciting Chanukah activities will be fun for the whole family! Enjoy latkes\, donuts\, hot drinks\, and live music while dancing with the Dreidel Mascot. Get ready to experience the spectacular Chanukah Gelt Drop\, with chocolate coins and other treats raining down from our city’s finest fire truck ladder. Airbrush your very own Chanukah beanie and feel the joy of Chanukah and community spirit! \n 
URL:https://www.jewishannarbor.org/event/light-up-the-night/
LOCATION:Liberty Plaza\, 310 S Division Street\, Ann Arbor\, 48104\, United States
CATEGORIES:Chabad House,Community
ATTACH;FMTTYPE=image/jpeg:https://www.jewishannarbor.org/wp-content/uploads/2022/12/Light-up-the-night-1.jpg
END:VEVENT
END:VCALENDAR