BEGIN:VCALENDAR
VERSION:2.0
PRODID:-//Jewish Federation of Greater Ann Arbor - ECPv6.15.17.1//NONSGML v1.0//EN
CALSCALE:GREGORIAN
METHOD:PUBLISH
X-ORIGINAL-URL:https://www.jewishannarbor.org
X-WR-CALDESC:Events for Jewish Federation of Greater Ann Arbor
REFRESH-INTERVAL;VALUE=DURATION:PT1H
X-Robots-Tag:noindex
X-PUBLISHED-TTL:PT1H
BEGIN:VTIMEZONE
TZID:America/Detroit
BEGIN:DAYLIGHT
TZOFFSETFROM:-0500
TZOFFSETTO:-0400
TZNAME:EDT
DTSTART:20240310T070000
END:DAYLIGHT
BEGIN:STANDARD
TZOFFSETFROM:-0400
TZOFFSETTO:-0500
TZNAME:EST
DTSTART:20241103T060000
END:STANDARD
BEGIN:DAYLIGHT
TZOFFSETFROM:-0500
TZOFFSETTO:-0400
TZNAME:EDT
DTSTART:20250309T070000
END:DAYLIGHT
BEGIN:STANDARD
TZOFFSETFROM:-0400
TZOFFSETTO:-0500
TZNAME:EST
DTSTART:20251102T060000
END:STANDARD
BEGIN:DAYLIGHT
TZOFFSETFROM:-0500
TZOFFSETTO:-0400
TZNAME:EDT
DTSTART:20260308T070000
END:DAYLIGHT
BEGIN:STANDARD
TZOFFSETFROM:-0400
TZOFFSETTO:-0500
TZNAME:EST
DTSTART:20261101T060000
END:STANDARD
END:VTIMEZONE
BEGIN:VEVENT
DTSTART;TZID=America/Detroit:20251202T190000
DTEND;TZID=America/Detroit:20251202T210000
DTSTAMP:20260424T044135
CREATED:20250909T135702Z
LAST-MODIFIED:20250923T142157Z
UID:10005950-1764702000-1764709200@www.jewishannarbor.org
SUMMARY:EMU CJS: Dan Fellner “From Curry to Kreplach”
DESCRIPTION:Take a journey through the lens of a leading travel journalist to learn about some of the most interesting and off-the-beaten path Jewish communities around the world.  We’ll learn about Jewish life on five different continents in such fascinating places as Curacao\, South Africa\, Norway\,  Vietnam\, Barbados and three of the most historic synagogues in the United States.   This highly visual presentation will explore the survival and resilience of Jewish life in places you might least expect to find it. \nDan Fellner\, the presenter\, is an eight-time Fulbright Fellow who has taught journalism and communications at universities in Eastern Europe and Southeast Asia.  He has published more than 150 travel articles in such publications as the Jerusalem Post\, The Forward\, USA Today\, Hadassah Magazine and the Arizona Republic.  All of his published work can viewed at DanFellner.com.
URL:https://www.jewishannarbor.org/event/emu-cjs-dan-fellner-from-curry-to-kreplach/
LOCATION:Eastern Michigan University Student Center 300\, 900 Oakwood St\, Ypsilanti\, MI\, 48197\, United States
CATEGORIES:Center for Jewish Studies - EMU
ORGANIZER;CN="Eastern Michigan University Center for Jewish Studies":MAILTO:jewish.studies@emich.edu
END:VEVENT
END:VCALENDAR