BEGIN:VCALENDAR
VERSION:2.0
PRODID:-//Jewish Federation of Greater Ann Arbor - ECPv6.15.17.1//NONSGML v1.0//EN
CALSCALE:GREGORIAN
METHOD:PUBLISH
X-ORIGINAL-URL:https://www.jewishannarbor.org
X-WR-CALDESC:Events for Jewish Federation of Greater Ann Arbor
REFRESH-INTERVAL;VALUE=DURATION:PT1H
X-Robots-Tag:noindex
X-PUBLISHED-TTL:PT1H
BEGIN:VTIMEZONE
TZID:America/Detroit
BEGIN:DAYLIGHT
TZOFFSETFROM:-0500
TZOFFSETTO:-0400
TZNAME:EDT
DTSTART:20250309T070000
END:DAYLIGHT
BEGIN:STANDARD
TZOFFSETFROM:-0400
TZOFFSETTO:-0500
TZNAME:EST
DTSTART:20251102T060000
END:STANDARD
BEGIN:DAYLIGHT
TZOFFSETFROM:-0500
TZOFFSETTO:-0400
TZNAME:EDT
DTSTART:20260308T070000
END:DAYLIGHT
BEGIN:STANDARD
TZOFFSETFROM:-0400
TZOFFSETTO:-0500
TZNAME:EST
DTSTART:20261101T060000
END:STANDARD
BEGIN:DAYLIGHT
TZOFFSETFROM:-0500
TZOFFSETTO:-0400
TZNAME:EDT
DTSTART:20270314T070000
END:DAYLIGHT
BEGIN:STANDARD
TZOFFSETFROM:-0400
TZOFFSETTO:-0500
TZNAME:EST
DTSTART:20271107T060000
END:STANDARD
END:VTIMEZONE
BEGIN:VEVENT
DTSTART;TZID=America/Detroit:20260212T180000
DTEND;TZID=America/Detroit:20260212T200000
DTSTAMP:20260425T204230
CREATED:20251205T191608Z
LAST-MODIFIED:20260204T172715Z
UID:10006044-1770919200-1770926400@www.jewishannarbor.org
SUMMARY:Chocolates & Community: A Galentine's Day Event
DESCRIPTION:Looking for a fun night with your girlfriends?\nWant a great mother/daughter activity to engage in?\nHoping to spend some time meeting new people? \nJoin Women’s Philanthropy for a Galentine’s Day event full of friendship\,\nfemale empowerment\, and sisterhood! Learn how to make your own chocolates and\ncreate your own variety box to take home\, and enjoy spending an evening of\nfun\, door prizes\, food\, and mocktails with all the people in our amazing\ncommunity! \nAges 13+ Welcome \nOrganized by: Jewish Federation of Greater Ann Arbor \nView event on Jlive: https://jlive.app/events/13748
URL:https://www.jewishannarbor.org/event/chocolates-community-a-galentines-day-event/
LOCATION:Ann Arbor City Club 1830 Washtenaw Ave\, Ann Arbor
CATEGORIES:Adults,Beverages (non alcoholic),College Students,Desserts provided,Finger Food,Food,General,Kosher Food,Parking (free),Vegetarian Friendly,Wheelchair Accessible,Women,Young Adults
ATTACH;FMTTYPE=image/jpeg:https://www.jewishannarbor.org/wp-content/uploads/2025/12/1.19-Blog-Galentines-1-Header-OMU3Fq.jpg
ORGANIZER;CN="Jewish Federation of Greater Ann Arbor":MAILTO:info@jewishannarbor.org
END:VEVENT
BEGIN:VEVENT
DTSTART;TZID=America/Detroit:20260214T103000
DTEND;TZID=America/Detroit:20260214T130000
DTSTAMP:20260425T204230
CREATED:20260204T163707Z
LAST-MODIFIED:20260204T172716Z
UID:10006086-1771065000-1771074000@www.jewishannarbor.org
SUMMARY:Climate Action Shabbat + Potluck
DESCRIPTION:The A2J Climate Circle has partnered with Ann Arbor Reconstructionist\nCongregation to host a Climate Action Shabbat — we hope you will join us in\nshowing the Earth some love and do a little nature-forward Jewish learning\,\nfollowed by a potluck style lunch.\n   https://aarecon.breezechms.com/form/6f3efe788869454 \n**THE JCC IS A NUT-FREE AND VEGETARIAN FACILITY** \nOrganized by: Ann Arbor Reconstructionist Congregation \nView event on Jlive: https://jlive.app/events/14157
URL:https://www.jewishannarbor.org/event/climate-action-shabbat-potluck/
LOCATION:Jewish Community Center of Greater Ann Arbor 2935 Birch Hollow Dr\, Ann Arbor
CATEGORIES:Advocacy,All Ages,Beverages (non alcoholic),Coffee,Environment and Sustainability,Nature,Parking (free),Vegetarian Friendly
ATTACH;FMTTYPE=image/jpeg:https://www.jewishannarbor.org/wp-content/uploads/2026/02/A2J_Climate_Circle_750_x_niWEDY3.5_x_11_in_4.8125_x_6.375_in_960_x_600_px-pwz0YH.jpg
ORGANIZER;CN="Ann Arbor Reconstructionist Congregation":MAILTO:director@aarecon.org
END:VEVENT
BEGIN:VEVENT
DTSTART;TZID=America/Detroit:20260224T190000
DTEND;TZID=America/Detroit:20260224T203000
DTSTAMP:20260425T204230
CREATED:20260223T221602Z
LAST-MODIFIED:20260224T001602Z
UID:10006160-1771959600-1771965000@www.jewishannarbor.org
SUMMARY:Israeli Nifgashim
DESCRIPTION:ישראלים נפגשים\nהרצאה קצרה\, שיחה וחברים\n3 gatherings for Israelis in Hebrew.\nOn February 24th Aviv Touitou Certified aromatherapist and social worker\nspeaks about Aromatherapy – The Power of Essential Oils to Support & Heal the\nBody & Mind.\nOn March 24th Ariel Levi\, DDS\, Orthodontist speaks about the Basics of\nOrthodontics.\nOn May 19th Tomer Stern\, PhD\, MSc\, Assistant Professor at the University of\nMichigan School of Dentistry speaks about Advancing Skeletal Pathology\nResearch Through Computational Biology. \nOrganized by: Jewish Federation of Greater Ann Arbor \nView event on Jlive: https://jlive.app/events/14737
URL:https://www.jewishannarbor.org/event/israeli-nifgashim/
CATEGORIES:Adults,Beverages (non alcoholic),Educational,Hebrew and Yiddish,Hebrew Speaking,Israel,Parking (free),Special Guest,Wheelchair Accessible
ATTACH;FMTTYPE=image/jpeg:https://www.jewishannarbor.org/wp-content/uploads/2026/02/Israelim_Nifgashim_Series_Flyer_960_x_600_px_1-3fnKHC.jpg
ORGANIZER;CN="Jewish Federation of Greater Ann Arbor":MAILTO:info@jewishannarbor.org
END:VEVENT
BEGIN:VEVENT
DTSTART;TZID=America/Detroit:20260228T200000
DTEND;TZID=America/Detroit:20260228T230000
DTSTAMP:20260425T204230
CREATED:20260204T164531Z
LAST-MODIFIED:20260228T041604Z
UID:10006094-1772308800-1772319600@www.jewishannarbor.org
SUMMARY:Shushan Speakeasy
DESCRIPTION:Behind the secret door:\ndelicious bites\, open bar and speakeasy games await. \nDress to impress in your finest Roaring ’20’s attire or Purim costume. \nMust be 21 years and older to attend. \nOrganized by: Hebrew Day School of Ann Arbor \nView event on Jlive: https://jlive.app/events/12905
URL:https://www.jewishannarbor.org/event/shushan-speakeasy/
CATEGORIES:Adults,Beverages (non alcoholic),Cocktails and Drinks,Food Provided,Grandparents,Jewish Holiday,Kosher Food,Older Adults,Parents,Purim,Young Adults
ATTACH;FMTTYPE=image/png:https://www.jewishannarbor.org/wp-content/uploads/2026/02/GiveButter_Purim_2026_1200_x_630_px_1-lxVlCK.png
ORGANIZER;CN="Hebrew Day School of Ann Arbor":MAILTO:office@hdsaa.org
END:VEVENT
END:VCALENDAR