BEGIN:VCALENDAR
VERSION:2.0
PRODID:-//Jewish Federation of Greater Ann Arbor - ECPv6.15.17.1//NONSGML v1.0//EN
CALSCALE:GREGORIAN
METHOD:PUBLISH
X-ORIGINAL-URL:https://www.jewishannarbor.org
X-WR-CALDESC:Events for Jewish Federation of Greater Ann Arbor
REFRESH-INTERVAL;VALUE=DURATION:PT1H
X-Robots-Tag:noindex
X-PUBLISHED-TTL:PT1H
BEGIN:VTIMEZONE
TZID:America/Detroit
BEGIN:DAYLIGHT
TZOFFSETFROM:-0500
TZOFFSETTO:-0400
TZNAME:EDT
DTSTART:20240310T070000
END:DAYLIGHT
BEGIN:STANDARD
TZOFFSETFROM:-0400
TZOFFSETTO:-0500
TZNAME:EST
DTSTART:20241103T060000
END:STANDARD
BEGIN:DAYLIGHT
TZOFFSETFROM:-0500
TZOFFSETTO:-0400
TZNAME:EDT
DTSTART:20250309T070000
END:DAYLIGHT
BEGIN:STANDARD
TZOFFSETFROM:-0400
TZOFFSETTO:-0500
TZNAME:EST
DTSTART:20251102T060000
END:STANDARD
BEGIN:DAYLIGHT
TZOFFSETFROM:-0500
TZOFFSETTO:-0400
TZNAME:EDT
DTSTART:20260308T070000
END:DAYLIGHT
BEGIN:STANDARD
TZOFFSETFROM:-0400
TZOFFSETTO:-0500
TZNAME:EST
DTSTART:20261101T060000
END:STANDARD
BEGIN:DAYLIGHT
TZOFFSETFROM:-0500
TZOFFSETTO:-0400
TZNAME:EDT
DTSTART:20270314T070000
END:DAYLIGHT
BEGIN:STANDARD
TZOFFSETFROM:-0400
TZOFFSETTO:-0500
TZNAME:EST
DTSTART:20271107T060000
END:STANDARD
END:VTIMEZONE
BEGIN:VEVENT
DTSTART;TZID=America/Detroit:20260119T183000
DTEND;TZID=America/Detroit:20260119T203000
DTSTAMP:20260423T173032
CREATED:20241007T151053Z
LAST-MODIFIED:20241007T151053Z
UID:10005537-1768847400-1768854600@www.jewishannarbor.org
SUMMARY:BIC: Hebrew Language Classes Start Again!
DESCRIPTION:We are offering Beginners Liturgical Hebrew and Intermediate Modern Hebrew. Please see registration page for more details.
URL:https://www.jewishannarbor.org/event/bic-hebrew-language-classes-start-again/2026-01-19/
LOCATION:Beth Israel Congregation\, 2000 Washtenaw Avenue\, Ann Arbor\, MI\, USA\, Ann Arbor\, MI\, 48108\, United States
CATEGORIES:Beth Israel Congregation,Community,Educational
ORGANIZER;CN="Beth Israel Congregation":MAILTO:office@bethisrael-aa.org
END:VEVENT
BEGIN:VEVENT
DTSTART;TZID=America/Detroit:20260112T183000
DTEND;TZID=America/Detroit:20260112T203000
DTSTAMP:20260423T173032
CREATED:20241007T151053Z
LAST-MODIFIED:20241007T151053Z
UID:10005536-1768242600-1768249800@www.jewishannarbor.org
SUMMARY:BIC: Hebrew Language Classes Start Again!
DESCRIPTION:We are offering Beginners Liturgical Hebrew and Intermediate Modern Hebrew. Please see registration page for more details.
URL:https://www.jewishannarbor.org/event/bic-hebrew-language-classes-start-again/2026-01-12/
LOCATION:Beth Israel Congregation\, 2000 Washtenaw Avenue\, Ann Arbor\, MI\, USA\, Ann Arbor\, MI\, 48108\, United States
CATEGORIES:Beth Israel Congregation,Community,Educational
ORGANIZER;CN="Beth Israel Congregation":MAILTO:office@bethisrael-aa.org
END:VEVENT
BEGIN:VEVENT
DTSTART;TZID=America/Detroit:20260105T183000
DTEND;TZID=America/Detroit:20260105T203000
DTSTAMP:20260423T173032
CREATED:20241007T151053Z
LAST-MODIFIED:20241007T151053Z
UID:10005535-1767637800-1767645000@www.jewishannarbor.org
SUMMARY:BIC: Hebrew Language Classes Start Again!
DESCRIPTION:We are offering Beginners Liturgical Hebrew and Intermediate Modern Hebrew. Please see registration page for more details.
URL:https://www.jewishannarbor.org/event/bic-hebrew-language-classes-start-again/2026-01-05/
LOCATION:Beth Israel Congregation\, 2000 Washtenaw Avenue\, Ann Arbor\, MI\, USA\, Ann Arbor\, MI\, 48108\, United States
CATEGORIES:Beth Israel Congregation,Community,Educational
ORGANIZER;CN="Beth Israel Congregation":MAILTO:office@bethisrael-aa.org
END:VEVENT
BEGIN:VEVENT
DTSTART;TZID=America/Detroit:20251229T183000
DTEND;TZID=America/Detroit:20251229T203000
DTSTAMP:20260423T173032
CREATED:20241007T151053Z
LAST-MODIFIED:20241007T151053Z
UID:10005534-1767033000-1767040200@www.jewishannarbor.org
SUMMARY:BIC: Hebrew Language Classes Start Again!
DESCRIPTION:We are offering Beginners Liturgical Hebrew and Intermediate Modern Hebrew. Please see registration page for more details.
URL:https://www.jewishannarbor.org/event/bic-hebrew-language-classes-start-again/2025-12-29/
LOCATION:Beth Israel Congregation\, 2000 Washtenaw Avenue\, Ann Arbor\, MI\, USA\, Ann Arbor\, MI\, 48108\, United States
CATEGORIES:Beth Israel Congregation,Community,Educational
ORGANIZER;CN="Beth Israel Congregation":MAILTO:office@bethisrael-aa.org
END:VEVENT
BEGIN:VEVENT
DTSTART;TZID=America/Detroit:20251222T183000
DTEND;TZID=America/Detroit:20251222T203000
DTSTAMP:20260423T173032
CREATED:20241007T151053Z
LAST-MODIFIED:20241007T151053Z
UID:10005533-1766428200-1766435400@www.jewishannarbor.org
SUMMARY:BIC: Hebrew Language Classes Start Again!
DESCRIPTION:We are offering Beginners Liturgical Hebrew and Intermediate Modern Hebrew. Please see registration page for more details.
URL:https://www.jewishannarbor.org/event/bic-hebrew-language-classes-start-again/2025-12-22/
LOCATION:Beth Israel Congregation\, 2000 Washtenaw Avenue\, Ann Arbor\, MI\, USA\, Ann Arbor\, MI\, 48108\, United States
CATEGORIES:Beth Israel Congregation,Community,Educational
ORGANIZER;CN="Beth Israel Congregation":MAILTO:office@bethisrael-aa.org
END:VEVENT
BEGIN:VEVENT
DTSTART;TZID=America/Detroit:20251215T183000
DTEND;TZID=America/Detroit:20251215T203000
DTSTAMP:20260423T173032
CREATED:20241007T151053Z
LAST-MODIFIED:20241007T151053Z
UID:10005532-1765823400-1765830600@www.jewishannarbor.org
SUMMARY:BIC: Hebrew Language Classes Start Again!
DESCRIPTION:We are offering Beginners Liturgical Hebrew and Intermediate Modern Hebrew. Please see registration page for more details.
URL:https://www.jewishannarbor.org/event/bic-hebrew-language-classes-start-again/2025-12-15/
LOCATION:Beth Israel Congregation\, 2000 Washtenaw Avenue\, Ann Arbor\, MI\, USA\, Ann Arbor\, MI\, 48108\, United States
CATEGORIES:Beth Israel Congregation,Community,Educational
ORGANIZER;CN="Beth Israel Congregation":MAILTO:office@bethisrael-aa.org
END:VEVENT
BEGIN:VEVENT
DTSTART;TZID=America/Detroit:20251208T183000
DTEND;TZID=America/Detroit:20251208T203000
DTSTAMP:20260423T173032
CREATED:20241007T151053Z
LAST-MODIFIED:20241007T151053Z
UID:10005531-1765218600-1765225800@www.jewishannarbor.org
SUMMARY:BIC: Hebrew Language Classes Start Again!
DESCRIPTION:We are offering Beginners Liturgical Hebrew and Intermediate Modern Hebrew. Please see registration page for more details.
URL:https://www.jewishannarbor.org/event/bic-hebrew-language-classes-start-again/2025-12-08/
LOCATION:Beth Israel Congregation\, 2000 Washtenaw Avenue\, Ann Arbor\, MI\, USA\, Ann Arbor\, MI\, 48108\, United States
CATEGORIES:Beth Israel Congregation,Community,Educational
ORGANIZER;CN="Beth Israel Congregation":MAILTO:office@bethisrael-aa.org
END:VEVENT
BEGIN:VEVENT
DTSTART;TZID=America/Detroit:20251201T183000
DTEND;TZID=America/Detroit:20251201T203000
DTSTAMP:20260423T173032
CREATED:20241007T151053Z
LAST-MODIFIED:20241007T151053Z
UID:10005530-1764613800-1764621000@www.jewishannarbor.org
SUMMARY:BIC: Hebrew Language Classes Start Again!
DESCRIPTION:We are offering Beginners Liturgical Hebrew and Intermediate Modern Hebrew. Please see registration page for more details.
URL:https://www.jewishannarbor.org/event/bic-hebrew-language-classes-start-again/2025-12-01/
LOCATION:Beth Israel Congregation\, 2000 Washtenaw Avenue\, Ann Arbor\, MI\, USA\, Ann Arbor\, MI\, 48108\, United States
CATEGORIES:Beth Israel Congregation,Community,Educational
ORGANIZER;CN="Beth Israel Congregation":MAILTO:office@bethisrael-aa.org
END:VEVENT
BEGIN:VEVENT
DTSTART;TZID=America/Detroit:20251124T183000
DTEND;TZID=America/Detroit:20251124T203000
DTSTAMP:20260423T173032
CREATED:20241007T151053Z
LAST-MODIFIED:20241007T151053Z
UID:10005529-1764009000-1764016200@www.jewishannarbor.org
SUMMARY:BIC: Hebrew Language Classes Start Again!
DESCRIPTION:We are offering Beginners Liturgical Hebrew and Intermediate Modern Hebrew. Please see registration page for more details.
URL:https://www.jewishannarbor.org/event/bic-hebrew-language-classes-start-again/2025-11-24/
LOCATION:Beth Israel Congregation\, 2000 Washtenaw Avenue\, Ann Arbor\, MI\, USA\, Ann Arbor\, MI\, 48108\, United States
CATEGORIES:Beth Israel Congregation,Community,Educational
ORGANIZER;CN="Beth Israel Congregation":MAILTO:office@bethisrael-aa.org
END:VEVENT
BEGIN:VEVENT
DTSTART;TZID=America/Detroit:20251117T183000
DTEND;TZID=America/Detroit:20251117T203000
DTSTAMP:20260423T173032
CREATED:20241007T151053Z
LAST-MODIFIED:20241007T151053Z
UID:10005528-1763404200-1763411400@www.jewishannarbor.org
SUMMARY:BIC: Hebrew Language Classes Start Again!
DESCRIPTION:We are offering Beginners Liturgical Hebrew and Intermediate Modern Hebrew. Please see registration page for more details.
URL:https://www.jewishannarbor.org/event/bic-hebrew-language-classes-start-again/2025-11-17/
LOCATION:Beth Israel Congregation\, 2000 Washtenaw Avenue\, Ann Arbor\, MI\, USA\, Ann Arbor\, MI\, 48108\, United States
CATEGORIES:Beth Israel Congregation,Community,Educational
ORGANIZER;CN="Beth Israel Congregation":MAILTO:office@bethisrael-aa.org
END:VEVENT
BEGIN:VEVENT
DTSTART;TZID=America/Detroit:20251110T183000
DTEND;TZID=America/Detroit:20251110T203000
DTSTAMP:20260423T173032
CREATED:20241007T151053Z
LAST-MODIFIED:20241007T151053Z
UID:10005527-1762799400-1762806600@www.jewishannarbor.org
SUMMARY:BIC: Hebrew Language Classes Start Again!
DESCRIPTION:We are offering Beginners Liturgical Hebrew and Intermediate Modern Hebrew. Please see registration page for more details.
URL:https://www.jewishannarbor.org/event/bic-hebrew-language-classes-start-again/2025-11-10/
LOCATION:Beth Israel Congregation\, 2000 Washtenaw Avenue\, Ann Arbor\, MI\, USA\, Ann Arbor\, MI\, 48108\, United States
CATEGORIES:Beth Israel Congregation,Community,Educational
ORGANIZER;CN="Beth Israel Congregation":MAILTO:office@bethisrael-aa.org
END:VEVENT
BEGIN:VEVENT
DTSTART;TZID=America/Detroit:20251103T183000
DTEND;TZID=America/Detroit:20251103T203000
DTSTAMP:20260423T173032
CREATED:20241007T151053Z
LAST-MODIFIED:20241007T151053Z
UID:10005526-1762194600-1762201800@www.jewishannarbor.org
SUMMARY:BIC: Hebrew Language Classes Start Again!
DESCRIPTION:We are offering Beginners Liturgical Hebrew and Intermediate Modern Hebrew. Please see registration page for more details.
URL:https://www.jewishannarbor.org/event/bic-hebrew-language-classes-start-again/2025-11-03/
LOCATION:Beth Israel Congregation\, 2000 Washtenaw Avenue\, Ann Arbor\, MI\, USA\, Ann Arbor\, MI\, 48108\, United States
CATEGORIES:Beth Israel Congregation,Community,Educational
ORGANIZER;CN="Beth Israel Congregation":MAILTO:office@bethisrael-aa.org
END:VEVENT
BEGIN:VEVENT
DTSTART;TZID=America/Detroit:20251027T183000
DTEND;TZID=America/Detroit:20251027T203000
DTSTAMP:20260423T173032
CREATED:20241007T151053Z
LAST-MODIFIED:20241007T151053Z
UID:10005525-1761589800-1761597000@www.jewishannarbor.org
SUMMARY:BIC: Hebrew Language Classes Start Again!
DESCRIPTION:We are offering Beginners Liturgical Hebrew and Intermediate Modern Hebrew. Please see registration page for more details.
URL:https://www.jewishannarbor.org/event/bic-hebrew-language-classes-start-again/2025-10-27/
LOCATION:Beth Israel Congregation\, 2000 Washtenaw Avenue\, Ann Arbor\, MI\, USA\, Ann Arbor\, MI\, 48108\, United States
CATEGORIES:Beth Israel Congregation,Community,Educational
ORGANIZER;CN="Beth Israel Congregation":MAILTO:office@bethisrael-aa.org
END:VEVENT
BEGIN:VEVENT
DTSTART;VALUE=DATE:20251022
DTEND;VALUE=DATE:20251023
DTSTAMP:20260423T173032
CREATED:20250814T175746Z
LAST-MODIFIED:20250905T195919Z
UID:10005926-1761091200-1761177599@www.jewishannarbor.org
SUMMARY:Israel Symphony Orchestra Rishon Lezion String Trio
DESCRIPTION:
URL:https://www.jewishannarbor.org/event/israeli-orchestra/
LOCATION:Beth Israel Congregation\, 2000 Washtenaw Avenue\, Ann Arbor\, MI\, USA\, Ann Arbor\, MI\, 48108\, United States
CATEGORIES:Beth Israel Congregation,Jewish Community Center of Greater Ann Arbor
END:VEVENT
BEGIN:VEVENT
DTSTART;TZID=America/Detroit:20251020T183000
DTEND;TZID=America/Detroit:20251020T203000
DTSTAMP:20260423T173032
CREATED:20241007T151053Z
LAST-MODIFIED:20241007T151053Z
UID:10005524-1760985000-1760992200@www.jewishannarbor.org
SUMMARY:BIC: Hebrew Language Classes Start Again!
DESCRIPTION:We are offering Beginners Liturgical Hebrew and Intermediate Modern Hebrew. Please see registration page for more details.
URL:https://www.jewishannarbor.org/event/bic-hebrew-language-classes-start-again/2025-10-20/
LOCATION:Beth Israel Congregation\, 2000 Washtenaw Avenue\, Ann Arbor\, MI\, USA\, Ann Arbor\, MI\, 48108\, United States
CATEGORIES:Beth Israel Congregation,Community,Educational
ORGANIZER;CN="Beth Israel Congregation":MAILTO:office@bethisrael-aa.org
END:VEVENT
BEGIN:VEVENT
DTSTART;TZID=America/Detroit:20251013T183000
DTEND;TZID=America/Detroit:20251013T203000
DTSTAMP:20260423T173032
CREATED:20241007T151053Z
LAST-MODIFIED:20241007T151053Z
UID:10005523-1760380200-1760387400@www.jewishannarbor.org
SUMMARY:BIC: Hebrew Language Classes Start Again!
DESCRIPTION:We are offering Beginners Liturgical Hebrew and Intermediate Modern Hebrew. Please see registration page for more details.
URL:https://www.jewishannarbor.org/event/bic-hebrew-language-classes-start-again/2025-10-13/
LOCATION:Beth Israel Congregation\, 2000 Washtenaw Avenue\, Ann Arbor\, MI\, USA\, Ann Arbor\, MI\, 48108\, United States
CATEGORIES:Beth Israel Congregation,Community,Educational
ORGANIZER;CN="Beth Israel Congregation":MAILTO:office@bethisrael-aa.org
END:VEVENT
BEGIN:VEVENT
DTSTART;TZID=America/Detroit:20251006T183000
DTEND;TZID=America/Detroit:20251006T203000
DTSTAMP:20260423T173032
CREATED:20241007T151053Z
LAST-MODIFIED:20241007T151053Z
UID:10005522-1759775400-1759782600@www.jewishannarbor.org
SUMMARY:BIC: Hebrew Language Classes Start Again!
DESCRIPTION:We are offering Beginners Liturgical Hebrew and Intermediate Modern Hebrew. Please see registration page for more details.
URL:https://www.jewishannarbor.org/event/bic-hebrew-language-classes-start-again/2025-10-06/
LOCATION:Beth Israel Congregation\, 2000 Washtenaw Avenue\, Ann Arbor\, MI\, USA\, Ann Arbor\, MI\, 48108\, United States
CATEGORIES:Beth Israel Congregation,Community,Educational
ORGANIZER;CN="Beth Israel Congregation":MAILTO:office@bethisrael-aa.org
END:VEVENT
BEGIN:VEVENT
DTSTART;TZID=America/Detroit:20250929T183000
DTEND;TZID=America/Detroit:20250929T203000
DTSTAMP:20260423T173032
CREATED:20241007T151053Z
LAST-MODIFIED:20241007T151053Z
UID:10005521-1759170600-1759177800@www.jewishannarbor.org
SUMMARY:BIC: Hebrew Language Classes Start Again!
DESCRIPTION:We are offering Beginners Liturgical Hebrew and Intermediate Modern Hebrew. Please see registration page for more details.
URL:https://www.jewishannarbor.org/event/bic-hebrew-language-classes-start-again/2025-09-29/
LOCATION:Beth Israel Congregation\, 2000 Washtenaw Avenue\, Ann Arbor\, MI\, USA\, Ann Arbor\, MI\, 48108\, United States
CATEGORIES:Beth Israel Congregation,Community,Educational
ORGANIZER;CN="Beth Israel Congregation":MAILTO:office@bethisrael-aa.org
END:VEVENT
BEGIN:VEVENT
DTSTART;TZID=America/Detroit:20250922T183000
DTEND;TZID=America/Detroit:20250922T203000
DTSTAMP:20260423T173032
CREATED:20241007T151053Z
LAST-MODIFIED:20241007T151053Z
UID:10005520-1758565800-1758573000@www.jewishannarbor.org
SUMMARY:BIC: Hebrew Language Classes Start Again!
DESCRIPTION:We are offering Beginners Liturgical Hebrew and Intermediate Modern Hebrew. Please see registration page for more details.
URL:https://www.jewishannarbor.org/event/bic-hebrew-language-classes-start-again/2025-09-22/
LOCATION:Beth Israel Congregation\, 2000 Washtenaw Avenue\, Ann Arbor\, MI\, USA\, Ann Arbor\, MI\, 48108\, United States
CATEGORIES:Beth Israel Congregation,Community,Educational
ORGANIZER;CN="Beth Israel Congregation":MAILTO:office@bethisrael-aa.org
END:VEVENT
BEGIN:VEVENT
DTSTART;TZID=America/Detroit:20250917T183000
DTEND;TZID=America/Detroit:20250917T200000
DTSTAMP:20260423T173032
CREATED:20250715T153827Z
LAST-MODIFIED:20250903T163802Z
UID:10005868-1758133800-1758139200@www.jewishannarbor.org
SUMMARY:FED: An American in Knesset: Making sense of Israel’s tumultuous parliament with Professor Alon Tal
DESCRIPTION:An American in Knesset: Making sense of Israel’s tumultuous parliament\nAs only the seventh American citizen to serve in Israel’s Knesset\, seeing Israel’s complex and colorful legislative and government decision making up close was sometimes uplifting\, sometimes appalling and always fascinating. Based on dozens of idiosyncratic and often humorous anecdotes\, this talk describes lesser-known aspects of the rough and tumble of Israeli politics\, through the eyes of an academic who with little warning had to learn how to promote key issues like\nenvironmental protection\, religious pluralism and gender equality.\n  \nRegister Here
URL:https://www.jewishannarbor.org/event/fed-an-american-in-knesset-making-sense-of-israels-tumultuous-parliament-with-professor-alon-tal/
LOCATION:MI
CATEGORIES:Beth Israel Congregation,Educational,Israel Programming,Jewish Federation of Greater Ann Arbor,Jewish Federation of Greater Ann Arbor - General
ATTACH;FMTTYPE=image/jpeg:https://www.jewishannarbor.org/wp-content/uploads/2025/07/Israel360-Federation-917-Event-1.jpg
END:VEVENT
BEGIN:VEVENT
DTSTART;TZID=America/Detroit:20250915T183000
DTEND;TZID=America/Detroit:20250915T203000
DTSTAMP:20260423T173032
CREATED:20241007T151053Z
LAST-MODIFIED:20241007T151053Z
UID:10005519-1757961000-1757968200@www.jewishannarbor.org
SUMMARY:BIC: Hebrew Language Classes Start Again!
DESCRIPTION:We are offering Beginners Liturgical Hebrew and Intermediate Modern Hebrew. Please see registration page for more details.
URL:https://www.jewishannarbor.org/event/bic-hebrew-language-classes-start-again/2025-09-15/
LOCATION:Beth Israel Congregation\, 2000 Washtenaw Avenue\, Ann Arbor\, MI\, USA\, Ann Arbor\, MI\, 48108\, United States
CATEGORIES:Beth Israel Congregation,Community,Educational
ORGANIZER;CN="Beth Israel Congregation":MAILTO:office@bethisrael-aa.org
END:VEVENT
BEGIN:VEVENT
DTSTART;TZID=America/Detroit:20250908T183000
DTEND;TZID=America/Detroit:20250908T203000
DTSTAMP:20260423T173032
CREATED:20241007T151053Z
LAST-MODIFIED:20241007T151053Z
UID:10005518-1757356200-1757363400@www.jewishannarbor.org
SUMMARY:BIC: Hebrew Language Classes Start Again!
DESCRIPTION:We are offering Beginners Liturgical Hebrew and Intermediate Modern Hebrew. Please see registration page for more details.
URL:https://www.jewishannarbor.org/event/bic-hebrew-language-classes-start-again/2025-09-08/
LOCATION:Beth Israel Congregation\, 2000 Washtenaw Avenue\, Ann Arbor\, MI\, USA\, Ann Arbor\, MI\, 48108\, United States
CATEGORIES:Beth Israel Congregation,Community,Educational
ORGANIZER;CN="Beth Israel Congregation":MAILTO:office@bethisrael-aa.org
END:VEVENT
BEGIN:VEVENT
DTSTART;TZID=America/Detroit:20250901T183000
DTEND;TZID=America/Detroit:20250901T203000
DTSTAMP:20260423T173032
CREATED:20241007T151053Z
LAST-MODIFIED:20241007T151053Z
UID:10005517-1756751400-1756758600@www.jewishannarbor.org
SUMMARY:BIC: Hebrew Language Classes Start Again!
DESCRIPTION:We are offering Beginners Liturgical Hebrew and Intermediate Modern Hebrew. Please see registration page for more details.
URL:https://www.jewishannarbor.org/event/bic-hebrew-language-classes-start-again/2025-09-01/
LOCATION:Beth Israel Congregation\, 2000 Washtenaw Avenue\, Ann Arbor\, MI\, USA\, Ann Arbor\, MI\, 48108\, United States
CATEGORIES:Beth Israel Congregation,Community,Educational
ORGANIZER;CN="Beth Israel Congregation":MAILTO:office@bethisrael-aa.org
END:VEVENT
BEGIN:VEVENT
DTSTART;TZID=America/Detroit:20250825T183000
DTEND;TZID=America/Detroit:20250825T203000
DTSTAMP:20260423T173032
CREATED:20241007T151053Z
LAST-MODIFIED:20241007T151053Z
UID:10005516-1756146600-1756153800@www.jewishannarbor.org
SUMMARY:BIC: Hebrew Language Classes Start Again!
DESCRIPTION:We are offering Beginners Liturgical Hebrew and Intermediate Modern Hebrew. Please see registration page for more details.
URL:https://www.jewishannarbor.org/event/bic-hebrew-language-classes-start-again/2025-08-25/
LOCATION:Beth Israel Congregation\, 2000 Washtenaw Avenue\, Ann Arbor\, MI\, USA\, Ann Arbor\, MI\, 48108\, United States
CATEGORIES:Beth Israel Congregation,Community,Educational
ORGANIZER;CN="Beth Israel Congregation":MAILTO:office@bethisrael-aa.org
END:VEVENT
BEGIN:VEVENT
DTSTART;TZID=America/Detroit:20250823T110000
DTEND;TZID=America/Detroit:20250823T120000
DTSTAMP:20260423T173032
CREATED:20250711T142448Z
LAST-MODIFIED:20250711T142448Z
UID:10005865-1755946800-1755950400@www.jewishannarbor.org
SUMMARY:BIC Tot Shabbat
DESCRIPTION:
URL:https://www.jewishannarbor.org/event/bic-tot-shabbat-3/2025-08-23/
LOCATION:MI
CATEGORIES:Beth Israel Congregation,Community
END:VEVENT
BEGIN:VEVENT
DTSTART;TZID=America/Detroit:20250818T183000
DTEND;TZID=America/Detroit:20250818T203000
DTSTAMP:20260423T173032
CREATED:20241007T151053Z
LAST-MODIFIED:20241007T151053Z
UID:10005515-1755541800-1755549000@www.jewishannarbor.org
SUMMARY:BIC: Hebrew Language Classes Start Again!
DESCRIPTION:We are offering Beginners Liturgical Hebrew and Intermediate Modern Hebrew. Please see registration page for more details.
URL:https://www.jewishannarbor.org/event/bic-hebrew-language-classes-start-again/2025-08-18/
LOCATION:Beth Israel Congregation\, 2000 Washtenaw Avenue\, Ann Arbor\, MI\, USA\, Ann Arbor\, MI\, 48108\, United States
CATEGORIES:Beth Israel Congregation,Community,Educational
ORGANIZER;CN="Beth Israel Congregation":MAILTO:office@bethisrael-aa.org
END:VEVENT
BEGIN:VEVENT
DTSTART;TZID=America/Detroit:20250816T121500
DTEND;TZID=America/Detroit:20250816T131500
DTSTAMP:20260423T173032
CREATED:20250711T140813Z
LAST-MODIFIED:20250711T142515Z
UID:10005861-1755346500-1755350100@www.jewishannarbor.org
SUMMARY:BIC Torah Reading 202
DESCRIPTION:
URL:https://www.jewishannarbor.org/event/bic-torah-reading-202/
LOCATION:Beth Israel Congregation\, 2000 Washtenaw Avenue\, Ann Arbor\, MI\, USA\, Ann Arbor\, MI\, 48108\, United States
CATEGORIES:Beth Israel Congregation,Community
ORGANIZER;CN="Beth Israel Congregation":MAILTO:office@bethisrael-aa.org
END:VEVENT
BEGIN:VEVENT
DTSTART;TZID=America/Detroit:20250811T183000
DTEND;TZID=America/Detroit:20250811T203000
DTSTAMP:20260423T173032
CREATED:20241007T151053Z
LAST-MODIFIED:20241007T151053Z
UID:10005514-1754937000-1754944200@www.jewishannarbor.org
SUMMARY:BIC: Hebrew Language Classes Start Again!
DESCRIPTION:We are offering Beginners Liturgical Hebrew and Intermediate Modern Hebrew. Please see registration page for more details.
URL:https://www.jewishannarbor.org/event/bic-hebrew-language-classes-start-again/2025-08-11/
LOCATION:Beth Israel Congregation\, 2000 Washtenaw Avenue\, Ann Arbor\, MI\, USA\, Ann Arbor\, MI\, 48108\, United States
CATEGORIES:Beth Israel Congregation,Community,Educational
ORGANIZER;CN="Beth Israel Congregation":MAILTO:office@bethisrael-aa.org
END:VEVENT
BEGIN:VEVENT
DTSTART;TZID=America/Detroit:20250808T180000
DTEND;TZID=America/Detroit:20250808T200000
DTSTAMP:20260423T173032
CREATED:20250711T141733Z
LAST-MODIFIED:20250711T142551Z
UID:10005862-1754676000-1754683200@www.jewishannarbor.org
SUMMARY:BIC Shabbat in the Park
DESCRIPTION:
URL:https://www.jewishannarbor.org/event/bic-shabbat-in-the-park-3/
LOCATION:County Farm Park\, 2230 Platt Rd\, Ann Arbor\, MI\, 48104\, United States
CATEGORIES:Beth Israel Congregation,Community
ORGANIZER;CN="Beth Israel Congregation":MAILTO:office@bethisrael-aa.org
END:VEVENT
BEGIN:VEVENT
DTSTART;TZID=America/Detroit:20250804T183000
DTEND;TZID=America/Detroit:20250804T203000
DTSTAMP:20260423T173032
CREATED:20241007T151053Z
LAST-MODIFIED:20241007T151053Z
UID:10005513-1754332200-1754339400@www.jewishannarbor.org
SUMMARY:BIC: Hebrew Language Classes Start Again!
DESCRIPTION:We are offering Beginners Liturgical Hebrew and Intermediate Modern Hebrew. Please see registration page for more details.
URL:https://www.jewishannarbor.org/event/bic-hebrew-language-classes-start-again/2025-08-04/
LOCATION:Beth Israel Congregation\, 2000 Washtenaw Avenue\, Ann Arbor\, MI\, USA\, Ann Arbor\, MI\, 48108\, United States
CATEGORIES:Beth Israel Congregation,Community,Educational
ORGANIZER;CN="Beth Israel Congregation":MAILTO:office@bethisrael-aa.org
END:VEVENT
END:VCALENDAR