BEGIN:VCALENDAR
VERSION:2.0
PRODID:-//Jewish Federation of Greater Ann Arbor - ECPv6.15.17.1//NONSGML v1.0//EN
CALSCALE:GREGORIAN
METHOD:PUBLISH
X-ORIGINAL-URL:https://www.jewishannarbor.org
X-WR-CALDESC:Events for Jewish Federation of Greater Ann Arbor
REFRESH-INTERVAL;VALUE=DURATION:PT1H
X-Robots-Tag:noindex
X-PUBLISHED-TTL:PT1H
BEGIN:VTIMEZONE
TZID:America/Detroit
BEGIN:DAYLIGHT
TZOFFSETFROM:-0500
TZOFFSETTO:-0400
TZNAME:EDT
DTSTART:20250309T070000
END:DAYLIGHT
BEGIN:STANDARD
TZOFFSETFROM:-0400
TZOFFSETTO:-0500
TZNAME:EST
DTSTART:20251102T060000
END:STANDARD
BEGIN:DAYLIGHT
TZOFFSETFROM:-0500
TZOFFSETTO:-0400
TZNAME:EDT
DTSTART:20260308T070000
END:DAYLIGHT
BEGIN:STANDARD
TZOFFSETFROM:-0400
TZOFFSETTO:-0500
TZNAME:EST
DTSTART:20261101T060000
END:STANDARD
BEGIN:DAYLIGHT
TZOFFSETFROM:-0500
TZOFFSETTO:-0400
TZNAME:EDT
DTSTART:20270314T070000
END:DAYLIGHT
BEGIN:STANDARD
TZOFFSETFROM:-0400
TZOFFSETTO:-0500
TZNAME:EST
DTSTART:20271107T060000
END:STANDARD
END:VTIMEZONE
BEGIN:VEVENT
DTSTART;VALUE=DATE:20260503
DTEND;VALUE=DATE:20260518
DTSTAMP:20260425T070909
CREATED:20250814T180518Z
LAST-MODIFIED:20260127T201735Z
UID:10005930-1777766400-1779062340@www.jewishannarbor.org
SUMMARY:JCC: Ann Arbor Jewish Film Festival
DESCRIPTION:
URL:https://www.jewishannarbor.org/event/ann-arbor-jewish-film-festival-5/
LOCATION:The State Theatre\, 233 S State Street\, Ann Arbor\, 48104\, United States
CATEGORIES:Jewish Community Center of Greater Ann Arbor
END:VEVENT
BEGIN:VEVENT
DTSTART;VALUE=DATE:20260505
DTEND;VALUE=DATE:20260506
DTSTAMP:20260425T070909
CREATED:20200625T190923Z
LAST-MODIFIED:20200625T190923Z
UID:10003044-1777939200-1778025599@www.jewishannarbor.org
SUMMARY:Lag BaOmer
DESCRIPTION:33rd day of counting the Omer
URL:https://www.jewishannarbor.org/event/lag-baomer-7/
LOCATION:MI
END:VEVENT
BEGIN:VEVENT
DTSTART;TZID=America/Detroit:20260505T170000
DTEND;TZID=America/Detroit:20260505T193000
DTSTAMP:20260425T070909
CREATED:20260318T051625Z
LAST-MODIFIED:20260326T181615Z
UID:10006189-1778000400-1778009400@www.jewishannarbor.org
SUMMARY:Lag B'Omer BBQ
DESCRIPTION:Join your friends from:\nHebrew Day School of Ann Arbor\nJewish Community Center of Greater Ann Arbor\nJewish Federation of Greater Ann Arbor \nBBQ dinner\, bonfire\, face painting\, smores and more. \nAs our community says farewell to Rav Will Keller and his family at the end of\nthis school year\, this event will include an opportunity to create cards and\nwish him well. \nOrganized by: Hebrew Day School of Ann Arbor
URL:https://www.jewishannarbor.org/event/lag-bomer-bbq/
LOCATION:MI
ORGANIZER;CN="Hebrew Day School of Ann Arbor":MAILTO:office@hdsaa.org
END:VEVENT
BEGIN:VEVENT
DTSTART;TZID=America/Detroit:20260505T173000
DTEND;TZID=America/Detroit:20260505T203000
DTSTAMP:20260425T070909
CREATED:20250814T180125Z
LAST-MODIFIED:20250905T191249Z
UID:10005927-1778002200-1778013000@www.jewishannarbor.org
SUMMARY:Lag B'Omer Bonfire
DESCRIPTION:
URL:https://www.jewishannarbor.org/event/bonfire/
LOCATION:MI
CATEGORIES:Jewish Community Center of Greater Ann Arbor,Jewish Federation of Greater Ann Arbor
ORGANIZER;CN="Jewish Federation of Greater Ann Arbor":MAILTO:info@jewishannarbor.org
END:VEVENT
BEGIN:VEVENT
DTSTART;TZID=America/Detroit:20260505T173000
DTEND;TZID=America/Detroit:20260505T203000
DTSTAMP:20260425T070909
CREATED:20260318T045513Z
LAST-MODIFIED:20260326T181613Z
UID:10006187-1778002200-1778013000@www.jewishannarbor.org
SUMMARY:Lag B' Omer
DESCRIPTION:Organized by: JCC of Greater Ann Arbor
URL:https://www.jewishannarbor.org/event/lag-b-omer/
LOCATION:MI
ORGANIZER;CN="JCC of Greater Ann Arbor":MAILTO:jcc@jccannarbor.org
END:VEVENT
END:VCALENDAR