BEGIN:VCALENDAR
VERSION:2.0
PRODID:-//Jewish Federation of Greater Ann Arbor - ECPv6.15.17.1//NONSGML v1.0//EN
CALSCALE:GREGORIAN
METHOD:PUBLISH
X-WR-CALNAME:Jewish Federation of Greater Ann Arbor
X-ORIGINAL-URL:https://www.jewishannarbor.org
X-WR-CALDESC:Events for Jewish Federation of Greater Ann Arbor
REFRESH-INTERVAL;VALUE=DURATION:PT1H
X-Robots-Tag:noindex
X-PUBLISHED-TTL:PT1H
BEGIN:VTIMEZONE
TZID:America/Detroit
BEGIN:DAYLIGHT
TZOFFSETFROM:-0500
TZOFFSETTO:-0400
TZNAME:EDT
DTSTART:20250309T070000
END:DAYLIGHT
BEGIN:STANDARD
TZOFFSETFROM:-0400
TZOFFSETTO:-0500
TZNAME:EST
DTSTART:20251102T060000
END:STANDARD
BEGIN:DAYLIGHT
TZOFFSETFROM:-0500
TZOFFSETTO:-0400
TZNAME:EDT
DTSTART:20260308T070000
END:DAYLIGHT
BEGIN:STANDARD
TZOFFSETFROM:-0400
TZOFFSETTO:-0500
TZNAME:EST
DTSTART:20261101T060000
END:STANDARD
BEGIN:DAYLIGHT
TZOFFSETFROM:-0500
TZOFFSETTO:-0400
TZNAME:EDT
DTSTART:20270314T070000
END:DAYLIGHT
BEGIN:STANDARD
TZOFFSETFROM:-0400
TZOFFSETTO:-0500
TZNAME:EST
DTSTART:20271107T060000
END:STANDARD
END:VTIMEZONE
BEGIN:VEVENT
DTSTART;TZID=America/Detroit:20260315T103000
DTEND;TZID=America/Detroit:20260315T113000
DTSTAMP:20260421T025125
CREATED:20260224T001607Z
LAST-MODIFIED:20260318T015512Z
UID:10006166-1773570600-1773574200@www.jewishannarbor.org
SUMMARY:Shabbat 101
DESCRIPTION:Starting and ending Shabbat with the traditional blessings truly invites a\nsense of holiness\, togetherness\, gratitude\, and shalom bayit. No knowledge of\nHebrew or prayers necessary. Learn the “how-to” of Making Shabbat at Home on\nFriday Night with Rav Nadav. Learn how to make the Shabbat Blessings and\nKiddush at the Shabbat Table\, and practice it together. \nOrganized by: Beth Israel Congregation \nView event on Jlive: https://jlive.app/events/14744
URL:https://www.jewishannarbor.org/event/shabbat-101/
LOCATION:Beth Israel Congregation 2000 Washtenaw Ave\, Ann Arbor
CATEGORIES:Adults,Jewish Holiday,Jewish Learning,Parking (free),Shabbat
ATTACH;FMTTYPE=image/jpeg:https://www.jewishannarbor.org/wp-content/uploads/2026/02/JL-Shabbat__Havdallah_101-8nBUEj.jpg
ORGANIZER;CN="Beth Israel Congregation":MAILTO:office@bethisrael-aa.org
END:VEVENT
BEGIN:VEVENT
DTSTART;TZID=America/Detroit:20260315T103000
DTEND;TZID=America/Detroit:20260315T163000
DTSTAMP:20260421T025125
CREATED:20260223T221619Z
LAST-MODIFIED:20260318T015032Z
UID:10006165-1773570600-1773592200@www.jewishannarbor.org
SUMMARY:Centennial Celebration: KidZ'ONLY at the JCC
DESCRIPTION:For ages 5-12. While Hillel celebrates its Centennial\, join the KidZone Team\nfor a day of fun with KidZ’ONLY at the JCC! We’ll play with clay\, make Perler\nBeads and build a new Lego set! Also\, feel free to settle down for the matinee\nshowing of The Emperor’s New Groove at 1:30 PM\, following kosher lunch from\nJerusalem Pizza. Drop off at 10:30 AM\, pick up at 4:30 PM. (Onsite security\npresent) \nOrganized by: JCC of Greater Ann Arbor \nView event on Jlive: https://jlive.app/events/14519
URL:https://www.jewishannarbor.org/event/centennial-celebration-kidzonly-at-the-jcc/
LOCATION:Jewish Community Center of Greater Ann Arbor 2935 Birch Hollow Dr\, Ann Arbor
CATEGORIES:Children,Food,General,Kosher,Kosher Food
ATTACH;FMTTYPE=image/jpeg:https://www.jewishannarbor.org/wp-content/uploads/2026/02/Untitled_design_1-vslq7Z.jpg
ORGANIZER;CN="JCC of Greater Ann Arbor":MAILTO:jcc@jccannarbor.org
END:VEVENT
BEGIN:VEVENT
DTSTART;TZID=America/Detroit:20260315T160000
DTEND;TZID=America/Detroit:20260315T180000
DTSTAMP:20260421T025125
CREATED:20260224T001610Z
LAST-MODIFIED:20260318T015515Z
UID:10006167-1773590400-1773597600@www.jewishannarbor.org
SUMMARY:Beth Israel Trivia Night
DESCRIPTION:Jason will lead us in a fun evening of trivia while we enjoy wine and cheese.\n$10 charge to participate\, form your own team of 3-6 people or join a team\nwhen you arrive. There will be prizes for the winning team! \nOrganized by: Beth Israel Congregation \nView event on Jlive: https://jlive.app/events/14746
URL:https://www.jewishannarbor.org/event/beth-israel-trivia-night/
LOCATION:Beth Israel Congregation 2000 Washtenaw Ave\, Ann Arbor
CATEGORIES:Adults,Parking (free)
ATTACH;FMTTYPE=image/png:https://www.jewishannarbor.org/wp-content/uploads/2026/02/Black_and_Tosca_Minimalist_Trivia_Night_Flyer_11-9NBc01.png
ORGANIZER;CN="Beth Israel Congregation":MAILTO:office@bethisrael-aa.org
END:VEVENT
BEGIN:VEVENT
DTSTART;TZID=America/Detroit:20260315T230000
DTEND;TZID=America/Detroit:20260316T150000
DTSTAMP:20260421T025125
CREATED:20260204T164634Z
LAST-MODIFIED:20260318T015517Z
UID:10006107-1773615600-1773673200@www.jewishannarbor.org
SUMMARY:Michigan Hillel Centennial - Centennial Celebration at The Big House
DESCRIPTION:Michigan Hillel is turning 100 years old in 2026\, and we are celebrating with\na weekend of reunion\, food\, and festivities at The Big House in Ann Arbor\,\nMichigan. Come home to your Hillel and reconnect with old (and new!) friends\nas we reminisce and reimagine the next 100 years together. \n**Registration is handled externally through University of Michigan\nHillel\,**(https://secure.lglforms.com/form_engine/s/mO2GMGcaVTkRc4OQK2iKsA) \nOrganized by: Hillel – University of Michigan \nView event on Jlive: https://jlive.app/events/14502
URL:https://www.jewishannarbor.org/event/michigan-hillel-centennial-centennial-celebration-at-the-big-house/
LOCATION:Ann Arbor \, Ann Arbor
CATEGORIES:All Ages,Kosher Food
ATTACH;FMTTYPE=image/jpeg:https://www.jewishannarbor.org/wp-content/uploads/2026/02/March_13-15_2026_Ann_Arbor_Michigan-Mv9XKQ.jpg
ORGANIZER;CN="Hillel - University of Michigan":MAILTO:rebeccg@umich.edu
END:VEVENT
END:VCALENDAR