BEGIN:VCALENDAR
VERSION:2.0
PRODID:-//Jewish Federation of Greater Ann Arbor - ECPv6.15.17.1//NONSGML v1.0//EN
CALSCALE:GREGORIAN
METHOD:PUBLISH
X-ORIGINAL-URL:https://www.jewishannarbor.org
X-WR-CALDESC:Events for Jewish Federation of Greater Ann Arbor
REFRESH-INTERVAL;VALUE=DURATION:PT1H
X-Robots-Tag:noindex
X-PUBLISHED-TTL:PT1H
BEGIN:VTIMEZONE
TZID:America/Detroit
BEGIN:DAYLIGHT
TZOFFSETFROM:-0500
TZOFFSETTO:-0400
TZNAME:EDT
DTSTART:20250309T070000
END:DAYLIGHT
BEGIN:STANDARD
TZOFFSETFROM:-0400
TZOFFSETTO:-0500
TZNAME:EST
DTSTART:20251102T060000
END:STANDARD
BEGIN:DAYLIGHT
TZOFFSETFROM:-0500
TZOFFSETTO:-0400
TZNAME:EDT
DTSTART:20260308T070000
END:DAYLIGHT
BEGIN:STANDARD
TZOFFSETFROM:-0400
TZOFFSETTO:-0500
TZNAME:EST
DTSTART:20261101T060000
END:STANDARD
BEGIN:DAYLIGHT
TZOFFSETFROM:-0500
TZOFFSETTO:-0400
TZNAME:EDT
DTSTART:20270314T070000
END:DAYLIGHT
BEGIN:STANDARD
TZOFFSETFROM:-0400
TZOFFSETTO:-0500
TZNAME:EST
DTSTART:20271107T060000
END:STANDARD
END:VTIMEZONE
BEGIN:VEVENT
DTSTART;VALUE=DATE:20260209
DTEND;VALUE=DATE:20260212
DTSTAMP:20260421T093535
CREATED:20250324T124614Z
LAST-MODIFIED:20250324T124614Z
UID:10005719-1770595200-1770854399@www.jewishannarbor.org
SUMMARY:FedPro 2026
DESCRIPTION:Save the Date for FedPro 2026\nWe are excited to announce the date and location for our next FedPro conference for all Federation professionals on February 9-11\, 2026 at the Sheraton Downtown Phoenix.\nStay tuned for more information and details.\nFor more information\, please contact Jessica Balboni.
URL:https://www.jewishannarbor.org/event/fedpro-2026/
LOCATION:Phoenix\, AZ
CATEGORIES:Jewish Federation of Greater Ann Arbor
END:VEVENT
BEGIN:VEVENT
DTSTART;TZID=America/Detroit:20260210T170000
DTEND;TZID=America/Detroit:20260210T183000
DTSTAMP:20260421T093535
CREATED:20251208T192109Z
LAST-MODIFIED:20251208T192110Z
UID:10006046-1770742800-1770748200@www.jewishannarbor.org
SUMMARY:U-M Frankel Center Event: When Hebrew Met the Machine
DESCRIPTION:A Book Talk with Ido Ramati  \nTuesday\, February 10 from 5:00 – 6:30 PM \nRoom 2022\, South Thayer Building \nRSVP: https://myumi.ch/W6Ard \nSpecial Guest: Ido Ramati (Hebrew University of Jerusalem)\, Moderator: Shachar Pinsker \nWhat happens when an ancient language meets modern technology? This lecture will discuss the role played by media technologies—such as the phonograph\, typewriters\, the telegraph\, and computers—in the revitalization and modernization of Hebrew since the end of the nineteenth century. After lying dormant for two millennia as a mainly written language\, Hebrew awoke from its literary slumber and became a living modern vernacular. The revitalization of Hebrew is unique and unprecedented in world history\, and it has been studied in various fields; but the role of modern media technologies in mediating this revival has not yet been considered. This lecture will delve into questions such as: what was the role of sound recording technologies in shaping the reemerging modern Hebrew speech? And how did the Hebraized typewrite pushed for the modernization of writing in Hebrew?. It will show how these media\, whose emergence ran in historical parallel to the revitalization of Hebrew\, were an active force in shaping the language as a modern communicative medium. Hebrew was a historical media lab: written from right to left and in unique script\, it posed technical as well as conceptual challenges to media which were originally designed for Latin script and Western writing systems. The adaptation of these technologies to Hebrew required various adaptations that shaped lingual mechanisms\, which had social and political ramifications on the emerging Hebrew culture. 
URL:https://www.jewishannarbor.org/event/u-m-frankel-center-event-when-hebrew-met-the-machine/
LOCATION:Thayer Building – Room 2022\, 202 South Thayer St\, Ann Arbor\, MI\, 48104\, United States
CATEGORIES:Hebrew and Yiddish,Jewish Learning,UM Frankel Center for Judaic Studies
ORGANIZER;CN="University of Michigan Frankel Center for Judaic Studies":MAILTO:JudaicStudies@umich.edu
END:VEVENT
BEGIN:VEVENT
DTSTART;TZID=America/Detroit:20260210T170000
DTEND;TZID=America/Detroit:20260210T183000
DTSTAMP:20260421T093535
CREATED:20260204T163607Z
LAST-MODIFIED:20260204T172710Z
UID:10006082-1770742800-1770748200@www.jewishannarbor.org
SUMMARY:When Hebrew Met the Machine
DESCRIPTION:What happens when an ancient language meets modern technology? This lecture\nwill discuss the role played by media technologies—such as the phonograph\,\ntypewriters\, the telegraph\, and computers—in the revitalization and\nmodernization of Hebrew since the end of the nineteenth century. After lying\ndormant for two millennia as a mainly written language\, Hebrew awoke from its\nliterary slumber and became a living modern vernacular. The revitalization of\nHebrew is unique and unprecedented in world history\, and it has been studied\nin various fields; but the role of modern media technologies in mediating this\nrevival has not yet been considered. This lecture will delve into questions\nsuch as: what was the role of sound recording technologies in shaping the\nreemerging modern Hebrew speech? And how did the Hebraized typewrite pushed\nfor the modernization of writing in Hebrew?. It will show how these media\,\nwhose emergence ran in historical parallel to the revitalization of Hebrew\,\nwere an active force in shaping the language as a modern communicative medium.\nHebrew was a historical media lab: written from right to left and in unique\nscript\, it posed technical as well as conceptual challenges to media which\nwere originally designed for Latin script and Western writing systems. The\nadaptation of these technologies to Hebrew required various adaptations that\nshaped lingual mechanisms\, which had social and political ramifications on the\nemerging Hebrew culture. \nOrganized by: U-M Frankel Center for Judaic Studies \nView event on Jlive: https://jlive.app/events/13596
URL:https://www.jewishannarbor.org/event/when-hebrew-met-the-machine/
LOCATION:South Thayer Building 202 S Thayer St\, Ann Arbor
CATEGORIES:Adults,College Students,Educational,History,Jewish Learning,Older Adults,Science & Technology,Special Guest,Young Adults
ATTACH;FMTTYPE=image/jpeg:https://www.jewishannarbor.org/wp-content/uploads/2026/02/picture2-YosTil.jpg
ORGANIZER;CN="U-M Frankel Center for Judaic Studies":MAILTO:js-event-coord@umich.edu
END:VEVENT
BEGIN:VEVENT
DTSTART;TZID=America/Detroit:20260210T170000
DTEND;TZID=America/Detroit:20260210T210000
DTSTAMP:20260421T093535
CREATED:20260204T170531Z
LAST-MODIFIED:20260204T170531Z
UID:10006135-1770742800-1770757200@www.jewishannarbor.org
SUMMARY:Hebrew Classes with Milka (Intro 5-6pm\, Prayer Book 6:15-7pm\, Beg Conv 7:15-8pm\, Adv Conv 8:15-9:pm)
DESCRIPTION:Winter Hebrew Session with Milka Eliav\n$140/members\, $195/non-members.\nIntroductory Hebrew 5-6pm\nThis is the class for complete beginners with no prior knowledge. Learn\nletters and vowels and how to put them together and read aloud. Gain an\nunderstanding of how Hebrew differs from English and how it works. Gain some\nbasic vocabulary and build confidence in our approach to Hebrew. _*If you have\nany experience\, you should sign up for Prayer Book Reading (not this class)._ \nPrayer Book 6:15-7:00pm\nIf you can read Hebrew and want to improve your fluency\, speed and confidence\,\nthis is the class for you! We will focus on texts from the prayer book and the\nJewish Bible\, dedicate some class time to discussing meaning and recurring\nvocabulary\, and learn some reading principles to help with fluency and\npronunciation. We will use the book _Prayer Book Hebrew\, The Easy Way._ \nBeginning Conversation 7:15-8:00pm\nThis class offers a taste of modern Hebrew for Communication. Reading Hebrew\nis a plus but not a requirement. We will jump right into Hebrew and learn to\nintroduce ourselves\, ask questions\, describe things like our families\, our\njobs\, and other common topics. We may even learn to order in an Israeli\nrestaurant. Come dip your toes in this Modern-ancient language and roll some\nHebrew off your tongue! \nAdvanced Conversation 8:15-9:00pm.\nAdvanced Conversation: If you can carry on a conversation in Hebrew on various\ntopics\, this class is for you. Come join a relaxed and welcoming hour of\nHebrew only. Participants talk and read together about a wide range of\nsubjects\, while highlighting grammatical points\, enriching vocabulary\, and\nexploring cultural references. “Hebrew Table” at its best! \nRegister through the calendar on our website by January 23rd.\n*Please note that we must have at least 5 people registered to run a class. \nOrganized by: Beth Israel Congregation \nView event on Jlive: https://jlive.app/events/14168
URL:https://www.jewishannarbor.org/event/hebrew-classes-with-milka-intro-5-6pm-prayer-book-615-7pm-beg-conv-715-8pm-adv-conv-815-9pm/
LOCATION:Beth Israel Congregation 2000 Washtenaw Ave\, Ann Arbor
CATEGORIES:Adults,Hebrew and Yiddish,Parking (free)
ATTACH;FMTTYPE=image/jpeg:https://www.jewishannarbor.org/wp-content/uploads/2026/02/Hebrew_Class_Winter_2026_JL_1-ubHN9s.jpg
ORGANIZER;CN="Beth Israel Congregation":MAILTO:office@bethisrael-aa.org
END:VEVENT
BEGIN:VEVENT
DTSTART;TZID=America/Detroit:20260210T190000
DTEND;TZID=America/Detroit:20260210T200000
DTSTAMP:20260421T093535
CREATED:20260204T163651Z
LAST-MODIFIED:20260204T172712Z
UID:10006083-1770750000-1770753600@www.jewishannarbor.org
SUMMARY:Safety and Security Trainings - Situational Awareness
DESCRIPTION:**Situational Awareness**\nTuesday\, February 10 at 7:00 p.m. In-person & Zoom \n**The Power of Hello**\nMonday\, February 23 at 7:00 p.m. Zoom only \n**Active Assailant with Ann Arbor Police Department**\nWednesday\, March 11 at 7:00 p.m. In-person only\n _It Is highly recommended you attend situational awareness first._ \n**Building Tour (of TBE spaces)**\nLearn locations of AED\, Tornado Shelters\, exit doors\, etc.\nFriday\, March 13 at 5:00 p.m. In-person only. All ages are welcome and\nencouraged. \nOrganized by: Temple Beth Emeth \nView event on Jlive: https://jlive.app/events/14434
URL:https://www.jewishannarbor.org/event/safety-and-security-trainings-situational-awareness/
LOCATION:Temple Beth Emeth 2309 Packard St\, Ann Arbor
CATEGORIES:All Ages,General
ATTACH;FMTTYPE=image/png:https://www.jewishannarbor.org/wp-content/uploads/2026/02/Security_Trainings_FINAL-sPq581.png
ORGANIZER;CN="Temple Beth Emeth":MAILTO:tbe@templebethemeth.org
END:VEVENT
END:VCALENDAR