BEGIN:VCALENDAR
VERSION:2.0
PRODID:-//Jewish Federation of Greater Ann Arbor - ECPv6.15.17.1//NONSGML v1.0//EN
CALSCALE:GREGORIAN
METHOD:PUBLISH
X-WR-CALNAME:Jewish Federation of Greater Ann Arbor
X-ORIGINAL-URL:https://www.jewishannarbor.org
X-WR-CALDESC:Events for Jewish Federation of Greater Ann Arbor
REFRESH-INTERVAL;VALUE=DURATION:PT1H
X-Robots-Tag:noindex
X-PUBLISHED-TTL:PT1H
BEGIN:VTIMEZONE
TZID:America/Detroit
BEGIN:DAYLIGHT
TZOFFSETFROM:-0500
TZOFFSETTO:-0400
TZNAME:EDT
DTSTART:20250309T070000
END:DAYLIGHT
BEGIN:STANDARD
TZOFFSETFROM:-0400
TZOFFSETTO:-0500
TZNAME:EST
DTSTART:20251102T060000
END:STANDARD
BEGIN:DAYLIGHT
TZOFFSETFROM:-0500
TZOFFSETTO:-0400
TZNAME:EDT
DTSTART:20260308T070000
END:DAYLIGHT
BEGIN:STANDARD
TZOFFSETFROM:-0400
TZOFFSETTO:-0500
TZNAME:EST
DTSTART:20261101T060000
END:STANDARD
BEGIN:DAYLIGHT
TZOFFSETFROM:-0500
TZOFFSETTO:-0400
TZNAME:EDT
DTSTART:20270314T070000
END:DAYLIGHT
BEGIN:STANDARD
TZOFFSETFROM:-0400
TZOFFSETTO:-0500
TZNAME:EST
DTSTART:20271107T060000
END:STANDARD
END:VTIMEZONE
BEGIN:VEVENT
DTSTART;TZID=America/Detroit:20260126T183000
DTEND;TZID=America/Detroit:20260126T203000
DTSTAMP:20260420T200225
CREATED:20241007T151053Z
LAST-MODIFIED:20241007T151053Z
UID:10005538-1769452200-1769459400@www.jewishannarbor.org
SUMMARY:BIC: Hebrew Language Classes Start Again!
DESCRIPTION:We are offering Beginners Liturgical Hebrew and Intermediate Modern Hebrew. Please see registration page for more details.
URL:https://www.jewishannarbor.org/event/bic-hebrew-language-classes-start-again/2026-01-26/
LOCATION:Beth Israel Congregation\, 2000 Washtenaw Avenue\, Ann Arbor\, MI\, USA\, Ann Arbor\, MI\, 48108\, United States
CATEGORIES:Beth Israel Congregation,Community,Educational
ORGANIZER;CN="Beth Israel Congregation":MAILTO:office@bethisrael-aa.org
END:VEVENT
BEGIN:VEVENT
DTSTART;TZID=America/Detroit:20260126T190000
DTEND;TZID=America/Detroit:20260126T190000
DTSTAMP:20260420T200225
CREATED:20250718T171656Z
LAST-MODIFIED:20250718T171656Z
UID:10005871-1769454000-1769454000@www.jewishannarbor.org
SUMMARY:EMU:  Jewish Space Lasers and the Link Between Antisemitism and Conspiracy Theories hosted by Mike Rothschild
DESCRIPTION:Save the date!\n\n*Speaker talk and registration details to come*
URL:https://www.jewishannarbor.org/event/emu-jewish-space-lasers-and-the-link-between-antisemitism-and-conspiracy-theories-hosted-by-mike-rothschild/
CATEGORIES:Center for Jewish Studies - EMU,Educational,Jewish Federation of Greater Ann Arbor - General,Jewish Young Professionals
ATTACH;FMTTYPE=image/jpeg:https://www.jewishannarbor.org/wp-content/uploads/2025/07/Untitled-design-37.jpg
ORGANIZER;CN="Eastern Michigan University Center for Jewish Studies":MAILTO:jewish.studies@emich.edu
END:VEVENT
END:VCALENDAR