BEGIN:VCALENDAR
VERSION:2.0
PRODID:-//Jewish Federation of Greater Ann Arbor - ECPv6.15.17.1//NONSGML v1.0//EN
CALSCALE:GREGORIAN
METHOD:PUBLISH
X-ORIGINAL-URL:https://www.jewishannarbor.org
X-WR-CALDESC:Events for Jewish Federation of Greater Ann Arbor
REFRESH-INTERVAL;VALUE=DURATION:PT1H
X-Robots-Tag:noindex
X-PUBLISHED-TTL:PT1H
BEGIN:VTIMEZONE
TZID:America/Detroit
BEGIN:DAYLIGHT
TZOFFSETFROM:-0500
TZOFFSETTO:-0400
TZNAME:EDT
DTSTART:20240310T070000
END:DAYLIGHT
BEGIN:STANDARD
TZOFFSETFROM:-0400
TZOFFSETTO:-0500
TZNAME:EST
DTSTART:20241103T060000
END:STANDARD
BEGIN:DAYLIGHT
TZOFFSETFROM:-0500
TZOFFSETTO:-0400
TZNAME:EDT
DTSTART:20250309T070000
END:DAYLIGHT
BEGIN:STANDARD
TZOFFSETFROM:-0400
TZOFFSETTO:-0500
TZNAME:EST
DTSTART:20251102T060000
END:STANDARD
BEGIN:DAYLIGHT
TZOFFSETFROM:-0500
TZOFFSETTO:-0400
TZNAME:EDT
DTSTART:20260308T070000
END:DAYLIGHT
BEGIN:STANDARD
TZOFFSETFROM:-0400
TZOFFSETTO:-0500
TZNAME:EST
DTSTART:20261101T060000
END:STANDARD
END:VTIMEZONE
BEGIN:VEVENT
DTSTART;TZID=America/Detroit:20250622T100000
DTEND;TZID=America/Detroit:20250622T120000
DTSTAMP:20260424T201901
CREATED:20240916T180924Z
LAST-MODIFIED:20250319T174542Z
UID:10005462-1750586400-1750593600@www.jewishannarbor.org
SUMMARY:FED: Volunteer Appreciation Brunch
DESCRIPTION:Federation volunteer committee members of all kinds are invited to brunch to be thanked for your dedication to our community!\n\nDetails and Registration Info Coming Soon!
URL:https://www.jewishannarbor.org/event/fed-campaign-volunteer-appreciation-lunch/
LOCATION:MI
CATEGORIES:Jewish Federation of Greater Ann Arbor,Jewish Federation of Greater Ann Arbor - General
ORGANIZER;CN="Jewish Federation of Greater Ann Arbor":MAILTO:info@jewishannarbor.org
END:VEVENT
BEGIN:VEVENT
DTSTART;TZID=America/Detroit:20250622T160000
DTEND;TZID=America/Detroit:20250622T180000
DTSTAMP:20260424T201901
CREATED:20250605T160351Z
LAST-MODIFIED:20250605T161149Z
UID:10005766-1750608000-1750615200@www.jewishannarbor.org
SUMMARY:Renaissance Group Bowling Event
DESCRIPTION:
URL:https://www.jewishannarbor.org/event/renaissance-group-bowling-event/
LOCATION:MI
CATEGORIES:Temple Beth Emeth
ATTACH;FMTTYPE=image/jpeg:https://www.jewishannarbor.org/wp-content/uploads/2025/06/Renaissance-Bowling-Flyer-2.jpg
ORGANIZER;CN="Temple Beth Emeth":MAILTO:tbe@templebethemeth.org
END:VEVENT
BEGIN:VEVENT
DTSTART;TZID=America/Detroit:20250622T160000
DTEND;TZID=America/Detroit:20250622T183000
DTSTAMP:20260424T201901
CREATED:20250429T182824Z
LAST-MODIFIED:20250429T182824Z
UID:10005751-1750608000-1750617000@www.jewishannarbor.org
SUMMARY:TBE: Renaissance Group Bowling Night
DESCRIPTION:
URL:https://www.jewishannarbor.org/event/tbe-renaissance-group-bowling-night/
LOCATION:Station 300\, 830 Woodland Dr E\, Saline\, Michigan\, 48176
CATEGORIES:Temple Beth Emeth
ORGANIZER;CN="Temple Beth Emeth":MAILTO:tbe@templebethemeth.org
END:VEVENT
END:VCALENDAR