BEGIN:VCALENDAR
VERSION:2.0
PRODID:-//Jewish Federation of Greater Ann Arbor - ECPv6.15.17.1//NONSGML v1.0//EN
CALSCALE:GREGORIAN
METHOD:PUBLISH
X-WR-CALNAME:Jewish Federation of Greater Ann Arbor
X-ORIGINAL-URL:https://www.jewishannarbor.org
X-WR-CALDESC:Events for Jewish Federation of Greater Ann Arbor
REFRESH-INTERVAL;VALUE=DURATION:PT1H
X-Robots-Tag:noindex
X-PUBLISHED-TTL:PT1H
BEGIN:VTIMEZONE
TZID:America/Detroit
BEGIN:DAYLIGHT
TZOFFSETFROM:-0500
TZOFFSETTO:-0400
TZNAME:EDT
DTSTART:20240310T070000
END:DAYLIGHT
BEGIN:STANDARD
TZOFFSETFROM:-0400
TZOFFSETTO:-0500
TZNAME:EST
DTSTART:20241103T060000
END:STANDARD
BEGIN:DAYLIGHT
TZOFFSETFROM:-0500
TZOFFSETTO:-0400
TZNAME:EDT
DTSTART:20250309T070000
END:DAYLIGHT
BEGIN:STANDARD
TZOFFSETFROM:-0400
TZOFFSETTO:-0500
TZNAME:EST
DTSTART:20251102T060000
END:STANDARD
BEGIN:DAYLIGHT
TZOFFSETFROM:-0500
TZOFFSETTO:-0400
TZNAME:EDT
DTSTART:20260308T070000
END:DAYLIGHT
BEGIN:STANDARD
TZOFFSETFROM:-0400
TZOFFSETTO:-0500
TZNAME:EST
DTSTART:20261101T060000
END:STANDARD
END:VTIMEZONE
BEGIN:VEVENT
DTSTART;TZID=America/Detroit:20250617T080000
DTEND;TZID=America/Detroit:20250617T170000
DTSTAMP:20260425T214408
CREATED:20250617T155052Z
LAST-MODIFIED:20250617T155052Z
UID:10005776-1750147200-1750179600@www.jewishannarbor.org
SUMMARY:Community October 7 Remembrance
DESCRIPTION:details will be added
URL:https://www.jewishannarbor.org/event/community-october-7-remembrance/
END:VEVENT
BEGIN:VEVENT
DTSTART;TZID=America/Detroit:20250617T080000
DTEND;TZID=America/Detroit:20250617T170000
DTSTAMP:20260425T214408
CREATED:20250617T155141Z
LAST-MODIFIED:20250617T155154Z
UID:10005777-1750147200-1750179600@www.jewishannarbor.org
SUMMARY:Trauma Therapy Animal Event
DESCRIPTION:details will be added
URL:https://www.jewishannarbor.org/event/ptsd-therapy-animal-event/
END:VEVENT
BEGIN:VEVENT
DTSTART;TZID=America/Detroit:20250617T080000
DTEND;TZID=America/Detroit:20250617T170000
DTSTAMP:20260425T214408
CREATED:20250617T161317Z
LAST-MODIFIED:20250617T161317Z
UID:10005778-1750147200-1750179600@www.jewishannarbor.org
SUMMARY:JCC: Freedom Art Workshop
DESCRIPTION:details and registration will come
URL:https://www.jewishannarbor.org/event/jcc-freedom-art-workshop/
END:VEVENT
BEGIN:VEVENT
DTSTART;TZID=America/Detroit:20250617T193000
DTEND;TZID=America/Detroit:20250617T210000
DTSTAMP:20260425T214408
CREATED:20230830T192711Z
LAST-MODIFIED:20240808T180248Z
UID:10005056-1750188600-1750194000@www.jewishannarbor.org
SUMMARY:HDS Board Meeting
DESCRIPTION:
URL:https://www.jewishannarbor.org/event/hds-board-meeting-33/
LOCATION:Hebrew Day School of AA\, 2937 Birch Hollow Drive\, Ann Arbor\, MI\, 48108\, United States
END:VEVENT
END:VCALENDAR