BEGIN:VCALENDAR
VERSION:2.0
PRODID:-//Jewish Federation of Greater Ann Arbor - ECPv6.15.17.1//NONSGML v1.0//EN
CALSCALE:GREGORIAN
METHOD:PUBLISH
X-WR-CALNAME:Jewish Federation of Greater Ann Arbor
X-ORIGINAL-URL:https://www.jewishannarbor.org
X-WR-CALDESC:Events for Jewish Federation of Greater Ann Arbor
REFRESH-INTERVAL;VALUE=DURATION:PT1H
X-Robots-Tag:noindex
X-PUBLISHED-TTL:PT1H
BEGIN:VTIMEZONE
TZID:America/Detroit
BEGIN:DAYLIGHT
TZOFFSETFROM:-0500
TZOFFSETTO:-0400
TZNAME:EDT
DTSTART:20240310T070000
END:DAYLIGHT
BEGIN:STANDARD
TZOFFSETFROM:-0400
TZOFFSETTO:-0500
TZNAME:EST
DTSTART:20241103T060000
END:STANDARD
BEGIN:DAYLIGHT
TZOFFSETFROM:-0500
TZOFFSETTO:-0400
TZNAME:EDT
DTSTART:20250309T070000
END:DAYLIGHT
BEGIN:STANDARD
TZOFFSETFROM:-0400
TZOFFSETTO:-0500
TZNAME:EST
DTSTART:20251102T060000
END:STANDARD
BEGIN:DAYLIGHT
TZOFFSETFROM:-0500
TZOFFSETTO:-0400
TZNAME:EDT
DTSTART:20260308T070000
END:DAYLIGHT
BEGIN:STANDARD
TZOFFSETFROM:-0400
TZOFFSETTO:-0500
TZNAME:EST
DTSTART:20261101T060000
END:STANDARD
END:VTIMEZONE
BEGIN:VEVENT
DTSTART;TZID=America/Detroit:20250616T183000
DTEND;TZID=America/Detroit:20250616T203000
DTSTAMP:20260425T113103
CREATED:20241007T151053Z
LAST-MODIFIED:20241007T151053Z
UID:10005506-1750098600-1750105800@www.jewishannarbor.org
SUMMARY:BIC: Hebrew Language Classes Start Again!
DESCRIPTION:We are offering Beginners Liturgical Hebrew and Intermediate Modern Hebrew. Please see registration page for more details.
URL:https://www.jewishannarbor.org/event/bic-hebrew-language-classes-start-again/2025-06-16/
LOCATION:Beth Israel Congregation\, 2000 Washtenaw Avenue\, Ann Arbor\, MI\, USA\, Ann Arbor\, MI\, 48108\, United States
CATEGORIES:Beth Israel Congregation,Community,Educational
ORGANIZER;CN="Beth Israel Congregation":MAILTO:office@bethisrael-aa.org
END:VEVENT
BEGIN:VEVENT
DTSTART;TZID=America/Detroit:20250616T190000
DTEND;TZID=America/Detroit:20250616T210000
DTSTAMP:20260425T113103
CREATED:20250106T162451Z
LAST-MODIFIED:20250106T162745Z
UID:10005598-1750100400-1750107600@www.jewishannarbor.org
SUMMARY:Federation Board Meeting
DESCRIPTION:
URL:https://www.jewishannarbor.org/event/federation-board-meeting-3/2025-06-16/
LOCATION:Jewish Community Center of Ann Arbor\, 2935 Birch Hollow Drive\, Ann Arbor\, MI\, 48108\, United States
ORGANIZER;CN="Jewish Federation of Greater Ann Arbor":MAILTO:info@jewishannarbor.org
END:VEVENT
BEGIN:VEVENT
DTSTART;TZID=America/Detroit:20250616T193000
DTEND;TZID=America/Detroit:20250616T193000
DTSTAMP:20260425T113103
CREATED:20250605T203117Z
LAST-MODIFIED:20250605T203117Z
UID:10005772-1750102200-1750102200@www.jewishannarbor.org
SUMMARY:BIC: Israel 360: Rabbi Elliot Ginsburg "Mystical Renewal In 16th Century Safed and Its Contemporary Resonance
DESCRIPTION:Register Here
URL:https://www.jewishannarbor.org/event/bic-israel-360-rabbi-elliot-ginsburg-mystical-renewal-in-16th-century-safed-and-its-contemporary-resonance/
LOCATION:Beth Israel Congregation\, 2000 Washtenaw Avenue\, Ann Arbor\, MI\, USA\, Ann Arbor\, MI\, 48108\, United States
CATEGORIES:Beth Israel Congregation,Educational,Israel Programming
ATTACH;FMTTYPE=image/jpeg:https://www.jewishannarbor.org/wp-content/uploads/2025/06/Israel-360.jpg
ORGANIZER;CN="Beth Israel Congregation":MAILTO:office@bethisrael-aa.org
END:VEVENT
END:VCALENDAR