BEGIN:VCALENDAR
VERSION:2.0
PRODID:-//Jewish Federation of Greater Ann Arbor - ECPv6.15.17.1//NONSGML v1.0//EN
CALSCALE:GREGORIAN
METHOD:PUBLISH
X-WR-CALNAME:Jewish Federation of Greater Ann Arbor
X-ORIGINAL-URL:https://www.jewishannarbor.org
X-WR-CALDESC:Events for Jewish Federation of Greater Ann Arbor
REFRESH-INTERVAL;VALUE=DURATION:PT1H
X-Robots-Tag:noindex
X-PUBLISHED-TTL:PT1H
BEGIN:VTIMEZONE
TZID:America/Detroit
BEGIN:DAYLIGHT
TZOFFSETFROM:-0500
TZOFFSETTO:-0400
TZNAME:EDT
DTSTART:20240310T070000
END:DAYLIGHT
BEGIN:STANDARD
TZOFFSETFROM:-0400
TZOFFSETTO:-0500
TZNAME:EST
DTSTART:20241103T060000
END:STANDARD
BEGIN:DAYLIGHT
TZOFFSETFROM:-0500
TZOFFSETTO:-0400
TZNAME:EDT
DTSTART:20250309T070000
END:DAYLIGHT
BEGIN:STANDARD
TZOFFSETFROM:-0400
TZOFFSETTO:-0500
TZNAME:EST
DTSTART:20251102T060000
END:STANDARD
BEGIN:DAYLIGHT
TZOFFSETFROM:-0500
TZOFFSETTO:-0400
TZNAME:EDT
DTSTART:20260308T070000
END:DAYLIGHT
BEGIN:STANDARD
TZOFFSETFROM:-0400
TZOFFSETTO:-0500
TZNAME:EST
DTSTART:20261101T060000
END:STANDARD
END:VTIMEZONE
BEGIN:VEVENT
DTSTART;TZID=America/Detroit:20250601T200000
DTEND;TZID=America/Detroit:20250602T050000
DTSTAMP:20260425T094415
CREATED:20250522T135704Z
LAST-MODIFIED:20250523T183257Z
UID:10005764-1748808000-1748840400@www.jewishannarbor.org
SUMMARY:BIC: Community-Wide Tikkun Leil Shavuot
DESCRIPTION:Community-Wide Tikkun Leil Shavuot (all-night learning)\nWe are excited to be having another community-wide Tikkun Leil Shavuot this year! \nThis year’s tikkun will be at Beth Israel from Sun Jun 1-Mon Jun 2. We will again have some amazing learning sessions and awesome snacks. We’ll have children’s programs at the beginning of the night for ages 4-9 and grades 5-8\, a special program for teens at 9pm\, and a staffed sleeping room for children the entire night. \nRegister here: https://www.bethisrael-aa.org/form/Tikkun25
URL:https://www.jewishannarbor.org/event/bic-community-wide-tikkun-leil-shavuot/
LOCATION:Beth Israel Congregation\, 2000 Washtenaw Avenue\, Ann Arbor\, MI\, USA\, Ann Arbor\, MI\, 48108\, United States
CATEGORIES:Beth Israel Congregation,Community,Educational,Jewish Holidays,Religious
ORGANIZER;CN="Beth Israel Congregation":MAILTO:office@bethisrael-aa.org
END:VEVENT
BEGIN:VEVENT
DTSTART;VALUE=DATE:20250602
DTEND;VALUE=DATE:20250603
DTSTAMP:20260425T094415
CREATED:20200625T190549Z
LAST-MODIFIED:20200625T190549Z
UID:10002966-1748822400-1748908799@www.jewishannarbor.org
SUMMARY:Shavuot I
DESCRIPTION:Festival of Weeks; commemorates the giving of the Torah at Mount Sinai
URL:https://www.jewishannarbor.org/event/shavuot-i-6/
END:VEVENT
BEGIN:VEVENT
DTSTART;TZID=America/Detroit:20250602T163000
DTEND;TZID=America/Detroit:20250602T170000
DTSTAMP:20260425T094415
CREATED:20250521T145313Z
LAST-MODIFIED:20250523T183843Z
UID:10005762-1748881800-1748883600@www.jewishannarbor.org
SUMMARY:Chabad: Celebrate Shavuot with Torah\, Treats & Fun!
DESCRIPTION:Join us for a fun and meaningful Shavuot celebration!\n Monday\, June 2|  4:30 PM |  Chabad House\n\n\nWe’ll be:\n Hearing the 10 Commandments straight from the Torah\n Reenacting the story of Shavuot – feel like you’re standing at Har Sinai\n Making our own Ice Cream Pizza with all the toppings\n Creating a fun “Stuff Torah” to take home\n And everyone gets a special prize just for coming!\n\n\nNo charge – just come and enjoy!\nBring a friend and celebrate together
URL:https://www.jewishannarbor.org/event/celebrate-shavuot-with-torah-treats-fun/
END:VEVENT
BEGIN:VEVENT
DTSTART;TZID=America/Detroit:20250602T183000
DTEND;TZID=America/Detroit:20250602T203000
DTSTAMP:20260425T094415
CREATED:20241007T151053Z
LAST-MODIFIED:20241007T151053Z
UID:10005504-1748889000-1748896200@www.jewishannarbor.org
SUMMARY:BIC: Hebrew Language Classes Start Again!
DESCRIPTION:We are offering Beginners Liturgical Hebrew and Intermediate Modern Hebrew. Please see registration page for more details.
URL:https://www.jewishannarbor.org/event/bic-hebrew-language-classes-start-again/2025-06-02/
LOCATION:Beth Israel Congregation\, 2000 Washtenaw Avenue\, Ann Arbor\, MI\, USA\, Ann Arbor\, MI\, 48108\, United States
CATEGORIES:Beth Israel Congregation,Community,Educational
ORGANIZER;CN="Beth Israel Congregation":MAILTO:office@bethisrael-aa.org
END:VEVENT
END:VCALENDAR