BEGIN:VCALENDAR
VERSION:2.0
PRODID:-//Jewish Federation of Greater Ann Arbor - ECPv6.15.17.1//NONSGML v1.0//EN
CALSCALE:GREGORIAN
METHOD:PUBLISH
X-ORIGINAL-URL:https://www.jewishannarbor.org
X-WR-CALDESC:Events for Jewish Federation of Greater Ann Arbor
REFRESH-INTERVAL;VALUE=DURATION:PT1H
X-Robots-Tag:noindex
X-PUBLISHED-TTL:PT1H
BEGIN:VTIMEZONE
TZID:America/Detroit
BEGIN:DAYLIGHT
TZOFFSETFROM:-0500
TZOFFSETTO:-0400
TZNAME:EDT
DTSTART:20240310T070000
END:DAYLIGHT
BEGIN:STANDARD
TZOFFSETFROM:-0400
TZOFFSETTO:-0500
TZNAME:EST
DTSTART:20241103T060000
END:STANDARD
BEGIN:DAYLIGHT
TZOFFSETFROM:-0500
TZOFFSETTO:-0400
TZNAME:EDT
DTSTART:20250309T070000
END:DAYLIGHT
BEGIN:STANDARD
TZOFFSETFROM:-0400
TZOFFSETTO:-0500
TZNAME:EST
DTSTART:20251102T060000
END:STANDARD
BEGIN:DAYLIGHT
TZOFFSETFROM:-0500
TZOFFSETTO:-0400
TZNAME:EDT
DTSTART:20260308T070000
END:DAYLIGHT
BEGIN:STANDARD
TZOFFSETFROM:-0400
TZOFFSETTO:-0500
TZNAME:EST
DTSTART:20261101T060000
END:STANDARD
END:VTIMEZONE
BEGIN:VEVENT
DTSTART;VALUE=DATE:20250512
DTEND;VALUE=DATE:20250513
DTSTAMP:20260421T222927
CREATED:20200625T190525Z
LAST-MODIFIED:20200625T190525Z
UID:10002961-1747008000-1747094399@www.jewishannarbor.org
SUMMARY:Pesach Sheni
DESCRIPTION:Second Passover; one month after Passover
URL:https://www.jewishannarbor.org/event/pesach-sheni-6/
END:VEVENT
BEGIN:VEVENT
DTSTART;TZID=America/Detroit:20250512T183000
DTEND;TZID=America/Detroit:20250512T203000
DTSTAMP:20260421T222927
CREATED:20241007T151053Z
LAST-MODIFIED:20241007T151053Z
UID:10005501-1747074600-1747081800@www.jewishannarbor.org
SUMMARY:BIC: Hebrew Language Classes Start Again!
DESCRIPTION:We are offering Beginners Liturgical Hebrew and Intermediate Modern Hebrew. Please see registration page for more details.
URL:https://www.jewishannarbor.org/event/bic-hebrew-language-classes-start-again/2025-05-12/
LOCATION:Beth Israel Congregation\, 2000 Washtenaw Avenue\, Ann Arbor\, MI\, USA\, Ann Arbor\, MI\, 48108\, United States
CATEGORIES:Beth Israel Congregation,Community,Educational
ORGANIZER;CN="Beth Israel Congregation":MAILTO:office@bethisrael-aa.org
END:VEVENT
END:VCALENDAR