BEGIN:VCALENDAR
VERSION:2.0
PRODID:-//Jewish Federation of Greater Ann Arbor - ECPv6.15.17.1//NONSGML v1.0//EN
CALSCALE:GREGORIAN
METHOD:PUBLISH
X-ORIGINAL-URL:https://www.jewishannarbor.org
X-WR-CALDESC:Events for Jewish Federation of Greater Ann Arbor
REFRESH-INTERVAL;VALUE=DURATION:PT1H
X-Robots-Tag:noindex
X-PUBLISHED-TTL:PT1H
BEGIN:VTIMEZONE
TZID:America/Detroit
BEGIN:DAYLIGHT
TZOFFSETFROM:-0500
TZOFFSETTO:-0400
TZNAME:EDT
DTSTART:20240310T070000
END:DAYLIGHT
BEGIN:STANDARD
TZOFFSETFROM:-0400
TZOFFSETTO:-0500
TZNAME:EST
DTSTART:20241103T060000
END:STANDARD
BEGIN:DAYLIGHT
TZOFFSETFROM:-0500
TZOFFSETTO:-0400
TZNAME:EDT
DTSTART:20250309T070000
END:DAYLIGHT
BEGIN:STANDARD
TZOFFSETFROM:-0400
TZOFFSETTO:-0500
TZNAME:EST
DTSTART:20251102T060000
END:STANDARD
BEGIN:DAYLIGHT
TZOFFSETFROM:-0500
TZOFFSETTO:-0400
TZNAME:EDT
DTSTART:20260308T070000
END:DAYLIGHT
BEGIN:STANDARD
TZOFFSETFROM:-0400
TZOFFSETTO:-0500
TZNAME:EST
DTSTART:20261101T060000
END:STANDARD
END:VTIMEZONE
BEGIN:VEVENT
DTSTART;VALUE=DATE:20250421
DTEND;VALUE=DATE:20250510
DTSTAMP:20260424T115215
CREATED:20241204T001047Z
LAST-MODIFIED:20250324T172720Z
UID:10005565-1745193600-1746835199@www.jewishannarbor.org
SUMMARY:2025 Ann Arbor Jewish Film Festival
DESCRIPTION:
URL:https://www.jewishannarbor.org/event/2025-ann-arbor-jewish-film-festival/
CATEGORIES:Jewish Community Center of Greater Ann Arbor
END:VEVENT
BEGIN:VEVENT
DTSTART;TZID=America/Detroit:20250421T120000
DTEND;TZID=America/Detroit:20250421T130000
DTSTAMP:20260424T115215
CREATED:20250415T163143Z
LAST-MODIFIED:20250415T163143Z
UID:10005742-1745236800-1745240400@www.jewishannarbor.org
SUMMARY:TBE: A Taste of Talmud: What the Rabbis Learned and How They Learned It
DESCRIPTION:This is the first class of a series. Please see the link for more information and how to register.
URL:https://www.jewishannarbor.org/event/tbe-a-taste-of-talmud-what-the-rabbis-learned-and-how-they-learned-it/
LOCATION:Temple Beth Emeth\, 2309 Packard St\, Ann Arbor\, MI\, 48104\, United States
CATEGORIES:Temple Beth Emeth
ATTACH;FMTTYPE=image/jpeg:https://www.jewishannarbor.org/wp-content/uploads/2025/04/Taste-of-Talmud-Flyer.jpg
ORGANIZER;CN="Temple Beth Emeth":MAILTO:tbe@templebethemeth.org
END:VEVENT
BEGIN:VEVENT
DTSTART;TZID=America/Detroit:20250421T180000
DTEND;TZID=America/Detroit:20250421T200000
DTSTAMP:20260424T115215
CREATED:20250312T024424Z
LAST-MODIFIED:20250312T024424Z
UID:10005711-1745258400-1745265600@www.jewishannarbor.org
SUMMARY:FED NEXTGen A2 Post-Pesach Party
DESCRIPTION:Register here
URL:https://www.jewishannarbor.org/event/fed-nextgen-a2-post-pesach-party/
LOCATION:Jewish Federation of Greater Ann Arbor\, 2939 Birch Hollow Drive\, Ann Arbor\, MI\, 48108\, United States
END:VEVENT
BEGIN:VEVENT
DTSTART;TZID=America/Detroit:20250421T183000
DTEND;TZID=America/Detroit:20250421T203000
DTSTAMP:20260424T115215
CREATED:20241007T151053Z
LAST-MODIFIED:20241007T151053Z
UID:10005498-1745260200-1745267400@www.jewishannarbor.org
SUMMARY:BIC: Hebrew Language Classes Start Again!
DESCRIPTION:We are offering Beginners Liturgical Hebrew and Intermediate Modern Hebrew. Please see registration page for more details.
URL:https://www.jewishannarbor.org/event/bic-hebrew-language-classes-start-again/2025-04-21/
LOCATION:Beth Israel Congregation\, 2000 Washtenaw Avenue\, Ann Arbor\, MI\, USA\, Ann Arbor\, MI\, 48108\, United States
CATEGORIES:Beth Israel Congregation,Community,Educational
ORGANIZER;CN="Beth Israel Congregation":MAILTO:office@bethisrael-aa.org
END:VEVENT
BEGIN:VEVENT
DTSTART;TZID=America/Detroit:20250421T190000
DTEND;TZID=America/Detroit:20250421T210000
DTSTAMP:20260424T115215
CREATED:20250106T162451Z
LAST-MODIFIED:20250106T162745Z
UID:10005596-1745262000-1745269200@www.jewishannarbor.org
SUMMARY:Federation Board Meeting
DESCRIPTION:
URL:https://www.jewishannarbor.org/event/federation-board-meeting-3/2025-04-21/
LOCATION:Jewish Community Center of Ann Arbor\, 2935 Birch Hollow Drive\, Ann Arbor\, MI\, 48108\, United States
ORGANIZER;CN="Jewish Federation of Greater Ann Arbor":MAILTO:info@jewishannarbor.org
END:VEVENT
BEGIN:VEVENT
DTSTART;TZID=America/Detroit:20250421T190000
DTEND;TZID=America/Detroit:20250421T220000
DTSTAMP:20260424T115215
CREATED:20241213T152621Z
LAST-MODIFIED:20241213T152621Z
UID:10005569-1745262000-1745272800@www.jewishannarbor.org
SUMMARY:LIVE EVENT: 2025 Ann Arbor Jewish Film Festival
DESCRIPTION:
URL:https://www.jewishannarbor.org/event/live-event-2025-ann-arbor-jewish-film-festival/
LOCATION:The State Theatre\, 233 S State Street\, Ann Arbor\, 48104\, United States
CATEGORIES:Jewish Community Center of Greater Ann Arbor
END:VEVENT
END:VCALENDAR