BEGIN:VCALENDAR
VERSION:2.0
PRODID:-//Jewish Federation of Greater Ann Arbor - ECPv6.15.17.1//NONSGML v1.0//EN
CALSCALE:GREGORIAN
METHOD:PUBLISH
X-ORIGINAL-URL:https://www.jewishannarbor.org
X-WR-CALDESC:Events for Jewish Federation of Greater Ann Arbor
REFRESH-INTERVAL;VALUE=DURATION:PT1H
X-Robots-Tag:noindex
X-PUBLISHED-TTL:PT1H
BEGIN:VTIMEZONE
TZID:America/Detroit
BEGIN:DAYLIGHT
TZOFFSETFROM:-0500
TZOFFSETTO:-0400
TZNAME:EDT
DTSTART:20240310T070000
END:DAYLIGHT
BEGIN:STANDARD
TZOFFSETFROM:-0400
TZOFFSETTO:-0500
TZNAME:EST
DTSTART:20241103T060000
END:STANDARD
BEGIN:DAYLIGHT
TZOFFSETFROM:-0500
TZOFFSETTO:-0400
TZNAME:EDT
DTSTART:20250309T070000
END:DAYLIGHT
BEGIN:STANDARD
TZOFFSETFROM:-0400
TZOFFSETTO:-0500
TZNAME:EST
DTSTART:20251102T060000
END:STANDARD
BEGIN:DAYLIGHT
TZOFFSETFROM:-0500
TZOFFSETTO:-0400
TZNAME:EDT
DTSTART:20260308T070000
END:DAYLIGHT
BEGIN:STANDARD
TZOFFSETFROM:-0400
TZOFFSETTO:-0500
TZNAME:EST
DTSTART:20261101T060000
END:STANDARD
END:VTIMEZONE
BEGIN:VEVENT
DTSTART;VALUE=DATE:20250413
DTEND;VALUE=DATE:20250414
DTSTAMP:20260424T153356
CREATED:20200625T190417Z
LAST-MODIFIED:20200625T190417Z
UID:10002948-1744502400-1744588799@www.jewishannarbor.org
SUMMARY:Pesach I
DESCRIPTION:Passover; the Feast of Unleavened Bread
URL:https://www.jewishannarbor.org/event/pesach-i-6/
LOCATION:MI
END:VEVENT
BEGIN:VEVENT
DTSTART;TZID=America/Detroit:20250413T123000
DTEND;TZID=America/Detroit:20250413T153000
DTSTAMP:20260424T153356
CREATED:20250304T190748Z
LAST-MODIFIED:20250304T190748Z
UID:10005705-1744547400-1744558200@www.jewishannarbor.org
SUMMARY:3rd Annual Recovery Passover Seder
DESCRIPTION:
URL:https://www.jewishannarbor.org/event/3rd-annual-recovery-passover-seder/
LOCATION:Dawn Farm Community Barn\, 6633 Stoney Creek Rd\, Ypsilanti\, MI\, 48197
CATEGORIES:Community,Religious
ATTACH;FMTTYPE=image/jpeg:https://www.jewishannarbor.org/wp-content/uploads/2025/01/Recovery-Seder-2025-Event.jpg
END:VEVENT
BEGIN:VEVENT
DTSTART;TZID=America/Detroit:20250413T160000
DTEND;TZID=America/Detroit:20250413T180000
DTSTAMP:20260424T153356
CREATED:20250213T201202Z
LAST-MODIFIED:20250213T201202Z
UID:10005684-1744560000-1744567200@www.jewishannarbor.org
SUMMARY:ORT Movie Group
DESCRIPTION:ORT MOVIE GROUP on ZOOM \nWe meet on the second Sunday of the month at 4PM. \n     The group is open to all ORT members and there is a donation of \n     $25 to ORT for the Movie Group. Members receive the zoom link the day of the meeting. \n     For more information\, check our website. \n      http://www.ortannarbor.org \n       Please also see our website for a list of movies we’ve watched.
URL:https://www.jewishannarbor.org/event/ort-movie-group-30/2025-04-13/
LOCATION:MI
CATEGORIES:ORT America, Ann Arbor Chapter
ORGANIZER;CN="Gretta Spier":MAILTO:Gretspier@gmail.com
END:VEVENT
BEGIN:VEVENT
DTSTART;TZID=America/Detroit:20250413T170000
DTEND;TZID=America/Detroit:20250413T200000
DTSTAMP:20260424T153356
CREATED:20250122T194245Z
LAST-MODIFIED:20250331T165735Z
UID:10005662-1744563600-1744574400@www.jewishannarbor.org
SUMMARY:TBE: Community Seder
DESCRIPTION:
URL:https://www.jewishannarbor.org/event/tbe-community-seder/
LOCATION:Temple Beth Emeth\, 2309 Packard St\, Ann Arbor\, MI\, 48104\, United States
CATEGORIES:Temple Beth Emeth
ATTACH;FMTTYPE=image/jpeg:https://www.jewishannarbor.org/wp-content/uploads/2025/01/2025-Community-Seder-save-the-date-1.jpg
ORGANIZER;CN="Temple Beth Emeth":MAILTO:tbe@templebethemeth.org
END:VEVENT
END:VCALENDAR