BEGIN:VCALENDAR
VERSION:2.0
PRODID:-//Jewish Federation of Greater Ann Arbor - ECPv6.15.17.1//NONSGML v1.0//EN
CALSCALE:GREGORIAN
METHOD:PUBLISH
X-ORIGINAL-URL:https://www.jewishannarbor.org
X-WR-CALDESC:Events for Jewish Federation of Greater Ann Arbor
REFRESH-INTERVAL;VALUE=DURATION:PT1H
X-Robots-Tag:noindex
X-PUBLISHED-TTL:PT1H
BEGIN:VTIMEZONE
TZID:America/Detroit
BEGIN:DAYLIGHT
TZOFFSETFROM:-0500
TZOFFSETTO:-0400
TZNAME:EDT
DTSTART:20240310T070000
END:DAYLIGHT
BEGIN:STANDARD
TZOFFSETFROM:-0400
TZOFFSETTO:-0500
TZNAME:EST
DTSTART:20241103T060000
END:STANDARD
BEGIN:DAYLIGHT
TZOFFSETFROM:-0500
TZOFFSETTO:-0400
TZNAME:EDT
DTSTART:20250309T070000
END:DAYLIGHT
BEGIN:STANDARD
TZOFFSETFROM:-0400
TZOFFSETTO:-0500
TZNAME:EST
DTSTART:20251102T060000
END:STANDARD
BEGIN:DAYLIGHT
TZOFFSETFROM:-0500
TZOFFSETTO:-0400
TZNAME:EDT
DTSTART:20260308T070000
END:DAYLIGHT
BEGIN:STANDARD
TZOFFSETFROM:-0400
TZOFFSETTO:-0500
TZNAME:EST
DTSTART:20261101T060000
END:STANDARD
END:VTIMEZONE
BEGIN:VEVENT
DTSTART;VALUE=DATE:20250410
DTEND;VALUE=DATE:20250411
DTSTAMP:20260419T113108
CREATED:20200625T190415Z
LAST-MODIFIED:20200625T190415Z
UID:10002945-1744243200-1744329599@www.jewishannarbor.org
SUMMARY:Ta'anit Bechorot
DESCRIPTION:Fast of the First Born
URL:https://www.jewishannarbor.org/event/taanit-bechorot-6/
END:VEVENT
BEGIN:VEVENT
DTSTART;TZID=America/Detroit:20250410T180000
DTEND;TZID=America/Detroit:20250410T180000
DTSTAMP:20260419T113108
CREATED:20250116T142945Z
LAST-MODIFIED:20250117T145453Z
UID:10005623-1744308000-1744308000@www.jewishannarbor.org
SUMMARY:6pm Jivia (Jewish Trivia)
DESCRIPTION:Register Here
URL:https://www.jewishannarbor.org/event/jivia-april-10th/
ATTACH;FMTTYPE=image/jpeg:https://www.jewishannarbor.org/wp-content/uploads/2025/01/JIVIA-6pm-April-10th-2025-Space-@-YORK.jpg
END:VEVENT
BEGIN:VEVENT
DTSTART;TZID=America/Detroit:20250410T180000
DTEND;TZID=America/Detroit:20250410T190000
DTSTAMP:20260419T113108
CREATED:20250122T193550Z
LAST-MODIFIED:20250122T193550Z
UID:10005660-1744308000-1744311600@www.jewishannarbor.org
SUMMARY:TBE: Brotherhood: Guys Night Out
DESCRIPTION:
URL:https://www.jewishannarbor.org/event/tbe-brotherhood-guys-night-out-5/
LOCATION:Zamaan\, 865 Eisenhower Parkway\, Ann Arbor\, Michigan\, 48103
CATEGORIES:Temple Beth Emeth
ORGANIZER;CN="Temple Beth Emeth":MAILTO:tbe@templebethemeth.org
END:VEVENT
END:VCALENDAR